Workbook

Sheet CBGV
A1: SỞ GIÁO DỤC VÀ ĐÀO TẠO ĐẮK LẮK TRƯỜNG THPT HUỲNH THÚC KHÁNG | I1: CỘNG HÒA XÃ HỘI CHỦ NGHĨA VIỆT NAM Độc lập - Tự do - Hạnh phúc
A2: DANH SÁCH CÁN BỘ GIÁO VIÊN VÀ NHÂN VIÊN
A3: TT | B3: KH | C3: HỌ VÀ TÊN | D3: DV | E3: TS | F3: Giới | G3: DT | H3: Tổ | I3: C. VỤ | J3: K.N2 | K3: 22-23 | L3: 23-24 | M3: 24-25 | N3: Tiết TC | O3: Tiết KN | P3: GHI CHÚ
A4: 1 | B4: T2 | C4: Phan Ngọc Quý | H4: Toán - tin | I4: GV | K4: 11A9 | L4: 12A8 | M4: 10A3 | N4: =17-(IF(I4="HT",15,IF(I4="PHT",13,0))+IF(I4="GVTS",2,0)) -> 17 | O4: =(IF(I4="HT",15,IF(I4="BTĐ",11.9,IF(I4="PHT",13,IF(I4="PBTĐ",5.95,IF(I4="giáo vụ",4,IF(OR(I4="TTCM",I4="CTCĐ",I4="LĐ",P4="Con nhỏ"),3,IF(OR(I4="TKHĐ",I4="TTrND"),2,0))))))+(IF(OR(J4="CĐ",J4="TVTL"),1,IF(J4="PBM",2,0))))) -> 0
A5: 2 | B5: T3 | C5: Phan Thanh Nhật | H5: Toán - tin | I5: LĐ | K5: 11A3 | L5: 10A10 | M5: 11A7 | N5: =17-(IF(I5="HT",15,IF(I5="PHT",13,0))+IF(I5="GVTS",2,0)) -> 17 | O5: =(IF(I5="HT",15,IF(I5="BTĐ",11.9,IF(I5="PHT",13,IF(I5="PBTĐ",5.95,IF(I5="giáo vụ",4,IF(OR(I5="TTCM",I5="CTCĐ",I5="LĐ",P5="Con nhỏ"),3,IF(OR(I5="TKHĐ",I5="TTrND"),2,0))))))+(IF(OR(J5="CĐ",J5="TVTL"),1,IF(J5="PBM",2,0))))) -> 3
A6: 3 | B6: T4 | C6: Nguyễn Công Nguyên | D6: x | H6: Toán - tin | I6: Giáo vụ | N6: =17-(IF(I6="HT",15,IF(I6="PHT",13,0))+IF(I6="GVTS",2,0)) -> 17 | O6: =(IF(I6="HT",15,IF(I6="BTĐ",11.9,IF(I6="PHT",13,IF(I6="PBTĐ",5.95,IF(I6="giáo vụ",4,IF(OR(I6="TTCM",I6="CTCĐ",I6="LĐ",P6="Con nhỏ"),3,IF(OR(I6="TKHĐ",I6="TTrND"),2,0))))))+(IF(OR(J6="CĐ",J6="TVTL"),1,IF(J6="PBM",2,0))))) -> 4
A7: 4 | B7: T5 | C7: Nguyễn Thị Tâm | D7: x | E7: x | F7: x | H7: Toán - tin | I7: GV | K7: 12A2 | L7: 10A2 | M7: 11A2 | N7: =17-(IF(I7="HT",15,IF(I7="PHT",13,0))+IF(I7="GVTS",2,0)) -> 17 | O7: =(IF(I7="HT",15,IF(I7="BTĐ",11.9,IF(I7="PHT",13,IF(I7="PBTĐ",5.95,IF(I7="giáo vụ",4,IF(OR(I7="TTCM",I7="CTCĐ",I7="LĐ",P7="Con nhỏ"),3,IF(OR(I7="TKHĐ",I7="TTrND"),2,0))))))+(IF(OR(J7="CĐ",J7="TVTL"),1,IF(J7="PBM",2,0))))) -> 0
A8: 5 | B8: Tt1 | C8: Nguyễn Minh Hảo | H8: Toán - tin | I8: GV | L8: 11A7 | M8: 10A2 | N8: =17-(IF(I8="HT",15,IF(I8="PHT",13,0))+IF(I8="GVTS",2,0)) -> 17 | O8: =(IF(I8="HT",15,IF(I8="BTĐ",11.9,IF(I8="PHT",13,IF(I8="PBTĐ",5.95,IF(I8="giáo vụ",4,IF(OR(I8="TTCM",I8="CTCĐ",I8="LĐ",P8="Con nhỏ"),3,IF(OR(I8="TKHĐ",I8="TTrND"),2,0))))))+(IF(OR(J8="CĐ",J8="TVTL"),1,IF(J8="PBM",2,0))))) -> 0
A9: 6 | B9: Tt2 | C9: Nguyễn Minh Châu | H9: Toán - tin | I9: TTCM | N9: =17-(IF(I9="HT",15,IF(I9="PHT",13,0))+IF(I9="GVTS",2,0)) -> 17 | O9: 5 | P9: đi học
A10: 7 | B10: Tt3 | C10: Nguyễn Thị Quỳnh Uyên | E10: x | F10: x | H10: Toán - tin | I10: GV | K10: 10A1 | L10: 11A1 | M10: 12A1 | N10: =17-(IF(I10="HT",15,IF(I10="PHT",13,0))+IF(I10="GVTS",2,0)) -> 17 | O10: =(IF(I10="HT",15,IF(I10="BTĐ",11.9,IF(I10="PHT",13,IF(I10="PBTĐ",5.95,IF(I10="giáo vụ",4,IF(OR(I10="TTCM",I10="CTCĐ",I10="LĐ",P10="Con nhỏ"),3,IF(OR(I10="TKHĐ",I10="TTrND"),2,0))))))+(IF(OR(J10="CĐ",J10="TVTL"),1,IF(J10="PBM",2,0))))) -> 0
A11: 8 | B11: Tt4 | C11: Nguyễn Thể Bình Viên | F11: x | H11: Toán - tin | I11: TPCM | K11: 10A2 | L11: 11A2 | M11: 12A2 | N11: =17-(IF(I11="HT",15,IF(I11="PHT",13,0))+IF(I11="GVTS",2,0)) -> 17 | O11: 1
A12: 9 | B12: Tt5 | C12: Phạm Văn Hiển | D12: x | H12: Toán - tin | I12: GV | K12: 11A2 | L12: 10A7 | M12: 11A10 | N12: =17-(IF(I12="HT",15,IF(I12="PHT",13,0))+IF(I12="GVTS",2,0)) -> 17 | O12: =(IF(I12="HT",15,IF(I12="BTĐ",11.9,IF(I12="PHT",13,IF(I12="PBTĐ",5.95,IF(I12="giáo vụ",4,IF(OR(I12="TTCM",I12="CTCĐ",I12="LĐ",P12="Con nhỏ"),3,IF(OR(I12="TKHĐ",I12="TTrND"),2,0))))))+(IF(OR(J12="CĐ",J12="TVTL"),1,IF(J12="PBM",2,0))))) -> 0
A13: 10 | B13: Tt6 | C13: Hoàng Bá Đạt | D13: x | E13: x | H13: Toán - tin | I13: TKHĐ | L13: 12A2 | M13: 10A9 | N13: =17-(IF(I13="HT",15,IF(I13="PHT",13,0))+IF(I13="GVTS",2,0)) -> 17 | O13: =(IF(I13="HT",15,IF(I13="BTĐ",11.9,IF(I13="PHT",13,IF(I13="PBTĐ",5.95,IF(I13="giáo vụ",4,IF(OR(I13="TTCM",I13="CTCĐ",I13="LĐ",P13="Con nhỏ"),3,IF(OR(I13="TKHĐ",I13="TTrND"),2,0))))))+(IF(OR(J13="CĐ",J13="TVTL"),1,IF(J13="PBM",2,0))))) -> 2
A14: 11 | B14: Tt7 | C14: Huỳnh Thị Liên | D14: x | E14: x | F14: x | H14: Toán - tin | I14: GV | K14: 10A6 | L14: 11A8 | M14: 10A4 | N14: =17-(IF(I14="HT",15,IF(I14="PHT",13,0))+IF(I14="GVTS",2,0)) -> 17 | O14: =(IF(I14="HT",15,IF(I14="BTĐ",11.9,IF(I14="PHT",13,IF(I14="PBTĐ",5.95,IF(I14="giáo vụ",4,IF(OR(I14="TTCM",I14="CTCĐ",I14="LĐ",P14="Con nhỏ"),3,IF(OR(I14="TKHĐ",I14="TTrND"),2,0))))))+(IF(OR(J14="CĐ",J14="TVTL"),1,IF(J14="PBM",2,0))))) -> 0
A15: 12 | B15: Tt9 | C15: Bùi Quý Mười | D15: x | E15: x | H15: Toán - tin | I15: GV | K15: 10A8 | L15: 11A5 | M15: 12A4 | N15: =17-(IF(I15="HT",15,IF(I15="PHT",13,0))+IF(I15="GVTS",2,0)) -> 17 | O15: =(IF(I15="HT",15,IF(I15="BTĐ",11.9,IF(I15="PHT",13,IF(I15="PBTĐ",5.95,IF(I15="giáo vụ",4,IF(OR(I15="TTCM",I15="CTCĐ",I15="LĐ",P15="Con nhỏ"),3,IF(OR(I15="TKHĐ",I15="TTrND"),2,0))))))+(IF(OR(J15="CĐ",J15="TVTL"),1,IF(J15="PBM",2,0))))) -> 0
A16: 13 | B16: Tn4 | C16: Nguyễn Quốc Dũng | H16: Toán - tin | I16: TPCM. | K16: 11A6 | L16: 12A5 | N16: =17-(IF(I16="HT",15,IF(I16="PHT",13,0))+IF(I16="GVTS",2,0)) -> 17 | O16: 1
A17: 14 | B17: Lc2 | C17: Trịnh Hoàng Nhân | D17: x | E17: x | H17: Lý - CN | I17: CTCĐ | J17: TTCM | N17: =17-(IF(I17="HT",15,IF(I17="PHT",13,0))+IF(I17="GVTS",2,0)) -> 17 | O17: 3
A18: 15 | B18: Lc3 | C18: Đoàn Thị Như Ngà | F18: x | H18: Lý - CN | I18: GV | K18: 11A4 | L18: 10A9 | M18: 11A6 | N18: =17-(IF(I18="HT",15,IF(I18="PHT",13,0))+IF(I18="GVTS",2,0)) -> 17 | O18: =(IF(I18="HT",15,IF(I18="BTĐ",11.9,IF(I18="PHT",13,IF(I18="PBTĐ",5.95,IF(I18="giáo vụ",4,IF(OR(I18="TTCM",I18="CTCĐ",I18="LĐ",P18="Con nhỏ"),3,IF(OR(I18="TKHĐ",I18="TTrND"),2,0))))))+(IF(OR(J18="CĐ",J18="TVTL"),1,IF(J18="PBM",2,0))))) -> 0
A19: 16 | B19: Lc4 | C19: Nguyễn Văn Cương | D19: x | H19: Lý - CN | I19: GV | L19: 10A6 | M19: 11A9 | N19: =17-(IF(I19="HT",15,IF(I19="PHT",13,0))+IF(I19="GVTS",2,0)) -> 17 | O19: =(IF(I19="HT",15,IF(I19="BTĐ",11.9,IF(I19="PHT",13,IF(I19="PBTĐ",5.95,IF(I19="giáo vụ",4,IF(OR(I19="TTCM",I19="CTCĐ",I19="LĐ",P19="Con nhỏ"),3,IF(OR(I19="TKHĐ",I19="TTrND"),2,0))))))+(IF(OR(J19="CĐ",J19="TVTL"),1,IF(J19="PBM",2,0))))) -> 0
A20: 17 | B20: Lc5 | C20: Nguyễn Thị Tuyết Hoa | F20: x | H20: Lý - CN | I20: GV | K20: 10A5 | L20: 12A3 | M20: 10A8 | N20: =17-(IF(I20="HT",15,IF(I20="PHT",13,0))+IF(I20="GVTS",2,0)) -> 17 | O20: =(IF(I20="HT",15,IF(I20="BTĐ",11.9,IF(I20="PHT",13,IF(I20="PBTĐ",5.95,IF(I20="giáo vụ",4,IF(OR(I20="TTCM",I20="CTCĐ",I20="LĐ",P20="Con nhỏ"),3,IF(OR(I20="TKHĐ",I20="TTrND"),2,0))))))+(IF(OR(J20="CĐ",J20="TVTL"),1,IF(J20="PBM",2,0))))) -> 0
A21: 18 | B21: Lc6 | C21: Phạm Hùng Lĩnh | D21: x | E21: x | H21: Lý - CN | I21: GV | M21: 11A8 | N21: =17-(IF(I21="HT",15,IF(I21="PHT",13,0))+IF(I21="GVTS",2,0)) -> 17 | O21: =(IF(I21="HT",15,IF(I21="BTĐ",11.9,IF(I21="PHT",13,IF(I21="PBTĐ",5.95,IF(I21="giáo vụ",4,IF(OR(I21="TTCM",I21="CTCĐ",I21="LĐ",P21="Con nhỏ"),3,IF(OR(I21="TKHĐ",I21="TTrND"),2,0))))))+(IF(OR(J21="CĐ",J21="TVTL"),1,IF(J21="PBM",2,0))))) -> 0
A22: 19 | B22: Lc7 | C22: H' Sơry Êban | D22: x | E22: x | F22: x | G22: x | H22: Lý - CN | I22: GV | N22: =17-(IF(I22="HT",15,IF(I22="PHT",13,0))+IF(I22="GVTS",2,0)) -> 17 | O22: 1.5 | P22: con nhỏ
A23: 20 | B23: Lc8 | C23: Lưu Thị Quý | D23: x | E23: x | F23: x | H23: Lý - CN | I23: TPCM | K23: 12A4 | L23: 10A8 | N23: =17-(IF(I23="HT",15,IF(I23="PHT",13,0))+IF(I23="GVTS",2,0)) -> 17 | O23: 1
A24: 21 | B24: H1 | C24: Nguyễn Văn Mỹ | D24: x | E24: x | H24: Hóa học | I24: PHT | N24: =17-(IF(I24="HT",15,IF(I24="PHT",13,0))+IF(I24="GVTS",2,0)) -> 4 | O24: =(IF(I24="HT",15,IF(I24="BTĐ",11.9,IF(I24="PHT",13,IF(I24="PBTĐ",5.95,IF(I24="giáo vụ",4,IF(OR(I24="TTCM",I24="CTCĐ",I24="LĐ",P24="Con nhỏ"),3,IF(OR(I24="TKHĐ",I24="TTrND"),2,0))))))+(IF(OR(J24="CĐ",J24="TVTL"),1,IF(J24="PBM",2,0))))) -> 13
A25: 22 | B25: H2 | C25: Nguyễn Ngọc Ân | H25: Hóa học | I25: TTrND | J25: TPCM | K25: 12A1 | L25: 10A1 | M25: 11A1 | N25: =17-(IF(I25="HT",15,IF(I25="PHT",13,0))+IF(I25="GVTS",2,0)) -> 17 | O25: =(IF(I25="HT",15,IF(I25="BTĐ",11.9,IF(I25="PHT",13,IF(I25="PBTĐ",5.95,IF(I25="giáo vụ",4,IF(OR(I25="TTCM",I25="CTCĐ",I25="LĐ",P25="Con nhỏ"),3,IF(OR(I25="TKHĐ",I25="TTrND"),2,0))))))+(IF(OR(J25="CĐ",J25="TVTL"),1,IF(J25="PBM",2,0))))) -> 2
A26: 23 | B26: H3 | C26: Ngô Nhân Hòa | H26: Hóa học | I26: GV | K26: 12A6 | L26: 10A4 | M26: 10A6 | N26: =17-(IF(I26="HT",15,IF(I26="PHT",13,0))+IF(I26="GVTS",2,0)) -> 17 | O26: =(IF(I26="HT",15,IF(I26="BTĐ",11.9,IF(I26="PHT",13,IF(I26="PBTĐ",5.95,IF(I26="giáo vụ",4,IF(OR(I26="TTCM",I26="CTCĐ",I26="LĐ",P26="Con nhỏ"),3,IF(OR(I26="TKHĐ",I26="TTrND"),2,0))))))+(IF(OR(J26="CĐ",J26="TVTL"),1,IF(J26="PBM",2,0))))) -> 0
A27: 24 | B27: H4 | C27: Hồ Sỹ Kiên | H27: Hóa học | I27: GV | J27: TVTL | K27: 10A3 | L27: 11A4 | M27: 12A3 | N27: =17-(IF(I27="HT",15,IF(I27="PHT",13,0))+IF(I27="GVTS",2,0)) -> 17 | O27: =(IF(I27="HT",15,IF(I27="BTĐ",11.9,IF(I27="PHT",13,IF(I27="PBTĐ",5.95,IF(I27="giáo vụ",4,IF(OR(I27="TTCM",I27="CTCĐ",I27="LĐ",P27="Con nhỏ"),3,IF(OR(I27="TKHĐ",I27="TTrND"),2,0))))))+(IF(OR(J27="CĐ",J27="TVTL"),1,IF(J27="PBM",2,0))))) -> 1
A28: 25 | B28: H5 | C28: H'Him Buôn Krông | D28: x | F28: x | G28: x | H28: Hóa học | I28: GV | K28: 12A7 | L28: 10A5 | M28: 11A4 | N28: =17-(IF(I28="HT",15,IF(I28="PHT",13,0))+IF(I28="GVTS",2,0)) -> 17 | O28: =(IF(I28="HT",15,IF(I28="BTĐ",11.9,IF(I28="PHT",13,IF(I28="PBTĐ",5.95,IF(I28="giáo vụ",4,IF(OR(I28="TTCM",I28="CTCĐ",I28="LĐ",P28="Con nhỏ"),3,IF(OR(I28="TKHĐ",I28="TTrND"),2,0))))))+(IF(OR(J28="CĐ",J28="TVTL"),1,IF(J28="PBM",2,0))))) -> 0
A29: 26 | B29: Sn1 | C29: Nguyễn Đình Hoàng | D29: x | E29: x | H29: Sinh - CN | I29: HT | N29: =17-(IF(I29="HT",15,IF(I29="PHT",13,0))+IF(I29="GVTS",2,0)) -> 2 | O29: =(IF(I29="HT",15,IF(I29="BTĐ",11.9,IF(I29="PHT",13,IF(I29="PBTĐ",5.95,IF(I29="giáo vụ",4,IF(OR(I29="TTCM",I29="CTCĐ",I29="LĐ",P29="Con nhỏ"),3,IF(OR(I29="TKHĐ",I29="TTrND"),2,0))))))+(IF(OR(J29="CĐ",J29="TVTL"),1,IF(J29="PBM",2,0))))) -> 15
A30: 27 | B30: Sn2 | C30: Hoàng Tuấn Anh | D30: x | E30: x | H30: Sinh - CN | I30: TTCM | J30: Giáo vụ | N30: =17-(IF(I30="HT",15,IF(I30="PHT",13,0))+IF(I30="GVTS",2,0)) -> 17 | O30: =(IF(I30="HT",15,IF(I30="BTĐ",11.9,IF(I30="PHT",13,IF(I30="PBTĐ",5.95,IF(I30="giáo vụ",4,IF(OR(I30="TTCM",I30="CTCĐ",I30="LĐ",P30="Con nhỏ"),3,IF(OR(I30="TKHĐ",I30="TTrND"),2,0))))))+(IF(OR(J30="CĐ",J30="TVTL"),1,IF(J30="PBM",2,0)))))+1 -> 4
A31: 28 | B31: Sn3 | C31: Bùi Thị Hoài Nam | D31: x | E31: x | F31: x | H31: Sinh - CN | I31: GV | J31: CĐ | L31: 11A3 | M31: 11A3 | N31: =17-(IF(I31="HT",15,IF(I31="PHT",13,0))+IF(I31="GVTS",2,0)) -> 17 | O31: =(IF(I31="HT",15,IF(I31="BTĐ",11.9,IF(I31="PHT",13,IF(I31="PBTĐ",5.95,IF(I31="giáo vụ",4,IF(OR(I31="TTCM",I31="CTCĐ",I31="LĐ",P31="Con nhỏ"),3,IF(OR(I31="TKHĐ",I31="TTrND"),2,0))))))+(IF(OR(J31="CĐ",J31="TVTL"),1,IF(J31="PBM",2,0))))) -> 1
A32: 29 | B32: Sn4 | C32: Nguyễn Thị Kim Hà | D32: x | F32: x | H32: Sinh - CN | I32: GV | L32: 10A3 | M32: 10A7 | N32: =17-(IF(I32="HT",15,IF(I32="PHT",13,0))+IF(I32="GVTS",2,0)) -> 17 | O32: =(IF(I32="HT",15,IF(I32="BTĐ",11.9,IF(I32="PHT",13,IF(I32="PBTĐ",5.95,IF(I32="giáo vụ",4,IF(OR(I32="TTCM",I32="CTCĐ",I32="LĐ",P32="Con nhỏ"),3,IF(OR(I32="TKHĐ",I32="TTrND"),2,0))))))+(IF(OR(J32="CĐ",J32="TVTL"),1,IF(J32="PBM",2,0))))) -> 0
A33: 30 | B33: V1 | C33: Nguyễn Thị Minh Tâm | D33: x | E33: x | F33: x | H33: Ngữ văn | I33: PHT | N33: =17-(IF(I33="HT",15,IF(I33="PHT",13,0))+IF(I33="GVTS",2,0)) -> 4 | O33: =(IF(I33="HT",15,IF(I33="BTĐ",11.9,IF(I33="PHT",13,IF(I33="PBTĐ",5.95,IF(I33="giáo vụ",4,IF(OR(I33="TTCM",I33="CTCĐ",I33="LĐ",P33="Con nhỏ"),3,IF(OR(I33="TKHĐ",I33="TTrND"),2,0))))))+(IF(OR(J33="CĐ",J33="TVTL"),1,IF(J33="PBM",2,0))))) -> 13
A34: 31 | B34: V2 | C34: Lê Ngọc Kim Vy | E34: x | F34: x | H34: Ngữ văn | I34: TTCM | N34: =17-(IF(I34="HT",15,IF(I34="PHT",13,0))+IF(I34="GVTS",2,0)) -> 17 | O34: =(IF(I34="HT",15,IF(I34="BTĐ",11.9,IF(I34="PHT",13,IF(I34="PBTĐ",5.95,IF(I34="giáo vụ",4,IF(OR(I34="TTCM",I34="CTCĐ",I34="LĐ",P34="Con nhỏ"),3,IF(OR(I34="TKHĐ",I34="TTrND"),2,0))))))+(IF(OR(J34="CĐ",J34="TVTL"),1,IF(J34="PBM",2,0))))) -> 3
A35: 32 | B35: V3 | C35: Đậu Thị Hiền | D35: x | F35: x | H35: Ngữ văn | I35: TPCM | K35: 12A8 | N35: =17-(IF(I35="HT",15,IF(I35="PHT",13,0))+IF(I35="GVTS",2,0)) -> 17 | O35: 1
A36: 33 | B36: V6 | C36: Nguyễn Thị Mai | D36: x | F36: x | H36: Ngữ văn | I36: GV | M36: 12A8 | N36: =17-(IF(I36="HT",15,IF(I36="PHT",13,0))+IF(I36="GVTS",2,0)) -> 17 | O36: =(IF(I36="HT",15,IF(I36="BTĐ",11.9,IF(I36="PHT",13,IF(I36="PBTĐ",5.95,IF(I36="giáo vụ",4,IF(OR(I36="TTCM",I36="CTCĐ",I36="LĐ",P36="Con nhỏ"),3,IF(OR(I36="TKHĐ",I36="TTrND"),2,0))))))+(IF(OR(J36="CĐ",J36="TVTL"),1,IF(J36="PBM",2,0))))) -> 0
A37: 34 | B37: V8 | C37: Nguyễn Đình Mỹ Giang | D37: x | E37: x | F37: x | H37: Ngữ văn | I37: PBTĐ | J37: TVTL | N37: =17-(IF(I37="HT",15,IF(I37="PHT",13,0))+IF(I37="GVTS",2,0)) -> 17 | O37: 15
A38: 35 | B38: V9 | C38: Nguyễn Thị Thảo | F38: x | H38: Ngữ văn | I38: GV | N38: =17-(IF(I38="HT",15,IF(I38="PHT",13,0))+IF(I38="GVTS",2,0)) -> 17 | O38: =(IF(I38="HT",15,IF(I38="BTĐ",11.9,IF(I38="PHT",13,IF(I38="PBTĐ",5.95,IF(I38="giáo vụ",4,IF(OR(I38="TTCM",I38="CTCĐ",I38="LĐ",P38="Con nhỏ"),3,IF(OR(I38="TKHĐ",I38="TTrND"),2,0))))))+(IF(OR(J38="CĐ",J38="TVTL"),1,IF(J38="PBM",2,0))))) -> 0
A39: 36 | B39: V4 | C39: Nguyễn Thị Hoàng Uyên | F39: x | H39: Ngữ văn | I39: GVHĐ | N39: =17-(IF(I39="HT",15,IF(I39="PHT",13,0))+IF(I39="GVTS",2,0)) -> 17 | O39: =(IF(I39="HT",15,IF(I39="BTĐ",11.9,IF(I39="PHT",13,IF(I39="PBTĐ",5.95,IF(I39="giáo vụ",4,IF(OR(I39="TTCM",I39="CTCĐ",I39="LĐ",P39="Con nhỏ"),3,IF(OR(I39="TKHĐ",I39="TTrND"),2,0))))))+(IF(OR(J39="CĐ",J39="TVTL"),1,IF(J39="PBM",2,0))))) -> 0
A40: 37 | B40: V5 | C40: Y Tuyl Niê | G40: x | H40: Ngữ văn | I40: GVHĐ | N40: =17-(IF(I40="HT",15,IF(I40="PHT",13,0))+IF(I40="GVTS",2,0)) -> 17 | O40: =(IF(I40="HT",15,IF(I40="BTĐ",11.9,IF(I40="PHT",13,IF(I40="PBTĐ",5.95,IF(I40="giáo vụ",4,IF(OR(I40="TTCM",I40="CTCĐ",I40="LĐ",P40="Con nhỏ"),3,IF(OR(I40="TKHĐ",I40="TTrND"),2,0))))))+(IF(OR(J40="CĐ",J40="TVTL"),1,IF(J40="PBM",2,0))))) -> 0
A41: 38 | B41: Sg1 | C41: Hoàng Thị Thiện | D41: x | E41: x | F41: x | H41: Sử | I41: TTCM | N41: =17-(IF(I41="HT",15,IF(I41="PHT",13,0))+IF(I41="GVTS",2,0)) -> 17 | O41: =(IF(I41="HT",15,IF(I41="BTĐ",11.9,IF(I41="PHT",13,IF(I41="PBTĐ",5.95,IF(I41="giáo vụ",4,IF(OR(I41="TTCM",I41="CTCĐ",I41="LĐ",P41="Con nhỏ"),3,IF(OR(I41="TKHĐ",I41="TTrND"),2,0))))))+(IF(OR(J41="CĐ",J41="TVTL"),1,IF(J41="PBM",2,0))))) -> 3
A42: 39 | B42: Sg2 | C42: Nguyễn Huy Cường | H42: Sử | I42: GV | K42: 10A4 | M42: 12A7 | N42: =17-(IF(I42="HT",15,IF(I42="PHT",13,0))+IF(I42="GVTS",2,0)) -> 17 | O42: =(IF(I42="HT",15,IF(I42="BTĐ",11.9,IF(I42="PHT",13,IF(I42="PBTĐ",5.95,IF(I42="giáo vụ",4,IF(OR(I42="TTCM",I42="CTCĐ",I42="LĐ",P42="Con nhỏ"),3,IF(OR(I42="TKHĐ",I42="TTrND"),2,0))))))+(IF(OR(J42="CĐ",J42="TVTL"),1,IF(J42="PBM",2,0))))) -> 0
A43: 40 | B43: Sg3 | C43: Phan Thị Hiền | F43: x | H43: Sử | I43: GV | K43: 12A5 | N43: =17-(IF(I43="HT",15,IF(I43="PHT",13,0))+IF(I43="GVTS",2,0)) -> 17 | O43: =(IF(I43="HT",15,IF(I43="BTĐ",11.9,IF(I43="PHT",13,IF(I43="PBTĐ",5.95,IF(I43="giáo vụ",4,IF(OR(I43="TTCM",I43="CTCĐ",I43="LĐ",P43="Con nhỏ"),3,IF(OR(I43="TKHĐ",I43="TTrND"),2,0))))))+(IF(OR(J43="CĐ",J43="TVTL"),1,IF(J43="PBM",2,0))))) -> 0
A44: 41 | B44: G2 | C44: Lê Thị Đức Hạnh | D44: x | F44: x | H44: KT&PL | I44: GV | J44: TVTL | N44: =17-(IF(I44="HT",15,IF(I44="PHT",13,0))+IF(I44="GVTS",2,0)) -> 17 | O44: =(IF(I44="HT",15,IF(I44="BTĐ",11.9,IF(I44="PHT",13,IF(I44="PBTĐ",5.95,IF(I44="giáo vụ",4,IF(OR(I44="TTCM",I44="CTCĐ",I44="LĐ",P44="Con nhỏ"),3,IF(OR(I44="TKHĐ",I44="TTrND"),2,0))))))+(IF(OR(J44="CĐ",J44="TVTL"),1,IF(J44="PBM",2,0))))) -> 1
A45: 42 | B45: G3 | C45: Hà Huy Thục | D45: x | H45: KT&PL | I45: GVTS | J45: BTĐT | N45: =17-(IF(I45="HT",15,IF(I45="PHT",13,0))+IF(I45="GVTS",2,0)) -> 15 | O45: 7.5
A46: 43 | B46: D2 | C46: Hoàng Minh Khanh | H46: Địa lí | I46: TTCM | J46: TVTL | K46: 10A7 | L46: 11A6 | M46: 12A5 | N46: =17-(IF(I46="HT",15,IF(I46="PHT",13,0))+IF(I46="GVTS",2,0)) -> 17 | O46: 3
A47: 44 | B47: D3 | C47: Bùi Thị Thùy Dương | D47: x | F47: x | H47: Địa lí | I47: GV | K47: 12A3 | M47: 12A6 | N47: =17-(IF(I47="HT",15,IF(I47="PHT",13,0))+IF(I47="GVTS",2,0)) -> 17 | O47: =(IF(I47="HT",15,IF(I47="BTĐ",11.9,IF(I47="PHT",13,IF(I47="PBTĐ",5.95,IF(I47="giáo vụ",4,IF(OR(I47="TTCM",I47="CTCĐ",I47="LĐ",P47="Con nhỏ"),3,IF(OR(I47="TKHĐ",I47="TTrND"),2,0))))))+(IF(OR(J47="CĐ",J47="TVTL"),1,IF(J47="PBM",2,0))))) -> 0
A48: 45 | B48: D4 | C48: Trần Thị Nhung | F48: x | H48: Địa lí | I48: GV | K48: 11A5 | L48: 12A4 | N48: =17-(IF(I48="HT",15,IF(I48="PHT",13,0))+IF(I48="GVTS",2,0)) -> 17 | O48: =(IF(I48="HT",15,IF(I48="BTĐ",11.9,IF(I48="PHT",13,IF(I48="PBTĐ",5.95,IF(I48="giáo vụ",4,IF(OR(I48="TTCM",I48="CTCĐ",I48="LĐ",P48="Con nhỏ"),3,IF(OR(I48="TKHĐ",I48="TTrND"),2,0))))))+(IF(OR(J48="CĐ",J48="TVTL"),1,IF(J48="PBM",2,0))))) -> 0
A49: 46 | B49: D5 | C49: Thân Thúc Minh Phương | F49: x | H49: Địa lí | I49: GV | K49: 11A7 | L49: 12A6 | M49: 10A1 | N49: =17-(IF(I49="HT",15,IF(I49="PHT",13,0))+IF(I49="GVTS",2,0)) -> 17 | O49: =(IF(I49="HT",15,IF(I49="BTĐ",11.9,IF(I49="PHT",13,IF(I49="PBTĐ",5.95,IF(I49="giáo vụ",4,IF(OR(I49="TTCM",I49="CTCĐ",I49="LĐ",P49="Con nhỏ"),3,IF(OR(I49="TKHĐ",I49="TTrND"),2,0))))))+(IF(OR(J49="CĐ",J49="TVTL"),1,IF(J49="PBM",2,0))))) -> 0
A50: 47 | B50: A1 | C50: Trương Anh Thùy | H50: Anh văn | I50: TTCM | N50: =17-(IF(I50="HT",15,IF(I50="PHT",13,0))+IF(I50="GVTS",2,0)) -> 17 | O50: =(IF(I50="HT",15,IF(I50="BTĐ",11.9,IF(I50="PHT",13,IF(I50="PBTĐ",5.95,IF(I50="giáo vụ",4,IF(OR(I50="TTCM",I50="CTCĐ",I50="LĐ",P50="Con nhỏ"),3,IF(OR(I50="TKHĐ",I50="TTrND"),2,0))))))+(IF(OR(J50="CĐ",J50="TVTL"),1,IF(J50="PBM",2,0))))) -> 3
A51: 48 | B51: A2 | C51: Trần Thị Mỹ Trang | F51: x | H51: Anh văn | I51: GV | K51: 11A10 | L51: 12A9 | M51: 10A5 | N51: =17-(IF(I51="HT",15,IF(I51="PHT",13,0))+IF(I51="GVTS",2,0)) -> 17 | O51: =(IF(I51="HT",15,IF(I51="BTĐ",11.9,IF(I51="PHT",13,IF(I51="PBTĐ",5.95,IF(I51="giáo vụ",4,IF(OR(I51="TTCM",I51="CTCĐ",I51="LĐ",P51="Con nhỏ"),3,IF(OR(I51="TKHĐ",I51="TTrND"),2,0))))))+(IF(OR(J51="CĐ",J51="TVTL"),1,IF(J51="PBM",2,0))))) -> 0
A52: 49 | B52: A3 | C52: Trần Thị Minh Hà | D52: x | F52: x | H52: Anh văn | I52: GV | N52: =17-(IF(I52="HT",15,IF(I52="PHT",13,0))+IF(I52="GVTS",2,0)) -> 17 | O52: =(IF(I52="HT",15,IF(I52="BTĐ",11.9,IF(I52="PHT",13,IF(I52="PBTĐ",5.95,IF(I52="giáo vụ",4,IF(OR(I52="TTCM",I52="CTCĐ",I52="LĐ",P52="Con nhỏ"),3,IF(OR(I52="TKHĐ",I52="TTrND"),2,0))))))+(IF(OR(J52="CĐ",J52="TVTL"),1,IF(J52="PBM",2,0))))) -> 0
A53: 50 | B53: A4 | C53: Y Juin Ktla | D53: x | G53: x | H53: Anh văn | I53: GV | M53: 11A5 | N53: =17-(IF(I53="HT",15,IF(I53="PHT",13,0))+IF(I53="GVTS",2,0)) -> 17 | O53: =(IF(I53="HT",15,IF(I53="BTĐ",11.9,IF(I53="PHT",13,IF(I53="PBTĐ",5.95,IF(I53="giáo vụ",4,IF(OR(I53="TTCM",I53="CTCĐ",I53="LĐ",P53="Con nhỏ"),3,IF(OR(I53="TKHĐ",I53="TTrND"),2,0))))))+(IF(OR(J53="CĐ",J53="TVTL"),1,IF(J53="PBM",2,0))))) -> 0
A54: 51 | B54: A5 | C54: Trần Thị Hồng | D54: x | F54: x | H54: Anh văn | I54: GV | L54: 12A7 | N54: =17-(IF(I54="HT",15,IF(I54="PHT",13,0))+IF(I54="GVTS",2,0)) -> 17 | O54: =(IF(I54="HT",15,IF(I54="BTĐ",11.9,IF(I54="PHT",13,IF(I54="PBTĐ",5.95,IF(I54="giáo vụ",4,IF(OR(I54="TTCM",I54="CTCĐ",I54="LĐ",P54="Con nhỏ"),3,IF(OR(I54="TKHĐ",I54="TTrND"),2,0))))))+(IF(OR(J54="CĐ",J54="TVTL"),1,IF(J54="PBM",2,0))))) -> 0
A55: 52 | B55: A6 | C55: Nguyễn Thị Thúy Hằng | D55: x | F55: x | H55: Anh văn | I55: GV | K55: 11A10 | L55: 12A1 | M55: 10A10 | N55: =17-(IF(I55="HT",15,IF(I55="PHT",13,0))+IF(I55="GVTS",2,0)) -> 17 | O55: =(IF(I55="HT",15,IF(I55="BTĐ",11.9,IF(I55="PHT",13,IF(I55="PBTĐ",5.95,IF(I55="giáo vụ",4,IF(OR(I55="TTCM",I55="CTCĐ",I55="LĐ",P55="Con nhỏ"),3,IF(OR(I55="TKHĐ",I55="TTrND"),2,0))))))+(IF(OR(J55="CĐ",J55="TVTL"),1,IF(J55="PBM",2,0))))) -> 0
A56: 53 | B56: Q2 | C56: Phạm Văn Thọ | D56: x | H56: TD-QP | I56: PBTĐ | J56: PBM | N56: =17-(IF(I56="HT",15,IF(I56="PHT",13,0))+IF(I56="GVTS",2,0)) -> 17 | O56: 9
B57: Q3
A58: 54 | B58: Tq1 | C58: Phan Thanh Sơn | D58: x | H58: TD-QP | I58: GV | N58: =17-(IF(I58="HT",15,IF(I58="PHT",13,0))+IF(I58="GVTS",2,0)) -> 17 | O58: =(IF(I58="HT",15,IF(I58="BTĐ",11.9,IF(I58="PHT",13,IF(I58="PBTĐ",5.95,IF(I58="giáo vụ",4,IF(OR(I58="TTCM",I58="CTCĐ",I58="LĐ",P58="Con nhỏ"),3,IF(OR(I58="TKHĐ",I58="TTrND"),2,0))))))+(IF(OR(J58="CĐ",J58="TVTL"),1,IF(J58="PBM",2,0))))) -> 0
A59: 55 | B59: Tq3 | C59: Thân Thúc Huy Phương | D59: x | H59: TD-QP | I59: TTCM | N59: =17-(IF(I59="HT",15,IF(I59="PHT",13,0))+IF(I59="GVTS",2,0)) -> 17 | O59: =(IF(I59="HT",15,IF(I59="BTĐ",11.9,IF(I59="PHT",13,IF(I59="PBTĐ",5.95,IF(I59="giáo vụ",4,IF(OR(I59="TTCM",I59="CTCĐ",I59="LĐ",P59="Con nhỏ"),3,IF(OR(I59="TKHĐ",I59="TTrND"),2,0))))))+(IF(OR(J59="CĐ",J59="TVTL"),1,IF(J59="PBM",2,0))))) -> 3
A60: 56 | B60: Tq4 | C60: Lâm Thị Ngọc Lan | F60: x | G60: x | H60: TD-QP | I60: GV | N60: =17-(IF(I60="HT",15,IF(I60="PHT",13,0))+IF(I60="GVTS",2,0)) -> 17 | O60: =(IF(I60="HT",15,IF(I60="BTĐ",11.9,IF(I60="PHT",13,IF(I60="PBTĐ",5.95,IF(I60="giáo vụ",4,IF(OR(I60="TTCM",I60="CTCĐ",I60="LĐ",P60="Con nhỏ"),3,IF(OR(I60="TKHĐ",I60="TTrND"),2,0))))))+(IF(OR(J60="CĐ",J60="TVTL"),1,IF(J60="PBM",2,0))))) -> 0
A61: 57 | B61: Tq5 | C61: Bùi Tuấn Đạt | H61: TD-QP | I61: GVHĐ | O61: =(IF(I61="HT",15,IF(I61="BTĐ",11.9,IF(I61="PHT",13,IF(I61="PBTĐ",5.95,IF(I61="giáo vụ",4,IF(OR(I61="TTCM",I61="CTCĐ",I61="LĐ",P61="Con nhỏ"),3,IF(OR(I61="TKHĐ",I61="TTrND"),2,0))))))+(IF(OR(J61="CĐ",J61="TVTL"),1,IF(J61="PBM",2,0))))) -> 0
A62: 58 | B62: Hc3 | C62: Võ Nguyên Tiến | I62: Bảo vệ
A63: 59 | B63: Hc4 | C63: Ngô Phương Thủy | F63: x | I63: Thủ quỹ
A64: 60 | B64: Hc5 | C64: Nguyễn Thị Bích Thảo | F64: x | I64: Thư viện
A65: 61 | B65: Hc6 | C65: Cao Thị Kim Yến | F65: x | I65: Y tế
A66: 62 | B66: Hc7 | C66: Nguyễn Thị Quyên | F66: x | I66: Phục vụ
A67: 63 | B67: Hc9 | C67: Trần Văn Nga | I67: Bảo vệ | R67: =17/57 -> 0.29824561
A68: 64 | B68: Hc11 | C68: Nông Thị Mai | D68: x | I68: Văn thư
A69: 65 | B69: Hc10 | C69: Lê Thị Thu Thảo | I69: Thiết bị
D70: =COUNTA(D4:D69) -> 33 | E70: =COUNTA(E4:E69) -> 17 | F70: =COUNTA(F4:F69) -> 33 | G70: =COUNTA(G4:G69) -> 5 | K70: =COUNTA(K4:K69) -> 25 | L70: =COUNTA(L4:L69) -> 27 | M70: =COUNTA(M4:M69) -> 28 | N70: =SUM(N4:N69) -> 909 | O70: =SUM(O4:O69) -> 119
M71: HIỆU TRƯỞNG
M75: Nguyễn Đình Hoàng
P90: 445 | Q90: 260 | R90: 70 | S90: 50 | U90: 3 | V90: 1 | W90: 0 | X90: 0 | Y90: 3 | Z90: 3 | AA90: 0
P91: 380 | Q91: 220 | R91: 90 | S91: 69 | U91: 5 | V91: 5 | W91: 1 | X91: 1 | Y91: 1 | Z91: 5 | AA91: 2
P92: 315 | Q92: 177 | R92: 89 | S92: 51 | U92: 13 | V92: 4 | W92: 0 | X92: 0 | Y92: 6 | Z92: 13 | AA92: 0
P93: =SUM(P90:P92) -> 1140 | Q93: =SUM(Q90:Q92) -> 657 | R93: =SUM(R90:R92) -> 249 | S93: =SUM(S90:S92) -> 170 | U93: 5 | V93: 5 | W93: 0 | X93: 0 | Y93: 3 | Z93: 5 | AA93: 0
U94: 3 | V94: 2 | W94: 0 | X94: 0 | Y94: 1 | Z94: 3 | AA94: 0
U95: 4 | V95: 3 | W95: 0 | X95: 0 | Y95: 1 | Z95: 4 | AA95: 0
U96: 2 | V96: 1 | W96: 0 | X96: 0 | Y96: 2 | Z96: 2 | AA96: 0
U97: 6 | V97: 4 | W97: 1 | X97: 0 | Y97: 4 | Z97: 6 | AA97: 0
U98: 4 | V98: 1 | W98: 1 | X98: 1 | Y98: 1 | Z98: 4 | AA98: 0
U99: 3 | V99: 2 | W99: 0 | X99: 0 | Y99: 3 | Z99: 3 | AA99: 0
U100: 7 | V100: 4 | W100: 1 | X100: 1 | Y100: 5 | Z100: 7 | AA100: 0
U101: 4 | V101: 1 | W101: 1 | X101: 1 | Y101: 3 | Z101: 4 | AA101: 0
U102: =SUM(U90:U101) -> 59 | V102: 32 | W102: 4 | X102: 3 | Y102: 33 | Z102: 59 | AA102: 2

Sheet PCGVCN
A1: SỞ GIÁO DỤC VÀ ĐÀO TẠO ĐẮK LẮK TRƯỜNG THPT HUỲNH THÚC KHÁNG | E1: CỘNG HÒA XÃ HỘI CHỦ NGHĨA VIỆT NAM Độc lập - Tự do - Hạnh phúc
A3: DANH SÁCH PHÂN CÔNG GIÁO VIÊN CHỦ NHIỆM NĂM HỌC 2024-2025
A4: (kèm theo Quyết định số 96/QĐ-HTK ngày 26/08/2024)
A6: STT | B6: Mã GV | C6: Họ và tên | D6: Môn | E6: Chức vụ | F6: Chủ nhiệm lớp | G6: Phòng học | H6: Môn học tự chọn | I6: Chuyên đề học tập
A7: 1 | B7: D5 | C7: Thân Thị Minh Phương | D7: Địa lí | E7: GV | F7: 10A1 | G7: 26 | H7: Vật lí, Địa lí, KT&PL, CNCN | I7: Toán, Sử, Địa
A8: 2 | B8: Tt1 | C8: Nguyễn Minh Hảo | D8: Toán-tin | E8: GV | F8: 10A2 | G8: 27 | H8: Vật lí, Địa lí, KT&PL, Tin học | I8: Toán, Lý, Địa
A9: 3 | B9: T2 | C9: Phan Ngọc Quý | D9: Toán-tin | E9: GV | F9: 10A3 | G9: 28 | H9: Vật lí, Địa lí, Tin học, CNCN | I9: Toán, Lý, Địa
A10: 4 | B10: Tt7 | C10: Huỳnh Thị Liên | D10: Toán-tin | E10: GV | F10: 10A4 | G10: 29 | H10: Vật lí, Địa lí, Tin học, CNCN | I10: Toán, Lý, Địa
A11: 5 | B11: A2 | C11: Trần Thị Mỹ Trang | D11: Anh văn | E11: GV | F11: 10A5 | G11: 30 | H11: Hóa, KT&PL, Tin, CNCN | I11: Văn, Toán, Hóa
A12: 6 | B12: H3 | C12: Ngô Nhân Hòa | D12: Hóa | E12: GV | F12: 10A6 | G12: 31 | H12: Hóa, KT&PL, Tin, CNCN | I12: Văn, Toán, Hóa
A13: 7 | B13: Sn4 | C13: Nguyễn Thị Kim Hà | D13: Sinh | E13: GV | F13: 10A7 | G13: 32 | H13: Vật lí, Hóa học, Sinh học, CNCN | I13: Toán, Hóa, Sinh
A14: 8 | B14: Lc5 | C14: Nguyễn Thị Tuyết Hoa | D14: Lý - CN | E14: GV | F14: 10A8 | G14: 33 | H14: Vật lí, Hóa học, Sinh học, Tin học | I14: Toán, Hóa, Sinh
A15: 9 | B15: Tt6 | C15: Hoàng Bá Đạt | D15: Toán-tin | E15: GV | F15: 10A9 | G15: 34 | H15: Vật lí, Hóa học, Sinh học, Tin học | I15: Toán, Hóa, Sinh
A16: 10 | B16: A6 | C16: Nguyễn Thị Thúy Hằng | D16: Anh văn | E16: GV | F16: 10A10 | G16: 35 | H16: Vật lí, Hóa học, Sinh học, Tin học | I16: Toán, Hóa, Sinh
A17: 11 | B17: H2 | C17: Nguyễn Ngọc Ân | D17: Hóa | E17: GV | F17: 11A1 | G17: 7 | H17: Vật lí, Hóa học, Sinh học, Tin học | I17: Toán, Hóa, Sinh
A18: 12 | B18: T5 | C18: Nguyễn Thị Tâm | D18: Toán-tin | E18: GV | F18: 11A2 | G18: 8 | H18: Vật lí, Hóa học, Sinh học, Tin học | I18: Toán, Hóa, Sinh
... A34: 28 | B34: V6 | C34: Nguyễn Thị Mai | D34: Ngữ văn | E34: GV | F34: 12A8 | G34: 12 | H34: Vật lí, Địa lí, KT&PL, CNCN | I34: Toán, Sử, Địa

Sheet T-L-K
A1: SỞ GIÁO DỤC VÀ ĐÀO TẠO ĐẮK LẮK | V1: CỘNG HÒA XÃ HỘI CHỦ NGHĨA VIỆT NAM Độc lập - Tự do - Hạnh phúc
A2: TRƯỜNG THPT HUỲNH THÚC KHÁNG
A3: THỐNG KÊ TIẾT/MÔN/LỚP - SỐ BÀI KIỂM TRA THƯỜNG XUYÊN
A5: TT | B5: Lớp | C5: CN | D5: HỌC KÌ 1 | W5: HỌC KÌ 2 | AP5: CỘT KIỂM TRA THƯỜNG XUYÊN | BH5: Ghi chú
D6: Văn | E6: Toán | F6: Anh | G6: TD | H6: QP | I6: Sử | J6: GDĐP | K6: TN-HN | L6: Lý | M6: Hóa | N6: Sinh | O6: Địa | P6: KT-PL | Q6: Tin | R6: CN công | S6: CN nông | T6: Nhạc | U6: Mỹ thuật | V6: Tổng | W6: Văn | X6: Toán | Y6: Anh | Z6: TD | AA6: QP | AB6: Sử | AC6: GDĐP | AD6: TNHN | AE6: Lý | AF6: Hóa | AG6: Sinh | AH6: Địa | AI6: KT-PL | AJ6: Tin | AK6: CN công | AL6: CN nông | AM6: Nhạc | AN6: Mỹ thuật | AO6: Tổng | AP6: Văn | AQ6: Toán | AR6: Anh | AS6: TD | AT6: QP | AU6: Sử | AV6: GDĐP | AW6: TN-HN | AX6: Lý | AY6: Hóa | AZ6: Sinh | BA6: Địa | BB6: KT-PL | BC6: Tin | BD6: CN công | BE6: CN nông | BF6: Nhạc | BG6: Mỹ thuật
A7: 1 | B7: 10A1 | C7: 5 | D7: 3 | E7: 4 | F7: 3 | G7: 2 | H7: 1 | I7: 3 | J7: 1 | K7: 1 | L7: 2 | O7: 3 | P7: 2 | R7: 2 | V7: =SUM(C7:U7) -> 32 | W7: 3 | X7: 4 | Y7: 3 | Z7: 2 | AA7: 1 | AB7: 2 | AC7: 1 | AD7: 1 | AE7: 2 | AH7: 3 | AI7: 2 | AK7: 2 | AO7: =SUM(W7:AN7)+C7 -> 31 | AP7: 4 | AQ7: 4(5) | AR7: 4 | AS7: 2 | AT7: 2 | AU7: 3(4) | AV7: 2 | AW7: 2 | AX7: 3 | BA7: 3(4) | BB7: 3 | BD7: 3 | BH7: 0
A8: 2 | B8: 10A2 | C8: 5 | D8: 3 | E8: 4 | F8: 3 | G8: 2 | H8: 1 | I8: 2 | J8: 1 | K8: 1 | L8: 3 | O8: 3 | P8: 2 | Q8: 2 | V8: =SUM(C8:U8) -> 32 | W8: 3 | X8: 4 | Y8: 3 | Z8: 2 | AA8: 1 | AB8: 1 | AC8: 1 | AD8: 1 | AE8: 3 | AH8: 3 | AI8: 2 | AJ8: 2 | AO8: =SUM(W8:AN8)+C8 -> 31 | AP8: 4 | AQ8: 4(5) | AR8: 4 | AS8: 2 | AT8: 2 | AU8: 3 | AV8: 2 | AW8: 2 | AX8: 3(4) | BA8: 3(4) | BB8: 3 | BC8: 3 | BH8: 0
A9: 3 | B9: 10A3 | C9: 5 | D9: 3 | E9: 4 | F9: 3 | G9: 2 | H9: 1 | I9: 2 | J9: 1 | K9: 1 | L9: 3 | O9: 3 | Q9: 2 | R9: 2 | V9: =SUM(C9:U9) -> 32 | W9: 3 | X9: 4 | Y9: 3 | Z9: 2 | AA9: 1 | AB9: 1 | AC9: 1 | AD9: 1 | AE9: 3 | AH9: 3 | AJ9: 2 | AK9: 2 | AO9: =SUM(W9:AN9)+C9 -> 31 | AP9: 4 | AQ9: 4(5) | AR9: 4 | AS9: 2 | AT9: 2 | AU9: 3 | AV9: 2 | AW9: 2 | AX9: 3(4) | BA9: 3(4) | BC9: 3 | BD9: 3 | BH9: 0
A10: 4 | B10: 10A4 | C10: 5 | D10: 3 | E10: 4 | F10: 3 | G10: 2 | H10: 1 | I10: 2 | J10: 1 | K10: 1 | L10: 3 | O10: 3 | Q10: 2 | R10: 2 | V10: =SUM(C10:U10) -> 32 | W10: 3 | X10: 4 | Y10: 3 | Z10: 2 | AA10: 1 | AB10: 1 | AC10: 1 | AD10: 1 | AE10: 3 | AH10: 3 | AJ10: 2 | AK10: 2 | AO10: =SUM(W10:AN10)+C10 -> 31 | AP10: 4 | AQ10: 4(5) | AR10: 4 | AS10: 2 | AT10: 2 | AU10: 3 | AV10: 2 | AW10: 2 | AX10: 3(4) | BA10: 3(4) | BC10: 3 | BD10: 3 | BH10: 0
A11: 5 | B11: 10A5 | C11: 5 | D11: 4 | E11: 4 | F11: 3 | G11: 2 | H11: 1 | I11: 2 | J11: 1 | K11: 1 | M11: 3 | P11: 2 | Q11: 2 | R11: 2 | V11: =SUM(C11:U11) -> 32 | W11: 4 | X11: 4 | Y11: 3 | Z11: 2 | AA11: 1 | AB11: 1 | AC11: 1 | AD11: 1 | AF11: 3 | AI11: 2 | AJ11: 2 | AK11: 2 | AO11: =SUM(W11:AN11)+C11 -> 31 | AP11: 4(5) | AQ11: 4(5) | AR11: 4 | AS11: 2 | AT11: 2 | AU11: 3 | AV11: 2 | AW11: 2 | AX11: 3 | AY11: 3(4) | BB11: 3 | BC11: 3 | BD11: 3 | BH11: 0
A12: 6 | B12: 10A6 | C12: 5 | D12: 4 | E12: 4 | F12: 3 | G12: 2 | H12: 1 | I12: 2 | J12: 1 | K12: 1 | M12: 3 | P12: 2 | Q12: 2 | R12: 2 | V12: =SUM(C12:U12) -> 32 | W12: 4 | X12: 4 | Y12: 3 | Z12: 2 | AA12: 1 | AB12: 1 | AC12: 1 | AD12: 1 | AF12: 3 | AI12: 2 | AJ12: 2 | AK12: 2 | AO12: =SUM(W12:AN12)+C12 -> 31 | AP12: 4(5) | AQ12: 4(5) | AR12: 4 | AS12: 2 | AT12: 2 | AU12: 3 | AV12: 2 | AW12: 2 | AX12: 3 | AY12: 3(4) | BB12: 3 | BC12: 3 | BD12: 3 | BH12: 0
A13: 7 | B13: 10A7 | C13: 5 | D13: 3 | E13: 4 | F13: 3 | G13: 2 | H13: 1 | I13: 2 | J13: 1 | K13: 1 | L13: 2 | M13: 3 | N13: 3 | R13: 2 | V13: =SUM(C13:U13) -> 32 | W13: 3 | X13: 4 | Y13: 3 | Z13: 2 | AA13: 1 | AB13: 1 | AC13: 1 | AD13: 1 | AE13: 2 | AF13: 3 | AG13: 3 | AK13: 2 | AO13: =SUM(W13:AN13)+C13 -> 31 | AP13: 4 | AQ13: 4(5) | AR13: 4 | AS13: 2 | AT13: 2 | AU13: 3 | AV13: 2 | AW13: 2 | AX13: 3 | AY13: 3(4) | AZ13: 3(4) | BD13: 3 | BH13: 0
A14: 8 | B14: 10A8 | C14: 5 | D14: 3 | E14: 4 | F14: 3 | G14: 2 | H14: 1 | I14: 2 | J14: 1 | K14: 1 | L14: 2 | M14: 3 | N14: 3 | Q14: 2 | V14: =SUM(C14:U14) -> 32 | W14: 3 | X14: 4 | Y14: 3 | Z14: 2 | AA14: 1 | AB14: 1 | AC14: 1 | AD14: 1 | AE14: 2 | AF14: 3 | AG14: 3 | AJ14: 2 | AO14: =SUM(W14:AN14)+C14 -> 31 | AP14: 4 | AQ14: 4(5) | AR14: 4 | AS14: 2 | AT14: 2 | AU14: 3 | AV14: 2 | AW14: 2 | AX14: 3 | AY14: 3(4) | AZ14: 3(4) | BC14: 3 | BH14: 0
A15: 9 | B15: 10A9 | C15: 5 | D15: 3 | E15: 4 | F15: 3 | G15: 2 | H15: 1 | I15: 2 | J15: 1 | K15: 1 | L15: 2 | M15: 3 | N15: 3 | Q15: 2 | V15: =SUM(C15:U15) -> 32 | W15: 3 | X15: 4 | Y15: 3 | Z15: 2 | AA15: 1 | AB15: 1 | AC15: 1 | AD15: 1 | AE15: 2 | AF15: 3 | AG15: 3 | AJ15: 2 | AO15: =SUM(W15:AN15)+C15 -> 31 | AP15: 4 | AQ15: 4(5) | AR15: 4 | AS15: 2 | AT15: 2 | AU15: 3 | AV15: 2 | AW15: 2 | AX15: 3 | AY15: 3(4) | AZ15: 3(4) | BC15: 3 | BH15: 0
A16: 10 | B16: 10A10 | C16: 5 | D16: 3 | E16: 4 | F16: 3 | G16: 2 | H16: 1 | I16: 2 | J16: 1 | K16: 1 | L16: 2 | M16: 3 | N16: 3 | Q16: 2 | V16: =SUM(C16:U16) -> 32 | W16: 3 | X16: 4 | Y16: 3 | Z16: 2 | AA16: 1 | AB16: 1 | AC16: 1 | AD16: 1 | AE16: 2 | AF16: 3 | AG16: 3 | AJ16: 2 | AO16: =SUM(W16:AN16)+C16 -> 31 | AP16: 4 | AQ16: 4(5) | AR16: 4 | AS16: 2 | AT16: 2 | AU16: 3 | AV16: 2 | AW16: 2 | AX16: 3 | AY16: 3(4) | AZ16: 3(4) | BC16: 3 | BH16: 0
A17: 11 | B17: 11A1 | C17: 5 | D17: 3 | E17: 4 | F17: 3 | G17: 2 | H17: 1 | I17: 1 | J17: 1 | K17: 1 | L17: 2 | M17: 3 | N17: 3 | Q17: 2 | V17: =SUM(C17:U17) -> 31 | W17: 3 | X17: 4 | Y17: 3 | Z17: 2 | AA17: 1 | AB17: 2 | AC17: 1 | AD17: 1 | AE17: 2 | AF17: 3 | AG17: 3 | AJ17: 2 | AO17: =SUM(W17:AN17)+C17 -> 32 | AP17: 4 | AQ17: 4(5) | AR17: 4 | AS17: 2 | AT17: 2 | AU17: 3 | AV17: 2 | AW17: 2 | AX17: 3 | AY17: 3(4) | AZ17: 3(4) | BC17: 3 | BH17: 0
A18: 12 | B18: 11A2 | C18: 5 | D18: 3 | E18: 4 | F18: 3 | G18: 2 | H18: 1 | I18: 1 | J18: 1 | K18: 1 | L18: 2 | M18: 3 | N18: 3 | Q18: 2 | V18: =SUM(C18:U18) -> 31 | W18: 3 | X18: 4 | Y18: 3 | Z18: 2 | AA18: 1 | AB18: 2 | AC18: 1 | AD18: 1 | AE18: 2 | AF18: 3 | AG18: 3 | AJ18: 2 | AO18: =SUM(W18:AN18)+C18 -> 32 | AP18: 4 | AQ18: 4(5) | AR18: 4 | AS18: 2 | AT18: 2 | AU18: 3 | AV18: 2 | AW18: 2 | AX18: 3 | AY18: 3(4) | AZ18: 3(4) | BC18: 3 | BH18: 0
A19: 13 | B19: 11A3 | C19: 5 | D19: 3 | E19: 4 | F19: 3 | G19: 2 | H19: 1 | I19: 1 | J19: 1 | K19: 1 | L19: 2 | M19: 3 | N19: 3 | R19: 2 | V19: =SUM(C19:U19) -> 31 | W19: 3 | X19: 4 | Y19: 3 | Z19: 2 | AA19: 1 | AB19: 2 | AC19: 1 | AD19: 1 | AE19: 2 | AF19: 3 | AG19: 3 | AK19: 2 | AO19: =SUM(W19:AN19)+C19 -> 32 | AP19: 4 | AQ19: 4(5) | AR19: 4 | AS19: 2 | AT19: 2 | AU19: 3 | AV19: 2 | AW19: 2 | AX19: 3 | AY19: 3(4) | AZ19: 3(4) | BD19: 3 | BH19: 0
A20: 14 | B20: 11A4 | C20: 5 | D20: 4 | E20: 4 | F20: 3 | G20: 2 | H20: 1 | I20: 1 | J20: 1 | K20: 1 | M20: 3 | P20: 2 | Q20: 2 | R20: 2 | V20: =SUM(C20:U20) -> 31 | W20: 4 | X20: 4 | Y20: 3 | Z20: 2 | AA20: 1 | AB20: 2 | AC20: 1 | AD20: 1 | AF20: 3 | AI20: 2 | AJ20: 2 | AK20: 2 | AO20: =SUM(W20:AN20)+C20 -> 32 | AP20: 4(5) | AQ20: 4(5) | AR20: 4 | AS20: 2 | AT20: 2 | AU20: 3 | AV20: 2 | AW20: 2 | AX20: 3 | AY20: 3(4) | BB20: 3 | BC20: 3 | BD20: 3 | BH20: 0
A21: 15 | B21: 11A5 | C21: 5 | D21: 4 | E21: 4 | F21: 3 | G21: 2 | H21: 1 | I21: 1 | J21: 1 | K21: 1 | M21: 3 | P21: 2 | Q21: 2 | R21: 2 | V21: =SUM(C21:U21) -> 31 | W21: 4 | X21: 4 | Y21: 3 | Z21: 2 | AA21: 1 | AB21: 2 | AC21: 1 | AD21: 1 | AF21: 3 | AI21: 2 | AJ21: 2 | AK21: 2 | AO21: =SUM(W21:AN21)+C21 -> 32 | AP21: 4(5) | AQ21: 4(5) | AR21: 4 | AS21: 2 | AT21: 2 | AU21: 3 | AV21: 2 | AW21: 2 | AX21: 3 | AY21: 3(4) | BB21: 3 | BC21: 3 | BD21: 3 | BH21: 0
A22: 16 | B22: 11A6 | C22: 5 | D22: 3 | E22: 4 | F22: 3 | G22: 2 | H22: 1 | I22: 1 | J22: 1 | K22: 1 | L22: 3 | O22: 3 | Q22: 2 | R22: 2 | V22: =SUM(C22:U22) -> 31 | W22: 3 | X22: 4 | Y22: 3 | Z22: 2 | AA22: 1 | AB22: 2 | AC22: 1 | AD22: 1 | AE22: 3 | AH22: 3 | AJ22: 2 | AK22: 2 | AO22: =SUM(W22:AN22)+C22 -> 32 | AP22: 4 | AQ22: 4(5) | AR22: 4 | AS22: 2 | AT22: 2 | AU22: 3 | AV22: 2 | AW22: 2 | AX22: 3(4) | BA22: 3(4) | BC22: 3 | BD22: 3 | BH22: 0
A23: 17 | B23: 11A7 | C23: 5 | D23: 3 | E23: 4 | F23: 3 | G23: 2 | H23: 1 | I23: 1 | J23: 1 | K23: 1 | L23: 3 | O23: 3 | Q23: 2 | R23: 2 | V23: =SUM(C23:U23) -> 31 | W23: 3 | X23: 4 | Y23: 3 | Z23: 2 | AA23: 1 | AB23: 2 | AC23: 1 | AD23: 1 | AE23: 3 | AH23: 3 | AJ23: 2 | AK23: 2 | AO23: =SUM(W23:AN23)+C23 -> 32 | AP23: 4 | AQ23: 4(5) | AR23: 4 | AS23: 2 | AT23: 2 | AU23: 3 | AV23: 2 | AW23: 2 | AX23: 3(4) | BA23: 3(4) | BC23: 3 | BD23: 3 | BH23: 0
A24: 18 | B24: 11A8 | C24: 5 | D24: 3 | E24: 4 | F24: 3 | G24: 2 | H24: 1 | I24: 1 | J24: 1 | K24: 1 | L24: 3 | O24: 3 | Q24: 2 | R24: 2 | V24: =SUM(C24:U24) -> 31 | W24: 3 | X24: 4 | Y24: 3 | Z24: 2 | AA24: 1 | AB24: 2 | AC24: 1 | AD24: 1 | AE24: 3 | AH24: 3 | AJ24: 2 | AK24: 2 | AO24: =SUM(W24:AN24)+C24 -> 32 | AP24: 4 | AQ24: 4(5) | AR24: 4 | AS24: 2 | AT24: 2 | AU24: 3 | AV24: 2 | AW24: 2 | AX24: 3(4) | BA24: 3(4) | BC24: 3 | BD24: 3 | BH24: 0
A25: 19 | B25: 11A9 | C25: 5 | D25: 3 | E25: 4 | F25: 3 | G25: 2 | H25: 1 | I25: 1 | J25: 1 | K25: 1 | L25: 3 | O25: 3 | P25: 2 | Q25: 2 | V25: =SUM(C25:U25) -> 31 | W25: 3 | X25: 4 | Y25: 3 | Z25: 2 | AA25: 1 | AB25: 2 | AC25: 1 | AD25: 1 | AE25: 3 | AH25: 3 | AI25: 2 | AJ25: 2 | AO25: =SUM(W25:AN25)+C25 -> 32 | AP25: 4 | AQ25: 4(5) | AR25: 4 | AS25: 2 | AT25: 2 | AU25: 3 | AV25: 2 | AW25: 2 | AX25: 3(4) | BA25: 3(4) | BB25: 3 | BC25: 3 | BH25: 0
A26: 20 | B26: 11A10 | C26: 5 | D26: 3 | E26: 4 | F26: 3 | G26: 2 | H26: 1 | I26: 2 | J26: 1 | K26: 1 | L26: 2 | O26: 3 | P26: 2 | R26: 2 | V26: =SUM(C26:U26) -> 31 | W26: 3 | X26: 4 | Y26: 3 | Z26: 2 | AA26: 1 | AB26: 3 | AC26: 1 | AD26: 1 | AE26: 2 | AH26: 3 | AI26: 2 | AK26: 2 | AO26: =SUM(W26:AN26)+C26 -> 32 | AP26: 4 | AQ26: 4(5) | AR26: 4 | AS26: 2 | AT26: 2 | AU26: 3(4) | AV26: 2 | AW26: 2 | AX26: 3 | BA26: 3(4) | BB26: 3 | BD26: 3 | BH26: 0
A27: 21 | B27: 12A1 | C27: 5 | D27: 3 | E27: 4 | F27: 3 | G27: 2 | H27: 1 | I27: 1 | J27: 1 | K27: 1 | L27: 2 | M27: 3 | N27: 3 | Q27: 2 | V27: =SUM(C27:U27) -> 31 | W27: 3 | X27: 4 | Y27: 3 | Z27: 2 | AA27: 1 | AB27: 2 | AC27: 1 | AD27: 1 | AE27: 2 | AF27: 3 | AG27: 3 | AJ27: 2 | AO27: =SUM(W27:AN27)+C27 -> 32 | AP27: 4 | AQ27: 4(5) | AR27: 4 | AS27: 2 | AT27: 2 | AU27: 3 | AV27: 2 | AW27: 2 | AX27: 3 | AY27: 3(4) | AZ27: 3(4) | BC27: 3 | BH27: 0
A28: 22 | B28: 12A2 | C28: 5 | D28: 3 | E28: 4 | F28: 3 | G28: 2 | H28: 1 | I28: 1 | J28: 1 | K28: 1 | L28: 2 | M28: 3 | N28: 3 | Q28: 2 | V28: =SUM(C28:U28) -> 31 | W28: 3 | X28: 4 | Y28: 3 | Z28: 2 | AA28: 1 | AB28: 2 | AC28: 1 | AD28: 1 | AE28: 2 | AF28: 3 | AG28: 3 | AJ28: 2 | AO28: =SUM(W28:AN28)+C28 -> 32 | AP28: 4 | AQ28: 4(5) | AR28: 4 | AS28: 2 | AT28: 2 | AU28: 3 | AV28: 2 | AW28: 2 | AX28: 3 | AY28: 3(4) | AZ28: 3(4) | BC28: 3 | BH28: 0
A29: 23 | B29: 12A3 | C29: 5 | D29: 3 | E29: 4 | F29: 3 | G29: 2 | H29: 1 | I29: 1 | J29: 1 | K29: 1 | L29: 2 | M29: 3 | N29: 3 | R29: 2 | V29: =SUM(C29:U29) -> 31 | W29: 3 | X29: 4 | Y29: 3 | Z29: 2 | AA29: 1 | AB29: 2 | AC29: 1 | AD29: 1 | AE29: 2 | AF29: 3 | AG29: 3 | AK29: 2 | AO29: =SUM(W29:AN29)+C29 -> 32 | AP29: 4 | AQ29: 4(5) | AR29: 4 | AS29: 2 | AT29: 2 | AU29: 3 | AV29: 2 | AW29: 2 | AX29: 3 | AY29: 3(4) | AZ29: 3(4) | BD29: 3 | BH29: 0
A30: 24 | B30: 12A4 | C30: 5 | D30: 4 | E30: 4 | F30: 3 | G30: 2 | H30: 1 | I30: 1 | J30: 1 | K30: 1 | M30: 3 | P30: 2 | Q30: 2 | R30: 2 | V30: =SUM(C30:U30) -> 31 | W30: 4 | X30: 4 | Y30: 3 | Z30: 2 | AA30: 1 | AB30: 2 | AC30: 1 | AD30: 1 | AF30: 3 | AI30: 2 | AJ30: 2 | AK30: 2 | AO30: =SUM(W30:AN30)+C30 -> 32 | AP30: 4(5) | AQ30: 4(5) | AR30: 4 | AS30: 2 | AT30: 2 | AU30: 3 | AV30: 2 | AW30: 2 | AX30: 3 | AY30: 3(4) | BB30: 3 | BC30: 3 | BD30: 3 | BH30: 0
A31: 25 | B31: 12A5 | C31: 5 | D31: 3 | E31: 4 | F31: 3 | G31: 2 | H31: 1 | I31: 1 | J31: 1 | K31: 1 | L31: 3 | O31: 3 | Q31: 2 | R31: 2 | V31: =SUM(C31:U31) -> 31 | W31: 3 | X31: 4 | Y31: 3 | Z31: 2 | AA31: 1 | AB31: 2 | AC31: 1 | AD31: 1 | AE31: 3 | AH31: 3 | AJ31: 2 | AK31: 2 | AO31: =SUM(W31:AN31)+C31 -> 32 | AP31: 4 | AQ31: 4(5) | AR31: 4 | AS31: 2 | AT31: 2 | AU31: 3 | AV31: 2 | AW31: 2 | AX31: 3(4) | BA31: 3(4) | BC31: 3 | BD31: 3 | BH31: 0
A32: 26 | B32: 12A6 | C32: 5 | D32: 3 | E32: 4 | F32: 3 | G32: 2 | H32: 1 | I32: 1 | J32: 1 | K32: 1 | L32: 3 | O32: 3 | Q32: 2 | R32: 2 | V32: =SUM(C32:U32) -> 31 | W32: 3 | X32: 4 | Y32: 3 | Z32: 2 | AA32: 1 | AB32: 2 | AC32: 1 | AD32: 1 | AE32: 3 | AH32: 3 | AJ32: 2 | AK32: 2 | AO32: =SUM(W32:AN32)+C32 -> 32 | AP32: 4 | AQ32: 4(5) | AR32: 4 | AS32: 2 | AT32: 2 | AU32: 3 | AV32: 2 | AW32: 2 | AX32: 3(4) | BA32: 3(4) | BC32: 3 | BD32: 3 | BH32: 0
A33: 27 | B33: 12A7 | C33: 5 | D33: 3 | E33: 4 | F33: 3 | G33: 2 | H33: 1 | I33: 1 | J33: 1 | K33: 1 | L33: 3 | O33: 3 | P33: 2 | Q33: 2 | V33: =SUM(C33:U33) -> 31 | W33: 3 | X33: 4 | Y33: 3 | Z33: 2 | AA33: 1 | AB33: 2 | AC33: 1 | AD33: 1 | AE33: 3 | AH33: 3 | AI33: 2 | AJ33: 2 | AO33: =SUM(W33:AN33)+C33 -> 32 | AP33: 4 | AQ33: 4(5) | AR33: 4 | AS33: 2 | AT33: 2 | AU33: 3 | AV33: 2 | AW33: 2 | AX33: 3(4) | BA33: 3(4) | BB33: 3 | BC33: 3 | BH33: 0
A34: 28 | B34: 12A8 | C34: 5 | D34: 3 | E34: 4 | F34: 3 | G34: 2 | H34: 1 | I34: 2 | J34: 1 | K34: 1 | L34: 2 | O34: 3 | P34: 2 | R34: 2 | V34: =SUM(C34:U34) -> 31 | W34: 3 | X34: 4 | Y34: 3 | Z34: 2 | AA34: 1 | AB34: 3 | AC34: 1 | AD34: 1 | AE34: 2 | AH34: 3 | AI34: 2 | AK34: 2 | AO34: =SUM(W34:AN34)+C34 -> 32 | AP34: 4 | AQ34: 4(5) | AR34: 4 | AS34: 2 | AT34: 2 | AU34: 3(4) | AV34: 2 | AW34: 2 | AX34: 3 | BA34: 3(4) | BB34: 3 | BD34: 3 | BH34: 0
V35: =SUM(C35:U35) -> 0 | AO35: =SUM(W35:AN35)+C35 -> 0 | BH35: 0
V36: =SUM(C36:U36) -> 0 | AO36: =SUM(W36:AN36)+C36 -> 0 | BH36: 0
B37: =COUNTA(B7:B36) -> 28 | C37: =SUM(C7:C36) -> 140 | D37: =SUM(D7:D36) -> 89 | E37: =SUM(E7:E36) -> 112 | F37: =SUM(F7:F36) -> 84 | G37: =SUM(G7:G36) -> 56 | H37: =SUM(H7:H36) -> 28 | I37: =SUM(I7:I36) -> 41 | J37: =SUM(J7:J36) -> 28 | ... BH37: =SUM(BH7:BH36) -> 0
A38: THỐNG KÊ TIẾT / TỔ CHUYÊN MÔN / HỌC KÌ /NĂM
A39: TT | B39: Tổ CM | D39: Số GV đứng lớp | J39: Chủ nhiệm kỳ 1 | P39: =SUM(J41:O50) -> 28 | R39: Chủ nhiệm kỳ 2 | X39: =SUM(R41:W50) -> 28 | Z39: Tiết KN | AD39: TN-HN/K1 | AH39: TN-HN/K2 | AL39: Tiết bộ môn | AP39: Giáo dục địa phương | AV39: Tổng tiết/tổ | AZ39: Tiết TB/GV | BF39: Thừa giờ
D40: Tổng | F40: Kỳ 1 | H40: Kỳ 2 | J40: K10 | L40: K11 | N40: K12 | P40: ∑ | R40: K10 | T40: K11 | V40: K12 | X40: ∑ | Z40: Kỳ 1 | AB40: Kỳ 2 | AD40: Số lớp | AF40: Tiết | AH40: Số lớp | AJ40: Tiết | AL40: Kỳ 1 | AN40: Kỳ 2 | AP40: K10 | AR40: K11 | AT40: K12 | AV40: K1 | AX40: K2 | AZ40: K1 | BB40: K2 | BD40: CN
A41: 1 | B41: TOÁN - TIN | D41: 13 | F41: 13 | H41: 13 | J41: 4 | L41: 3 | N41: 3 | P41: =SUM(J41:O41)*5 -> 50 | R41: 4 | T41: 3 | V41: 3 | X41: =SUM(R41:W41)*5 -> 50 | Z41: =SUMIF(CBGV!$H$4:$O$69,"Toán - tin",CBGV!$O$4:$O$69) -> 16 | AB41: =SUMIF(CBGV!$H$4:$O$69,"Toán - tin",CBGV!$O$4:$O$69) -> 16 | AD41: 10 | AF41: =AD41*1 -> 10 | AH41: 10 | AJ41: =AH41*1 -> 10 | AL41: =E37+Q37 -> 156 | AN41: =X37+AJ37 -> 156 | AV41: =P41+Z41+AF41+AL41+AP41+AR41+AT41 -> 232 | AX41: =X41+AB41+AJ41+AN41+AP41+AR41+AT41 -> 232 | AZ41: =AV41/F41 -> 17.846154 | BB41: =AX41/H41 -> 17.846154 | BD41: =(AZ41*18+BB41*17)/35 -> 17.846154 | BF41: =(BD41-17)*D41 -> 11 | BI41: =BF41*35 -> 385
A42: 2 | B42: LÝ - CN | D42: 7 | F42: 7 | H42: 7 | J42: 1 | L42: 3 | P42: =SUM(J42:O42)*5 -> 20 | R42: 1 | T42: 3 | X42: =SUM(R42:W42)*5 -> 20 | Z42: =SUMIF(CBGV!$H$4:$O$69,"Lý - CN",CBGV!$O$4:$O$69) -> 5.5 | AB42: =SUMIF(CBGV!$H$4:$O$69,"Lý - CN",CBGV!$O$4:$O$69) -> 5.5 | AD42: 2 | AF42: =AD42*1 -> 2 | AH42: 2 | AJ42: =AH42*1 -> 2 | AL42: =L37+R37 -> 92 | AN42: =AE37+AK37 -> 92 | AV42: =P42+Z42+AF42+AL42+AP42+AR42+AT42 -> 119.5 | AX42: =X42+AB42+AJ42+AN42+AP42+AR42+AT42 -> 119.5 | AZ42: =AV42/F42 -> 17.071429 | BB42: =AX42/H42 -> 17.071429 | BD42: =(AZ42*18+BB42*17)/35 -> 17.071429 | BF42: =(BD42-17)*D42 -> 0.5 | BI42: =BF42*35 -> 17.5
A43: 3 | B43: HÓA HỌC | D43: 5 | F43: 5 | H43: 5 | J43: 1 | L43: 2 | N43: 1 | P43: =SUM(J43:O43)*5 -> 20 | R43: 1 | T43: 2 | V43: 1 | X43: =SUM(R43:W43)*5 -> 20 | Z43: =SUMIF(CBGV!$H$4:$O$69,"Hóa học",CBGV!$O$4:$O$69) -> 16 | AB43: =SUMIF(CBGV!$H$4:$O$69,"Hóa học",CBGV!$O$4:$O$69) -> 16 | AD43: 4 | AF43: =AD43*1 -> 4 | AH43: 4 | AJ43: =AH43*1 -> 4 | AL43: =M37 -> 45 | AN43: =AF37 -> 45 | AV43: =P43+Z43+AF43+AL43+AP43+AR43+AT43 -> 85 | AX43: =X43+AB43+AJ43+AN43+AP43+AR43+AT43 -> 85 | AZ43: =AV43/F43 -> 17 | BB43: =AX43/H43 -> 17 | BD43: =(AZ43*18+BB43*17)/35 -> 17 | BF43: =(BD43-17)*D43 -> 0 | BI43: =BF43*35 -> 0
A44: 4 | B44: SINH - CN | D44: 4 | F44: 4 | H44: 4 | J44: 1 | L44: 1 | P44: =SUM(J44:O44)*5 -> 10 | R44: 1 | T44: 1 | X44: =SUM(R44:W44)*5 -> 10 | Z44: =SUMIF(CBGV!$H$4:$O$69,"Sinh - CN",CBGV!$O$4:$O$69) -> 20 | AB44: =SUMIF(CBGV!$H$4:$O$69,"Sinh - CN",CBGV!$O$4:$O$69) -> 20 | AD44: 4 | AF44: =AD44*1 -> 4 | AH44: 4 | AJ44: =AH44*1 -> 4 | AL44: =N37+S37 -> 30 | AN44: =AG37+AL37 -> 30 | AP44: =(4.5*10)/35 -> 1.2857143 | AR44: =(4.5*10)/35 -> 1.2857143 | AT44: =(4.5*8)/35 -> 1.0285714 | AV44: =P44+Z44+AF44+AL44+AP44+AR44+AT44 -> 67.6 | AX44: =X44+AB44+AJ44+AN44+AP44+AR44+AT44 -> 67.6 | AZ44: =AV44/F44 -> 16.9 | BB44: =AX44/H44 -> 16.9 | BD44: =(AZ44*18+BB44*17)/35 -> 16.9 | BF44: =(BD44-17)*D44 -> -0.4 | BI44: =BF44*35 -> -14
A45: 5 | B45: NGỮ VĂN | D45: 8 | F45: 8 | H45: 8 | N45: 1 | P45: =SUM(J45:O45)*5 -> 5 | V45: 1 | X45: =SUM(R45:W45)*5 -> 5 | Z45: =SUMIF(CBGV!$H$4:$O$69,"Ngữ văn",CBGV!$O$4:$O$69) -> 32 | AB45: =SUMIF(CBGV!$H$4:$O$69,"Ngữ văn",CBGV!$O$4:$O$69) -> 32 | AD45: 3 | AF45: =AD45*1 -> 3 | AH45: 3 | AJ45: =AH45*1 -> 3 | AL45: =D37 -> 89 | AN45: =W37 -> 89 | AP45: =(9*10)/35 -> 2.5714286 | AR45: =(9*10)/35 -> 2.5714286 | AT45: =(9*8)/35 -> 2.0571429 | AV45: =P45+Z45+AF45+AL45+AP45+AR45+AT45 -> 136.2 | AX45: =X45+AB45+AJ45+AN45+AP45+AR45+AT45 -> 136.2 | AZ45: =AV45/F45 -> 17.025 | BB45: =AX45/H45 -> 17.025 | BD45: =(AZ45*18+BB45*17)/35 -> 17.025 | BF45: =(BD45-17)*D45 -> 0.2 | BI45: =BF45*35 -> 7
A46: 6 | B46: LỊCH SỬ | D46: 3 | F46: 3 | H46: 3 | N46: 1 | P46: =SUM(J46:O46)*5 -> 5 | V46: 1 | X46: =SUM(R46:W46)*5 -> 5 | Z46: =SUMIF(CBGV!$H$4:$O$69,"Sử",CBGV!$O$4:$O$69) -> 3 | AB46: =SUMIF(CBGV!$H$4:$O$69,"Sử",CBGV!$O$4:$O$69) -> 3 | AF46: =AD46*1 -> 0 | AJ46: =AH46*1 -> 0 | AL46: =I37 -> 41 | AN46: =AB37 -> 49 | AP46: =(9*10)/35 -> 2.5714286 | AR46: =(9*10)/35 -> 2.5714286 | AT46: =(9*8)/35 -> 2.0571429 | AV46: =P46+Z46+AF46+AL46+AP46+AR46+AT46 -> 56.2 | AX46: =X46+AB46+AJ46+AN46+AP46+AR46+AT46 -> 64.2 | AZ46: =AV46/F46 -> 18.733333 | BB46: =AX46/H46 -> 21.4 | BD46: =(AZ46*18+BB46*17)/35 -> 20.028571 | BF46: =(BD46-17)*D46 -> 9.0857143 | BI46: =BF46*35 -> 318
A47: 7 | B47: GDKT&PL | D47: 2 | F47: 2 | H47: 2 | P47: =SUM(J47:O47)*5 -> 0 | X47: =SUM(R47:W47)*5 -> 0 | Z47: =SUMIF(CBGV!$H$4:$O$69,"KT&PL",CBGV!$O$4:$O$69) -> 8.5 | AB47: 8.5 | AD47: 1 | AF47: =AD47*1 -> 1 | AH47: 1 | AJ47: =AH47*1 -> 1 | AL47: =P37 -> 22 | AN47: =AI37 -> 22 | AP47: =(3.5*10)/35 -> 1 | AR47: =(3.5*10)/35 -> 1 | AT47: =(3.5*8)/35 -> 0.8 | AV47: =P47+Z47+AF47+AL47+AP47+AR47+AT47 -> 34.3 | AX47: =X47+AB47+AJ47+AN47+AP47+AR47+AT47 -> 34.3 | AZ47: =AV47/F47 -> 17.15 | BB47: =AX47/H47 -> 17.15 | BD47: =(AZ47*18+BB47*17)/35 -> 17.15 | BF47: =(BD47-17)*D47 -> 0.3 | BI47: =BF47*35 -> 10.5
A48: 8 | B48: ĐỊA LÍ | D48: 4 | F48: 4 | H48: 4 | J48: 1 | N48: 2 | P48: =SUM(J48:O48)*5 -> 15 | R48: 1 | V48: 2 | X48: =SUM(R48:W48)*5 -> 15 | Z48: =SUMIF(CBGV!$H$4:$O$69,"Địa lí",CBGV!$O$4:$O$69) -> 3 | AB48: =SUMIF(CBGV!$H$4:$O$69,"Địa lí",CBGV!$O$4:$O$69) -> 3 | AD48: 4 | AF48: =AD48*1 -> 4 | AH48: 4 | AJ48: =AH48*1 -> 4 | AL48: =O37 -> 39 | AN48: =AH37 -> 39 | AP48: =(9*10)/35 -> 2.5714286 | AR48: =(9*10)/35 -> 2.5714286 | AT48: =(9*8)/35 -> 2.0571429 | AV48: =P48+Z48+AF48+AL48+AP48+AR48+AT48 -> 68.2 | AX48: =X48+AB48+AJ48+AN48+AP48+AR48+AT48 -> 68.2 | AZ48: =AV48/F48 -> 17.05 | BB48: =AX48/H48 -> 17.05 | BD48: =(AZ48*18+BB48*17)/35 -> 17.05 | BF48: =(BD48-17)*D48 -> 0.2 | BI48: =BF48*35 -> 7
A49: 9 | B49: NGOẠI NGỮ | D49: 6 | F49: 6 | H49: 6 | J49: 2 | L49: 1 | P49: =SUM(J49:O49)*5 -> 15 | R49: 2 | T49: 1 | X49: =SUM(R49:W49)*5 -> 15 | Z49: =SUMIF(CBGV!$H$4:$O$69,"Anh văn",CBGV!$O$4:$O$69) -> 3 | AB49: =SUMIF(CBGV!$H$4:$O$69,"Anh văn",CBGV!$O$4:$O$69) -> 3 | AD49: 0 | AF49: =AD49*1 -> 0 | AH49: 0 | AJ49: =AH49*1 -> 0 | AL49: =F37 -> 84 | AN49: =Y37 -> 84 | AV49: =P49+Z49+AF49+AL49+AP49+AR49+AT49 -> 102 | AX49: =X49+AB49+AJ49+AN49+AP49+AR49+AT49 -> 102 | AZ49: =AV49/F49 -> 17 | BB49: =AX49/H49 -> 17 | BD49: =(AZ49*18+BB49*17)/35 -> 17 | BF49: =(BD49-17)*D49 -> 0 | BI49: =BF49*35 -> 0
A50: 10 | B50: THỂ DỤC | D50: 5 | F50: 5 | H50: 5 | P50: =SUM(J50:O50)*5 -> 0 | X50: =SUM(R50:W50)*5 -> 0 | Z50: =SUMIF(CBGV!$H$4:$O$69,"TD-QP",CBGV!$O$4:$O$69) -> 12 | AB50: =SUMIF(CBGV!$H$4:$O$69,"TD-QP",CBGV!$O$4:$O$69) -> 12 | AF50: =AD50*1 -> 0 | AJ50: =AH50*1 -> 0 | AL50: =G37+H37 -> 84 | AN50: =Z37+AA37 -> 84 | AV50: =P50+Z50+AF50+AL50+AP50+AR50+AT50 -> 96 | AX50: =X50+AB50+AJ50+AN50+AP50+AR50+AT50 -> 96 | AZ50: =AV50/F50 -> 19.2 | BB50: =AX50/H50 -> 19.2 | BD50: =(AZ50*18+BB50*17)/35 -> 19.2 | BF50: =(BD50-17)*D50 -> 11 | BI50: =BF50*35 -> 385
A51: CỘNG | D51: =SUM(D41:E50) -> 57 | F51: =SUM(F41:G50) -> 57 | H51: =SUM(H41:I50) -> 57 | J51: =SUM(J41:K50) -> 10 | L51: =SUM(L41:M50) -> 10 | N51: =SUM(N41:O50) -> 8 | P51: =SUM(P41:Q50) -> 140 | R51: =SUM(R41:S50) -> 10 | T51: =SUM(T41:U50) -> 10 | V51: =SUM(V41:W50) -> 8 | X51: =SUM(X41:Y50) -> 140 | Z51: =SUM(Z41:AA50) -> 119 | AB51: =SUM(AB41:AC50) -> 119 | AD51: =SUM(AD41:AE50) -> 28 | AF51: =SUM(AF41:AG50) -> 28 | AH51: =SUM(AH41:AI50) -> 28 | AJ51: =SUM(AJ41:AK50) -> 28 | AL51: =SUM(AL41:AM50) -> 682 | AN51: =SUM(AN41:AO50) -> 690 | AP51: =SUM(AP41:AQ50) -> 10 | AR51: =SUM(AR41:AS50) -> 10 | AT51: =SUM(AT41:AU50) -> 8 | AV51: =SUM(AV41:AW50) -> 997 | AX51: =SUM(AX41:AY50) -> 1005 | AZ51: =SUM(AZ41:BA50) -> 174.97592 | BB51: =SUM(BB41:BC50) -> 177.64258 | BD51: =SUM(BD41:BE50) -> 176.27115 | BF51: =SUM(BF41:BH50) -> 31.885714
A52: THỐNG KÊ THỰC TRẠNG SỐ TIẾT THEO BỘ MÔN
B53: I. MÔN TOÁN TIN
A54: 1. Số tiết dạy môn Toán trong năm học: | O54: =E37*18+X37*17 -> 3920 | T54: Tổng | X54: Tổng tiết tiêu chuẩn của giáo viên | AM54: =(D41*17-16)*35 -> 7175
A55: 2. Số tiết dạy môn Tin học trong năm | O55: =Q37*18+AJ37*17 -> 1540 | T55: =SUM(O54:S56) -> 7600 | X55: Tiết chênh lệch trong năm | AM55: =T55-AM54 -> 425
A56: 3. Số tiết chủ nhiệm, dạy HĐTNHN | O56: =P41*18+X41*18+AF41*17+AJ41*17 -> 2140 | X56: Trung bình tiết thừa/tuần/năm | AM56: =AM55/35 -> 12.142857
B57: II. TỔ NGỮ VĂN
A58: 1. Số tiết dạy môn Ngữ văn trong năm: | O58: =D37*18+W37*17 -> 3115 | T58: Tổng | X58: Tổng tiết tiêu chuẩn của giáo viên | AM58: =D45*17*35-(Z45*35) -> 3640
A59: 2. Số tiết dạy GDĐP trong năm | O59: =9*28 -> 252 | T59: =SUM(O58:S60) -> 3647 | X59: Tiết chênh lệch trong năm | AM59: =T59-AM58 -> 7
A60: 3. Số tiết chủ nhiệm, dạy HĐTNHN | O60: =P45*18+X45*17+AF45*18+AJ45*17 -> 280 | X60: Trung bình tiết thừa/tuần/năm | AM60: =AM59/35 -> 0.2
B61: III. MÔN VẬT LÝ - CÔNG NGHỆ
A62: 1. Số tiết dạy môn Vật lý trong năm học: | O62: =L37*18+AE37*17 -> 1960 | T62: Tổng | X62: Tổng tiết tiêu chuẩn của giáo viên | AM62: =D42*17*35-(AB42*35) -> 3972.5
A63: 2. Số tiết dạy Công nghệ CN trong năm | O63: =R37*18+AK37*17 -> 1260 | T63: =SUM(O62:S64) -> 3990 | X63: Tiết chênh lệch trong năm | AM63: =T63-AM62 -> 17.5
A64: 3. Số tiết chủ nhiệm, dạy HĐTNHN | O64: =P42*18+X42*17+AF42*18+AJ42*17 -> 770 | X64: Trung bình tiết thừa/tuần/HK2 | AM64: =AM63/17 -> 1.0294118
B65: IV. MÔN HÓA HỌC
A66: 1. Số tiết dạy môn Hóa học trong năm: | O66: =M37*18+AF37*17 -> 1575 | T66: Tổng | X66: Tổng tiết tiêu chuẩn của giáo viên | AM66: =(D43*17-16)*35 -> 2415
A67: 2. Số tiết dạy GDĐP trong năm | O67: 0 | T67: =SUM(O66:S68) -> 2140 | X67: Tiết chênh lệch trong năm | AM67: =T67-AM66 -> -275
A68: 3. Số tiết chủ nhiệm, dạy HĐTNHN | O68: =(L43*6+N43*4.75)*18+(R43*6+T43*4.75)*17 -> 565 | X68: Trung bình tiết thừa/tuần/năm | AM68: =AM67/35 -> -7.8571429
B69: V. MÔN SINH - CÔNG NGHỆ
A70: 1. Số tiết dạy môn Sinh học trong năm: | O70: =N37*18+AG37*17 -> 1050 | T70: Tổng | X70: Tổng tiết tiêu chuẩn của giáo viên | AM70: =(D44*17-20)*35 -> 1680
A71: 2. Số tiết dạy GDĐP trong năm | O71: =4.5*10+4.5*8 -> 81 | T71: =SUM(O70:S72) -> 1421.75 | X71: Tiết chênh lệch trong năm | AM71: =T71-AM70 -> -258.25
A72: 3. Số tiết chủ nhiệm, dạy HĐTNHN | O72: =(L44*6+N44*4.75)*18+(R44*6+T44*4.75)*17 -> 290.75 | X72: Trung bình tiết thừa/tuần/năm | AM72: =AM71/35 -> -7.3785714
B73: VI. MÔN LỊCH SỬ
A74: 1. Số tiết dạy môn Lịch sử trong năm: | O74: =I37*18+AB37*17 -> 1571 | T74: Tổng | X74: Tổng tiết tiêu chuẩn của giáo viên | AM74: =(D46*17-3)*35 -> 1680 | AP74: =32*2/17 -> 3.7647059
A75: 2. Số tiết dạy GDĐP trong năm | O75: =9*10+9*4 -> 126 | T75: =SUM(O74:S76) -> 1697 | X75: Tiết chênh lệch trong năm | AM75: =T75-AM74 -> 17
A76: 3. Số tiết chủ nhiệm, dạy HĐTNHN | X76: Trung bình tiết thừa/tuần/năm | AM76: =AM75/35 -> 0.48571429
B77: VII. MÔN GDCD-KT&PL
A78: 1. Số tiết dạy môn GDCD-KTPL trong năm: | O78: =P37*18+AI37*17 -> 770 | T78: Tổng | X78: Tổng tiết tiêu chuẩn của giáo viên | AM78: =(D47*17-1)*35+(5*15)+(4*9) -> 1266 | AP78: =AM75+AM79 -> -430
A79: 2. Số tiết dạy GDĐP trong năm | O79: =3.5*10+3.5*4 -> 49 | T79: =SUM(O78:S80) -> 819 | X79: Tiết chênh lệch trong năm | AM79: =T79-AM78 -> -447
A80: 3. Số tiết chủ nhiệm, dạy HĐTNHN | X80: Trung bình tiết thừa/tuần/năm | AM80: =AM79/35 -> -12.771429
B81: VIII. MÔN ĐỊA LÍ
A82: 1. Số tiết dạy môn Địa lí trong năm học: | O82: =O37*18+AH37*17 -> 1365 | T82: Tổng | X82: Tổng tiết tiêu chuẩn của giáo viên | AM82: =(D48*17-3)*35 -> 2275
A83: 2. Số tiết dạy GDĐP trong năm | O83: =9*10+9*8 -> 162 | T83: =SUM(O82:S84) -> 1800 | X83: Tiết chênh lệch trong năm | AM83: =T83-AM82 -> -475
A84: 3. Số tiết chủ nhiệm, dạy HĐTNHN | O84: =(L48*6+N48*4.75)*18+(R48*6+T48*4.75)*17 -> 273 | X84: Trung bình tiết thừa/tuần/năm | AM84: =AM83/35 -> -13.571429
B85: VI. MÔN NGOẠI NGỮ
A86: 1. Số tiết dạy môn Tiếng anh trong năm: | O86: =F37*18+Y37*17 -> 2940 | T86: Tổng | X86: Tổng tiết tiêu chuẩn của giáo viên | AM86: =(D49*17-3)*35 -> 3465
A87: 2. Số tiết dạy GDĐP trong năm | O87: 0 | T87: =SUM(O86:S88) -> 3332.75 | X87: Tiết chênh lệch trong năm | AM87: =T87-AM86 -> -132.25
A88: 3. Số tiết chủ nhiệm, dạy HĐTNHN | O88: =(L49*6+N49*4.75)*18+(R49*6+T49*4.75)*17 -> 392.75 | X88: Trung bình tiết thừa/tuần/năm | AM88: =AM87/35 -> -3.7785714
B89: VIII. MÔN GDTC-QPAN
A90: 1. Số tiết dạy môn GDTC trong năm học: | O90: =G37*18+Z37*17 -> 1960 | T90: Tổng | X90: Tổng tiết tiêu chuẩn của giáo viên | AM90: =(D50*17-22.85)*35-(5*7) -> 2140.25
A91: 2. Số tiết dạy QPAN trong năm | O91: =H37*18+AA37*17 -> 980 | T91: =SUM(O90:S92) -> 2940 | X91: Tiết chênh lệch trong năm | AM91: =T91-AM90 -> 799.75
A92: 3. Số tiết chủ nhiệm, dạy HĐTNHN | O92: 0 | X92: Trung bình tiết thừa/tuần/năm | AM92: =AM91/35 -> 22.85

Sheet PCCM
K1: SỞ GIÁO DỤC VÀ ĐÀO TẠO ĐẮK LẮK TRƯỜNG THPT HUYNH THUC KHÁNG | P1: PHÂN CÔNG CHUYÊN MÔN | W1: Tuần | X1: 19 | Y1: Từ | Z1: 13/01/2025
Q2: HỌC KÌ | S2: II | T2: NĂM HỌC | V2: 2024-2025
K3: MÃ GV | L3: CN | M3: MÔN | N3: LỚP DẠY | X3: KN | Y3: DẠY | Z3: T/TUẦN | AA3: THỪA | AB3: Chọn Tổ chuyên môn ->
A4: =IF(N4=0,0,VLOOKUP(N4,'T-L-K'!$B$7:$BH$36,IF(AND($M4="Văn",$S$2="I"),3,IF(AND($M4="Văn",$S$2="II"),22,IF(AND($M4="Toán",$S$2="I"),4,IF(AND($M4="Toán",$S$2="II"),23,IF(AND($M4="Anh",$S$2="I"),5,IF(AND($M4="Anh",$S$2="II"),24,IF(AND($M4="TD",$S$2="I"),6,IF(AND($M4="TD",$S$2="II"),25,IF(AND($M4="QP",$S$2="I"),7,IF(AND($M4="QP",$S$2="II"),26,IF(AND($M4="Sử",$S$2="I"),8,IF(AND($M4="Sử",$S$2="II"),27,IF(AND($M4="GDĐP",$S$2="I"),9,IF(AND($M4="GDĐP",$S$2="II"),28,IF(AND($M4="TN-HN",$S$2="I"),10,IF(AND($M4="TN-HN",$S$2="II"),29,IF(AND($M4="Lý",$S$2="I"),11,IF(AND($M4="Lý",$S$2="II"),30,IF(AND($M4="HóA",$S$2="I"),12,IF(AND($M4="HóA",$S$2="II"),31,IF(AND($M4="Sinh",$S$2="I"),13,IF(AND($M4="Sinh",$S$2="II"),32,IF(AND($M4="ĐịA",$S$2="I"),14,IF(AND($M4="ĐịA",$S$2="II"),33,IF(AND($M4="KT-PL",$S$2="I"),15,IF(AND($M4="KT-PL",$S$2="II"),34,IF(AND($M4="Tin",$S$2="I"),16,IF(AND($M4="Tin",$S$2="II"),35,IF(AND($M4="CNc",$S$2="I"),17,IF(AND($M4="CNc",$S$2="II"),36,IF(AND($M4="CNn",$S$2="I"),18,IF(AND($M4="CNn",$S$2="II"),37,IF(AND($M4="Nhạc",$S$2="I"),19,IF(AND($M4="Nhạc",$S$2="II"),38,IF(AND($M4="MT",$S$2="I"),20,IF(AND($M4="MT",$S$2="II"),39,59)))))))))))))))))))))))))))))))))))))) -> 4 | B4: =IF(O4=0,0,VLOOKUP(O4,'T-L-K'!$B$7:$BH$36,IF(AND($M4="Văn",$S$2="I"),3,IF(AND($M4="Văn",$S$2="II"),22,IF(AND($M4="Toán",$S$2="I"),4,IF(AND($M4="Toán",$S$2="II"),23,IF(AND($M4="Anh",$S$2="I"),5,IF(AND($M4="Anh",$S$2="II"),24,IF(AND($M4="TD",$S$2="I"),6,IF(AND($M4="TD",$S$2="II"),25,IF(AND($M4="QP",$S$2="I"),7,IF(AND($M4="QP",$S$2="II"),26,IF(AND($M4="Sử",$S$2="I"),8,IF(AND($M4="Sử",$S$2="II"),27,IF(AND($M4="GDĐP",$S$2="I"),9,IF(AND($M4="GDĐP",$S$2="II"),28,IF(AND($M4="TN-HN",$S$2="I"),10,IF(AND($M4="TN-HN",$S$2="II"),29,IF(AND($M4="Lý",$S$2="I"),11,IF(AND($M4="Lý",$S$2="II"),30,IF(AND($M4="HóA",$S$2="I"),12,IF(AND($M4="HóA",$S$2="II"),31,IF(AND($M4="Sinh",$S$2="I"),13,IF(AND($M4="Sinh",$S$2="II"),32,IF(AND($M4="ĐịA",$S$2="I"),14,IF(AND($M4="ĐịA",$S$2="II"),33,IF(AND($M4="KT-PL",$S$2="I"),15,IF(AND($M4="KT-PL",$S$2="II"),34,IF(AND($M4="Tin",$S$2="I"),16,IF(AND($M4="Tin",$S$2="II"),35,IF(AND($M4="CNc",$S$2="I"),17,IF(AND($M4="CNc",$S$2="II"),36,IF(AND($M4="CNn",$S$2="I"),18,IF(AND($M4="CNn",$S$2="II"),37,IF(AND($M4="Nhạc",$S$2="I"),19,IF(AND($M4="Nhạc",$S$2="II"),38,IF(AND($M4="MT",$S$2="I"),20,IF(AND($M4="MT",$S$2="II"),39,59)))))))))))))))))))))))))))))))))))))) -> 4 | C4: =IF(P4=0,0,VLOOKUP(P4,'T-L-K'!$B$7:$BH$36,IF(AND($M4="Văn",$S$2="I"),3,IF(AND($M4="Văn",$S$2="II"),22,IF(AND($M4="Toán",$S$2="I"),4,IF(AND($M4="Toán",$S$2="II"),23,IF(AND($M4="Anh",$S$2="I"),5,IF(AND($M4="Anh",$S$2="II"),24,IF(AND($M4="TD",$S$2="I"),6,IF(AND($M4="TD",$S$2="II"),25,IF(AND($M4="QP",$S$2="I"),7,IF(AND($M4="QP",$S$2="II"),26,IF(AND($M4="Sử",$S$2="I"),8,IF(AND($M4="Sử",$S$2="II"),27,IF(AND($M4="GDĐP",$S$2="I"),9,IF(AND($M4="GDĐP",$S$2="II"),28,IF(AND($M4="TN-HN",$S$2="I"),10,IF(AND($M4="TN-HN",$S$2="II"),29,IF(AND($M4="Lý",$S$2="I"),11,IF(AND($M4="Lý",$S$2="II"),30,IF(AND($M4="HóA",$S$2="I"),12,IF(AND($M4="HóA",$S$2="II"),31,IF(AND($M4="Sinh",$S$2="I"),13,IF(AND($M4="Sinh",$S$2="II"),32,IF(AND($M4="ĐịA",$S$2="I"),14,IF(AND($M4="ĐịA",$S$2="II"),33,IF(AND($M4="KT-PL",$S$2="I"),15,IF(AND($M4="KT-PL",$S$2="II"),34,IF(AND($M4="Tin",$S$2="I"),16,IF(AND($M4="Tin",$S$2="II"),35,IF(AND($M4="CNc",$S$2="I"),17,IF(AND($M4="CNc",$S$2="II"),36,IF(AND($M4="CNn",$S$2="I"),18,IF(AND($M4="CNn",$S$2="II"),37,IF(AND($M4="Nhạc",$S$2="I"),19,IF(AND($M4="Nhạc",$S$2="II"),38,IF(AND($M4="MT",$S$2="I"),20,IF(AND($M4="MT",$S$2="II"),39,59)))))))))))))))))))))))))))))))))))))) -> 4 | D4: =IF(Q4=0,0,VLOOKUP(Q4,'T-L-K'!$B$7:$BH$36,IF(AND($M4="Văn",$S$2="I"),3,IF(AND($M4="Văn",$S$2="II"),22,IF(AND($M4="Toán",$S$2="I"),4,IF(AND($M4="Toán",$S$2="II"),23,IF(AND($M4="Anh",$S$2="I"),5,IF(AND($M4="Anh",$S$2="II"),24,IF(AND($M4="TD",$S$2="I"),6,IF(AND($M4="TD",$S$2="II"),25,IF(AND($M4="QP",$S$2="I"),7,IF(AND($M4="QP",$S$2="II"),26,IF(AND($M4="Sử",$S$2="I"),8,IF(AND($M4="Sử",$S$2="II"),27,IF(AND($M4="GDĐP",$S$2="I"),9,IF(AND($M4="GDĐP",$S$2="II"),28,IF(AND($M4="TN-HN",$S$2="I"),10,IF(AND($M4="TN-HN",$S$2="II"),29,IF(AND($M4="Lý",$S$2="I"),11,IF(AND($M4="Lý",$S$2="II"),30,IF(AND($M4="HóA",$S$2="I"),12,IF(AND($M4="HóA",$S$2="II"),31,IF(AND($M4="Sinh",$S$2="I"),13,IF(AND($M4="Sinh",$S$2="II"),32,IF(AND($M4="ĐịA",$S$2="I"),14,IF(AND($M4="ĐịA",$S$2="II"),33,IF(AND($M4="KT-PL",$S$2="I"),15,IF(AND($M4="KT-PL",$S$2="II"),34,IF(AND($M4="Tin",$S$2="I"),16,IF(AND($M4="Tin",$S$2="II"),35,IF(AND($M4="CNc",$S$2="I"),17,IF(AND($M4="CNc",$S$2="II"),36,IF(AND($M4="CNn",$S$2="I"),18,IF(AND($M4="CNn",$S$2="II"),37,IF(AND($M4="Nhạc",$S$2="I"),19,IF(AND($M4="Nhạc",$S$2="II"),38,IF(AND($M4="MT",$S$2="I"),20,IF(AND($M4="MT",$S$2="II"),39,59)))))))))))))))))))))))))))))))))))))) -> 0 | E4: =IF(R4=0,0,VLOOKUP(R4,'T-L-K'!$B$7:$BH$36,IF(AND($M4="Văn",$S$2="I"),3,IF(AND($M4="Văn",$S$2="II"),22,IF(AND($M4="Toán",$S$2="I"),4,IF(AND($M4="Toán",$S$2="II"),23,IF(AND($M4="Anh",$S$2="I"),5,IF(AND($M4="Anh",$S$2="II"),24,IF(AND($M4="TD",$S$2="I"),6,IF(AND($M4="TD",$S$2="II"),25,IF(AND($M4="QP",$S$2="I"),7,IF(AND($M4="QP",$S$2="II"),26,IF(AND($M4="Sử",$S$2="I"),8,IF(AND($M4="Sử",$S$2="II"),27,IF(AND($M4="GDĐP",$S$2="I"),9,IF(AND($M4="GDĐP",$S$2="II"),28,IF(AND($M4="TN-HN",$S$2="I"),10,IF(AND($M4="TN-HN",$S$2="II"),29,IF(AND($M4="Lý",$S$2="I"),11,IF(AND($M4="Lý",$S$2="II"),30,IF(AND($M4="HóA",$S$2="I"),12,IF(AND($M4="HóA",$S$2="II"),31,IF(AND($M4="Sinh",$S$2="I"),13,IF(AND($M4="Sinh",$S$2="II"),32,IF(AND($M4="ĐịA",$S$2="I"),14,IF(AND($M4="ĐịA",$S$2="II"),33,IF(AND($M4="KT-PL",$S$2="I"),15,IF(AND($M4="KT-PL",$S$2="II"),34,IF(AND($M4="Tin",$S$2="I"),16,IF(AND($M4="Tin",$S$2="II"),35,IF(AND($M4="CNc",$S$2="I"),17,IF(AND($M4="CNc",$S$2="II"),36,IF(AND($M4="CNn",$S$2="I"),18,IF(AND($M4="CNn",$S$2="II"),37,IF(AND($M4="Nhạc",$S$2="I"),19,IF(AND($M4="Nhạc",$S$2="II"),38,IF(AND($M4="MT",$S$2="I"),20,IF(AND($M4="MT",$S$2="II"),39,59)))))))))))))))))))))))))))))))))))))) -> 0 | F4: =IF(S4=0,0,VLOOKUP(S4,'T-L-K'!$B$7:$BH$36,IF(AND($M4="Văn",$S$2="I"),3,IF(AND($M4="Văn",$S$2="II"),22,IF(AND($M4="Toán",$S$2="I"),4,IF(AND($M4="Toán",$S$2="II"),23,IF(AND($M4="Anh",$S$2="I"),5,IF(AND($M4="Anh",$S$2="II"),24,IF(AND($M4="TD",$S$2="I"),6,IF(AND($M4="TD",$S$2="II"),25,IF(AND($M4="QP",$S$2="I"),7,IF(AND($M4="QP",$S$2="II"),26,IF(AND($M4="Sử",$S$2="I"),8,IF(AND($M4="Sử",$S$2="II"),27,IF(AND($M4="GDĐP",$S$2="I"),9,IF(AND($M4="GDĐP",$S$2="II"),28,IF(AND($M4="TN-HN",$S$2="I"),10,IF(AND($M4="TN-HN",$S$2="II"),29,IF(AND($M4="Lý",$S$2="I"),11,IF(AND($M4="Lý",$S$2="II"),30,IF(AND($M4="HóA",$S$2="I"),12,IF(AND($M4="HóA",$S$2="II"),31,IF(AND($M4="Sinh",$S$2="I"),13,IF(AND($M4="Sinh",$S$2="II"),32,IF(AND($M4="ĐịA",$S$2="I"),14,IF(AND($M4="ĐịA",$S$2="II"),33,IF(AND($M4="KT-PL",$S$2="I"),15,IF(AND($M4="KT-PL",$S$2="II"),34,IF(AND($M4="Tin",$S$2="I"),16,IF(AND($M4="Tin",$S$2="II"),35,IF(AND($M4="CNc",$S$2="I"),17,IF(AND($M4="CNc",$S$2="II"),36,IF(AND($M4="CNn",$S$2="I"),18,IF(AND($M4="CNn",$S$2="II"),37,IF(AND($M4="Nhạc",$S$2="I"),19,IF(AND($M4="Nhạc",$S$2="II"),38,IF(AND($M4="MT",$S$2="I"),20,IF(AND($M4="MT",$S$2="II"),39,59)))))))))))))))))))))))))))))))))))))) -> 0 | G4: =IF(T4=0,0,VLOOKUP(T4,'T-L-K'!$B$7:$BH$36,IF(AND($M4="Văn",$S$2="I"),3,IF(AND($M4="Văn",$S$2="II"),22,IF(AND($M4="Toán",$S$2="I"),4,IF(AND($M4="Toán",$S$2="II"),23,IF(AND($M4="Anh",$S$2="I"),5,IF(AND($M4="Anh",$S$2="II"),24,IF(AND($M4="TD",$S$2="I"),6,IF(AND($M4="TD",$S$2="II"),25,IF(AND($M4="QP",$S$2="I"),7,IF(AND($M4="QP",$S$2="II"),26,IF(AND($M4="Sử",$S$2="I"),8,IF(AND($M4="Sử",$S$2="II"),27,IF(AND($M4="GDĐP",$S$2="I"),9,IF(AND($M4="GDĐP",$S$2="II"),28,IF(AND($M4="TN-HN",$S$2="I"),10,IF(AND($M4="TN-HN",$S$2="II"),29,IF(AND($M4="Lý",$S$2="I"),11,IF(AND($M4="Lý",$S$2="II"),30,IF(AND($M4="HóA",$S$2="I"),12,IF(AND($M4="HóA",$S$2="II"),31,IF(AND($M4="Sinh",$S$2="I"),13,IF(AND($M4="Sinh",$S$2="II"),32,IF(AND($M4="ĐịA",$S$2="I"),14,IF(AND($M4="ĐịA",$S$2="II"),33,IF(AND($M4="KT-PL",$S$2="I"),15,IF(AND($M4="KT-PL",$S$2="II"),34,IF(AND($M4="Tin",$S$2="I"),16,IF(AND($M4="Tin",$S$2="II"),35,IF(AND($M4="CNc",$S$2="I"),17,IF(AND($M4="CNc",$S$2="II"),36,IF(AND($M4="CNn",$S$2="I"),18,IF(AND($M4="CNn",$S$2="II"),37,IF(AND($M4="Nhạc",$S$2="I"),19,IF(AND($M4="Nhạc",$S$2="II"),38,IF(AND($M4="MT",$S$2="I"),20,IF(AND($M4="MT",$S$2="II"),39,59)))))))))))))))))))))))))))))))))))))) -> 0 | H4: =IF(U4=0,0,VLOOKUP(U4,'T-L-K'!$B$7:$BH$36,IF(AND($M4="Văn",$S$2="I"),3,IF(AND($M4="Văn",$S$2="II"),22,IF(AND($M4="Toán",$S$2="I"),4,IF(AND($M4="Toán",$S$2="II"),23,IF(AND($M4="Anh",$S$2="I"),5,IF(AND($M4="Anh",$S$2="II"),24,IF(AND($M4="TD",$S$2="I"),6,IF(AND($M4="TD",$S$2="II"),25,IF(AND($M4="QP",$S$2="I"),7,IF(AND($M4="QP",$S$2="II"),26,IF(AND($M4="Sử",$S$2="I"),8,IF(AND($M4="Sử",$S$2="II"),27,IF(AND($M4="GDĐP",$S$2="I"),9,IF(AND($M4="GDĐP",$S$2="II"),28,IF(AND($M4="TN-HN",$S$2="I"),10,IF(AND($M4="TN-HN",$S$2="II"),29,IF(AND($M4="Lý",$S$2="I"),11,IF(AND($M4="Lý",$S$2="II"),30,IF(AND($M4="HóA",$S$2="I"),12,IF(AND($M4="HóA",$S$2="II"),31,IF(AND($M4="Sinh",$S$2="I"),13,IF(AND($M4="Sinh",$S$2="II"),32,IF(AND($M4="ĐịA",$S$2="I"),14,IF(AND($M4="ĐịA",$S$2="II"),33,IF(AND($M4="KT-PL",$S$2="I"),15,IF(AND($M4="KT-PL",$S$2="II"),34,IF(AND($M4="Tin",$S$2="I"),16,IF(AND($M4="Tin",$S$2="II"),35,IF(AND($M4="CNc",$S$2="I"),17,IF(AND($M4="CNc",$S$2="II"),36,IF(AND($M4="CNn",$S$2="I"),18,IF(AND($M4="CNn",$S$2="II"),37,IF(AND($M4="Nhạc",$S$2="I"),19,IF(AND($M4="Nhạc",$S$2="II"),38,IF(AND($M4="MT",$S$2="I"),20,IF(AND($M4="MT",$S$2="II"),39,59)))))))))))))))))))))))))))))))))))))) -> 0 | ... J4: =IF(W4=0,0,VLOOKUP(W4,'T-L-K'!$B$7:$BH$36,IF(AND($M4="Văn",$S$2="I"),3,IF(AND($M4="Văn",$S$2="II"),22,IF(AND($M4="Toán",$S$2="I"),4,IF(AND($M4="Toán",$S$2="II"),23,IF(AND($M4="Anh",$S$2="I"),5,IF(AND($M4="Anh",$S$2="II"),24,IF(AND($M4="TD",$S$2="I"),6,IF(AND($M4="TD",$S$2="II"),25,IF(AND($M4="QP",$S$2="I"),7,IF(AND($M4="QP",$S$2="II"),26,IF(AND($M4="Sử",$S$2="I"),8,IF(AND($M4="Sử",$S$2="II"),27,IF(AND($M4="GDĐP",$S$2="I"),9,IF(AND($M4="GDĐP",$S$2="II"),28,IF(AND($M4="TN-HN",$S$2="I"),10,IF(AND($M4="TN-HN",$S$2="II"),29,IF(AND($M4="Lý",$S$2="I"),11,IF(AND($M4="Lý",$S$2="II"),30,IF(AND($M4="HóA",$S$2="I"),12,IF(AND($M4="HóA",$S$2="II"),31,IF(AND($M4="Sinh",$S$2="I"),13,IF(AND($M4="Sinh",$S$2="II"),32,IF(AND($M4="ĐịA",$S$2="I"),14,IF(AND($M4="ĐịA",$S$2="II"),33,IF(AND($M4="KT-PL",$S$2="I"),15,IF(AND($M4="KT-PL",$S$2="II"),34,IF(AND($M4="Tin",$S$2="I"),16,IF(AND($M4="Tin",$S$2="II"),35,IF(AND($M4="CNc",$S$2="I"),17,IF(AND($M4="CNc",$S$2="II"),36,IF(AND($M4="CNn",$S$2="I"),18,IF(AND($M4="CNn",$S$2="II"),37,IF(AND($M4="Nhạc",$S$2="I"),19,IF(AND($M4="Nhạc",$S$2="II"),38,IF(AND($M4="MT",$S$2="I"),20,IF(AND($M4="MT",$S$2="II"),39,59)))))))))))))))))))))))))))))))))))))) -> 0 | K4: T2 | L4: =IF(K4=0,0,VLOOKUP(K4,CBGV!$B$4:$M$69,12,0)) -> 10A3 | M4: Toán | N4: 12A5 | O4: 12A8 | P4: 10A3 | X4: =IF(K4=0,0,VLOOKUP(K4,CBGV!$B$4:$P$69,14,0))+IF(L4=0,0,VLOOKUP(L4,'T-L-K'!$B$7:$BH$36,2,0)) -> 5 | Y4: =SUM(A4:J6) -> 13 | Z4: =SUM(A4:J6)+X4 -> 18 | AA4: =IF((Z4-(VLOOKUP(K4,CBGV!$B$4:$P$69,13,0)))<=-14,"/",(Z4-(VLOOKUP(K4,CBGV!$B$4:$P$69,13,0)))) -> 1 | AB4: Toán - Tin
A5: =IF(N5=0,0,VLOOKUP(N5,'T-L-K'!$B$7:$BH$36,IF(AND($M5="Văn",$S$2="I"),3,IF(AND($M5="Văn",$S$2="II"),22,IF(AND($M5="Toán",$S$2="I"),4,IF(AND($M5="Toán",$S$2="II"),23,IF(AND($M5="Anh",$S$2="I"),5,IF(AND($M5="Anh",$S$2="II"),24,IF(AND($M5="TD",$S$2="I"),6,IF(AND($M5="TD",$S$2="II"),25,IF(AND($M5="QP",$S$2="I"),7,IF(AND($M5="QP",$S$2="II"),26,IF(AND($M5="Sử",$S$2="I"),8,IF(AND($M5="Sử",$S$2="II"),27,IF(AND($M5="GDĐP",$S$2="I"),9,IF(AND($M5="GDĐP",$S$2="II"),28,IF(AND($M5="TN-HN",$S$2="I"),10,IF(AND($M5="TN-HN",$S$2="II"),29,IF(AND($M5="Lý",$S$2="I"),11,IF(AND($M5="Lý",$S$2="II"),30,IF(AND($M5="HóA",$S$2="I"),12,IF(AND($M5="HóA",$S$2="II"),31,IF(AND($M5="Sinh",$S$2="I"),13,IF(AND($M5="Sinh",$S$2="II"),32,IF(AND($M5="ĐịA",$S$2="I"),14,IF(AND($M5="ĐịA",$S$2="II"),33,IF(AND($M5="KT-PL",$S$2="I"),15,IF(AND($M5="KT-PL",$S$2="II"),34,IF(AND($M5="Tin",$S$2="I"),16,IF(AND($M5="Tin",$S$2="II"),35,IF(AND($M5="CNc",$S$2="I"),17,IF(AND($M5="CNc",$S$2="II"),36,IF(AND($M5="CNn",$S$2="I"),18,IF(AND($M5="CNn",$S$2="II"),37,IF(AND($M5="Nhạc",$S$2="I"),19,IF(AND($M5="Nhạc",$S$2="II"),38,IF(AND($M5="MT",$S$2="I"),20,IF(AND($M5="MT",$S$2="II"),39,59)))))))))))))))))))))))))))))))))))))) -> 0 | B5: =IF(O5=0,0,VLOOKUP(O5,'T-L-K'!$B$7:$BH$36,IF(AND($M5="Văn",$S$2="I"),3,IF(AND($M5="Văn",$S$2="II"),22,IF(AND($M5="Toán",$S$2="I"),4,IF(AND($M5="Toán",$S$2="II"),23,IF(AND($M5="Anh",$S$2="I"),5,IF(AND($M5="Anh",$S$2="II"),24,IF(AND($M5="TD",$S$2="I"),6,IF(AND($M5="TD",$S$2="II"),25,IF(AND($M5="QP",$S$2="I"),7,IF(AND($M5="QP",$S$2="II"),26,IF(AND($M5="Sử",$S$2="I"),8,IF(AND($M5="Sử",$S$2="II"),27,IF(AND($M5="GDĐP",$S$2="I"),9,IF(AND($M5="GDĐP",$S$2="II"),28,IF(AND($M5="TN-HN",$S$2="I"),10,IF(AND($M5="TN-HN",$S$2="II"),29,IF(AND($M5="Lý",$S$2="I"),11,IF(AND($M5="Lý",$S$2="II"),30,IF(AND($M5="HóA",$S$2="I"),12,IF(AND($M5="HóA",$S$2="II"),31,IF(AND($M5="Sinh",$S$2="I"),13,IF(AND($M5="Sinh",$S$2="II"),32,IF(AND($M5="ĐịA",$S$2="I"),14,IF(AND($M5="ĐịA",$S$2="II"),33,IF(AND($M5="KT-PL",$S$2="I"),15,IF(AND($M5="KT-PL",$S$2="II"),34,IF(AND($M5="Tin",$S$2="I"),16,IF(AND($M5="Tin",$S$2="II"),35,IF(AND($M5="CNc",$S$2="I"),17,IF(AND($M5="CNc",$S$2="II"),36,IF(AND($M5="CNn",$S$2="I"),18,IF(AND($M5="CNn",$S$2="II"),37,IF(AND($M5="Nhạc",$S$2="I"),19,IF(AND($M5="Nhạc",$S$2="II"),38,IF(AND($M5="MT",$S$2="I"),20,IF(AND($M5="MT",$S$2="II"),39,59)))))))))))))))))))))))))))))))))))))) -> 0 | C5: =IF(P5=0,0,VLOOKUP(P5,'T-L-K'!$B$7:$BH$36,IF(AND($M5="Văn",$S$2="I"),3,IF(AND($M5="Văn",$S$2="II"),22,IF(AND($M5="Toán",$S$2="I"),4,IF(AND($M5="Toán",$S$2="II"),23,IF(AND($M5="Anh",$S$2="I"),5,IF(AND($M5="Anh",$S$2="II"),24,IF(AND($M5="TD",$S$2="I"),6,IF(AND($M5="TD",$S$2="II"),25,IF(AND($M5="QP",$S$2="I"),7,IF(AND($M5="QP",$S$2="II"),26,IF(AND($M5="Sử",$S$2="I"),8,IF(AND($M5="Sử",$S$2="II"),27,IF(AND($M5="GDĐP",$S$2="I"),9,IF(AND($M5="GDĐP",$S$2="II"),28,IF(AND($M5="TN-HN",$S$2="I"),10,IF(AND($M5="TN-HN",$S$2="II"),29,IF(AND($M5="Lý",$S$2="I"),11,IF(AND($M5="Lý",$S$2="II"),30,IF(AND($M5="HóA",$S$2="I"),12,IF(AND($M5="HóA",$S$2="II"),31,IF(AND($M5="Sinh",$S$2="I"),13,IF(AND($M5="Sinh",$S$2="II"),32,IF(AND($M5="ĐịA",$S$2="I"),14,IF(AND($M5="ĐịA",$S$2="II"),33,IF(AND($M5="KT-PL",$S$2="I"),15,IF(AND($M5="KT-PL",$S$2="II"),34,IF(AND($M5="Tin",$S$2="I"),16,IF(AND($M5="Tin",$S$2="II"),35,IF(AND($M5="CNc",$S$2="I"),17,IF(AND($M5="CNc",$S$2="II"),36,IF(AND($M5="CNn",$S$2="I"),18,IF(AND($M5="CNn",$S$2="II"),37,IF(AND($M5="Nhạc",$S$2="I"),19,IF(AND($M5="Nhạc",$S$2="II"),38,IF(AND($M5="MT",$S$2="I"),20,IF(AND($M5="MT",$S$2="II"),39,59)))))))))))))))))))))))))))))))))))))) -> 0 | D5: =IF(Q5=0,0,VLOOKUP(Q5,'T-L-K'!$B$7:$BH$36,IF(AND($M5="Văn",$S$2="I"),3,IF(AND($M5="Văn",$S$2="II"),22,IF(AND($M5="Toán",$S$2="I"),4,IF(AND($M5="Toán",$S$2="II"),23,IF(AND($M5="Anh",$S$2="I"),5,IF(AND($M5="Anh",$S$2="II"),24,IF(AND($M5="TD",$S$2="I"),6,IF(AND($M5="TD",$S$2="II"),25,IF(AND($M5="QP",$S$2="I"),7,IF(AND($M5="QP",$S$2="II"),26,IF(AND($M5="Sử",$S$2="I"),8,IF(AND($M5="Sử",$S$2="II"),27,IF(AND($M5="GDĐP",$S$2="I"),9,IF(AND($M5="GDĐP",$S$2="II"),28,IF(AND($M5="TN-HN",$S$2="I"),10,IF(AND($M5="TN-HN",$S$2="II"),29,IF(AND($M5="Lý",$S$2="I"),11,IF(AND($M5="Lý",$S$2="II"),30,IF(AND($M5="HóA",$S$2="I"),12,IF(AND($M5="HóA",$S$2="II"),31,IF(AND($M5="Sinh",$S$2="I"),13,IF(AND($M5="Sinh",$S$2="II"),32,IF(AND($M5="ĐịA",$S$2="I"),14,IF(AND($M5="ĐịA",$S$2="II"),33,IF(AND($M5="KT-PL",$S$2="I"),15,IF(AND($M5="KT-PL",$S$2="II"),34,IF(AND($M5="Tin",$S$2="I"),16,IF(AND($M5="Tin",$S$2="II"),35,IF(AND($M5="CNc",$S$2="I"),17,IF(AND($M5="CNc",$S$2="II"),36,IF(AND($M5="CNn",$S$2="I"),18,IF(AND($M5="CNn",$S$2="II"),37,IF(AND($M5="Nhạc",$S$2="I"),19,IF(AND($M5="Nhạc",$S$2="II"),38,IF(AND($M5="MT",$S$2="I"),20,IF(AND($M5="MT",$S$2="II"),39,59)))))))))))))))))))))))))))))))))))))) -> 0 | E5: =IF(R5=0,0,VLOOKUP(R5,'T-L-K'!$B$7:$BH$36,IF(AND($M5="Văn",$S$2="I"),3,IF(AND($M5="Văn",$S$2="II"),22,IF(AND($M5="Toán",$S$2="I"),4,IF(AND($M5="Toán",$S$2="II"),23,IF(AND($M5="Anh",$S$2="I"),5,IF(AND($M5="Anh",$S$2="II"),24,IF(AND($M5="TD",$S$2="I"),6,IF(AND($M5="TD",$S$2="II"),25,IF(AND($M5="QP",$S$2="I"),7,IF(AND($M5="QP",$S$2="II"),26,IF(AND($M5="Sử",$S$2="I"),8,IF(AND($M5="Sử",$S$2="II"),27,IF(AND($M5="GDĐP",$S$2="I"),9,IF(AND($M5="GDĐP",$S$2="II"),28,IF(AND($M5="TN-HN",$S$2="I"),10,IF(AND($M5="TN-HN",$S$2="II"),29,IF(AND($M5="Lý",$S$2="I"),11,IF(AND($M5="Lý",$S$2="II"),30,IF(AND($M5="HóA",$S$2="I"),12,IF(AND($M5="HóA",$S$2="II"),31,IF(AND($M5="Sinh",$S$2="I"),13,IF(AND($M5="Sinh",$S$2="II"),32,IF(AND($M5="ĐịA",$S$2="I"),14,IF(AND($M5="ĐịA",$S$2="II"),33,IF(AND($M5="KT-PL",$S$2="I"),15,IF(AND($M5="KT-PL",$S$2="II"),34,IF(AND($M5="Tin",$S$2="I"),16,IF(AND($M5="Tin",$S$2="II"),35,IF(AND($M5="CNc",$S$2="I"),17,IF(AND($M5="CNc",$S$2="II"),36,IF(AND($M5="CNn",$S$2="I"),18,IF(AND($M5="CNn",$S$2="II"),37,IF(AND($M5="Nhạc",$S$2="I"),19,IF(AND($M5="Nhạc",$S$2="II"),38,IF(AND($M5="MT",$S$2="I"),20,IF(AND($M5="MT",$S$2="II"),39,59)))))))))))))))))))))))))))))))))))))) -> 0 | F5: =IF(S5=0,0,VLOOKUP(S5,'T-L-K'!$B$7:$BH$36,IF(AND($M5="Văn",$S$2="I"),3,IF(AND($M5="Văn",$S$2="II"),22,IF(AND($M5="Toán",$S$2="I"),4,IF(AND($M5="Toán",$S$2="II"),23,IF(AND($M5="Anh",$S$2="I"),5,IF(AND($M5="Anh",$S$2="II"),24,IF(AND($M5="TD",$S$2="I"),6,IF(AND($M5="TD",$S$2="II"),25,IF(AND($M5="QP",$S$2="I"),7,IF(AND($M5="QP",$S$2="II"),26,IF(AND($M5="Sử",$S$2="I"),8,IF(AND($M5="Sử",$S$2="II"),27,IF(AND($M5="GDĐP",$S$2="I"),9,IF(AND($M5="GDĐP",$S$2="II"),28,IF(AND($M5="TN-HN",$S$2="I"),10,IF(AND($M5="TN-HN",$S$2="II"),29,IF(AND($M5="Lý",$S$2="I"),11,IF(AND($M5="Lý",$S$2="II"),30,IF(AND($M5="HóA",$S$2="I"),12,IF(AND($M5="HóA",$S$2="II"),31,IF(AND($M5="Sinh",$S$2="I"),13,IF(AND($M5="Sinh",$S$2="II"),32,IF(AND($M5="ĐịA",$S$2="I"),14,IF(AND($M5="ĐịA",$S$2="II"),33,IF(AND($M5="KT-PL",$S$2="I"),15,IF(AND($M5="KT-PL",$S$2="II"),34,IF(AND($M5="Tin",$S$2="I"),16,IF(AND($M5="Tin",$S$2="II"),35,IF(AND($M5="CNc",$S$2="I"),17,IF(AND($M5="CNc",$S$2="II"),36,IF(AND($M5="CNn",$S$2="I"),18,IF(AND($M5="CNn",$S$2="II"),37,IF(AND($M5="Nhạc",$S$2="I"),19,IF(AND($M5="Nhạc",$S$2="II"),38,IF(AND($M5="MT",$S$2="I"),20,IF(AND($M5="MT",$S$2="II"),39,59)))))))))))))))))))))))))))))))))))))) -> 0 | G5: =IF(T5=0,0,VLOOKUP(T5,'T-L-K'!$B$7:$BH$36,IF(AND($M5="Văn",$S$2="I"),3,IF(AND($M5="Văn",$S$2="II"),22,IF(AND($M5="Toán",$S$2="I"),4,IF(AND($M5="Toán",$S$2="II"),23,IF(AND($M5="Anh",$S$2="I"),5,IF(AND($M5="Anh",$S$2="II"),24,IF(AND($M5="TD",$S$2="I"),6,IF(AND($M5="TD",$S$2="II"),25,IF(AND($M5="QP",$S$2="I"),7,IF(AND($M5="QP",$S$2="II"),26,IF(AND($M5="Sử",$S$2="I"),8,IF(AND($M5="Sử",$S$2="II"),27,IF(AND($M5="GDĐP",$S$2="I"),9,IF(AND($M5="GDĐP",$S$2="II"),28,IF(AND($M5="TN-HN",$S$2="I"),10,IF(AND($M5="TN-HN",$S$2="II"),29,IF(AND($M5="Lý",$S$2="I"),11,IF(AND($M5="Lý",$S$2="II"),30,IF(AND($M5="HóA",$S$2="I"),12,IF(AND($M5="HóA",$S$2="II"),31,IF(AND($M5="Sinh",$S$2="I"),13,IF(AND($M5="Sinh",$S$2="II"),32,IF(AND($M5="ĐịA",$S$2="I"),14,IF(AND($M5="ĐịA",$S$2="II"),33,IF(AND($M5="KT-PL",$S$2="I"),15,IF(AND($M5="KT-PL",$S$2="II"),34,IF(AND($M5="Tin",$S$2="I"),16,IF(AND($M5="Tin",$S$2="II"),35,IF(AND($M5="CNc",$S$2="I"),17,IF(AND($M5="CNc",$S$2="II"),36,IF(AND($M5="CNn",$S$2="I"),18,IF(AND($M5="CNn",$S$2="II"),37,IF(AND($M5="Nhạc",$S$2="I"),19,IF(AND($M5="Nhạc",$S$2="II"),38,IF(AND($M5="MT",$S$2="I"),20,IF(AND($M5="MT",$S$2="II"),39,59)))))))))))))))))))))))))))))))))))))) -> 0 | H5: =IF(U5=0,0,VLOOKUP(U5,'T-L-K'!$B$7:$BH$36,IF(AND($M5="Văn",$S$2="I"),3,IF(AND($M5="Văn",$S$2="II"),22,IF(AND($M5="Toán",$S$2="I"),4,IF(AND($M5="Toán",$S$2="II"),23,IF(AND($M5="Anh",$S$2="I"),5,IF(AND($M5="Anh",$S$2="II"),24,IF(AND($M5="TD",$S$2="I"),6,IF(AND($M5="TD",$S$2="II"),25,IF(AND($M5="QP",$S$2="I"),7,IF(AND($M5="QP",$S$2="II"),26,IF(AND($M5="Sử",$S$2="I"),8,IF(AND($M5="Sử",$S$2="II"),27,IF(AND($M5="GDĐP",$S$2="I"),9,IF(AND($M5="GDĐP",$S$2="II"),28,IF(AND($M5="TN-HN",$S$2="I"),10,IF(AND($M5="TN-HN",$S$2="II"),29,IF(AND($M5="Lý",$S$2="I"),11,IF(AND($M5="Lý",$S$2="II"),30,IF(AND($M5="HóA",$S$2="I"),12,IF(AND($M5="HóA",$S$2="II"),31,IF(AND($M5="Sinh",$S$2="I"),13,IF(AND($M5="Sinh",$S$2="II"),32,IF(AND($M5="ĐịA",$S$2="I"),14,IF(AND($M5="ĐịA",$S$2="II"),33,IF(AND($M5="KT-PL",$S$2="I"),15,IF(AND($M5="KT-PL",$S$2="II"),34,IF(AND($M5="Tin",$S$2="I"),16,IF(AND($M5="Tin",$S$2="II"),35,IF(AND($M5="CNc",$S$2="I"),17,IF(AND($M5="CNc",$S$2="II"),36,IF(AND($M5="CNn",$S$2="I"),18,IF(AND($M5="CNn",$S$2="II"),37,IF(AND($M5="Nhạc",$S$2="I"),19,IF(AND($M5="Nhạc",$S$2="II"),38,IF(AND($M5="MT",$S$2="I"),20,IF(AND($M5="MT",$S$2="II"),39,59)))))))))))))))))))))))))))))))))))))) -> 0 | ... J5: =IF(W5=0,0,VLOOKUP(W5,'T-L-K'!$B$7:$BH$36,IF(AND($M5="Văn",$S$2="I"),3,IF(AND($M5="Văn",$S$2="II"),22,IF(AND($M5="Toán",$S$2="I"),4,IF(AND($M5="Toán",$S$2="II"),23,IF(AND($M5="Anh",$S$2="I"),5,IF(AND($M5="Anh",$S$2="II"),24,IF(AND($M5="TD",$S$2="I"),6,IF(AND($M5="TD",$S$2="II"),25,IF(AND($M5="QP",$S$2="I"),7,IF(AND($M5="QP",$S$2="II"),26,IF(AND($M5="Sử",$S$2="I"),8,IF(AND($M5="Sử",$S$2="II"),27,IF(AND($M5="GDĐP",$S$2="I"),9,IF(AND($M5="GDĐP",$S$2="II"),28,IF(AND($M5="TN-HN",$S$2="I"),10,IF(AND($M5="TN-HN",$S$2="II"),29,IF(AND($M5="Lý",$S$2="I"),11,IF(AND($M5="Lý",$S$2="II"),30,IF(AND($M5="HóA",$S$2="I"),12,IF(AND($M5="HóA",$S$2="II"),31,IF(AND($M5="Sinh",$S$2="I"),13,IF(AND($M5="Sinh",$S$2="II"),32,IF(AND($M5="ĐịA",$S$2="I"),14,IF(AND($M5="ĐịA",$S$2="II"),33,IF(AND($M5="KT-PL",$S$2="I"),15,IF(AND($M5="KT-PL",$S$2="II"),34,IF(AND($M5="Tin",$S$2="I"),16,IF(AND($M5="Tin",$S$2="II"),35,IF(AND($M5="CNc",$S$2="I"),17,IF(AND($M5="CNc",$S$2="II"),36,IF(AND($M5="CNn",$S$2="I"),18,IF(AND($M5="CNn",$S$2="II"),37,IF(AND($M5="Nhạc",$S$2="I"),19,IF(AND($M5="Nhạc",$S$2="II"),38,IF(AND($M5="MT",$S$2="I"),20,IF(AND($M5="MT",$S$2="II"),39,59)))))))))))))))))))))))))))))))))))))) -> 0 | M5: Toán | AB5: Toán - Tin
A6: =IF(N6=0,0,VLOOKUP(N6,'T-L-K'!$B$7:$BH$36,IF(AND($M6="Văn",$S$2="I"),3,IF(AND($M6="Văn",$S$2="II"),22,IF(AND($M6="Toán",$S$2="I"),4,IF(AND($M6="Toán",$S$2="II"),23,IF(AND($M6="Anh",$S$2="I"),5,IF(AND($M6="Anh",$S$2="II"),24,IF(AND($M6="TD",$S$2="I"),6,IF(AND($M6="TD",$S$2="II"),25,IF(AND($M6="QP",$S$2="I"),7,IF(AND($M6="QP",$S$2="II"),26,IF(AND($M6="Sử",$S$2="I"),8,IF(AND($M6="Sử",$S$2="II"),27,IF(AND($M6="GDĐP",$S$2="I"),9,IF(AND($M6="GDĐP",$S$2="II"),28,IF(AND($M6="TN-HN",$S$2="I"),10,IF(AND($M6="TN-HN",$S$2="II"),29,IF(AND($M6="Lý",$S$2="I"),11,IF(AND($M6="Lý",$S$2="II"),30,IF(AND($M6="HóA",$S$2="I"),12,IF(AND($M6="HóA",$S$2="II"),31,IF(AND($M6="Sinh",$S$2="I"),13,IF(AND($M6="Sinh",$S$2="II"),32,IF(AND($M6="ĐịA",$S$2="I"),14,IF(AND($M6="ĐịA",$S$2="II"),33,IF(AND($M6="KT-PL",$S$2="I"),15,IF(AND($M6="KT-PL",$S$2="II"),34,IF(AND($M6="Tin",$S$2="I"),16,IF(AND($M6="Tin",$S$2="II"),35,IF(AND($M6="CNc",$S$2="I"),17,IF(AND($M6="CNc",$S$2="II"),36,IF(AND($M6="CNn",$S$2="I"),18,IF(AND($M6="CNn",$S$2="II"),37,IF(AND($M6="Nhạc",$S$2="I"),19,IF(AND($M6="Nhạc",$S$2="II"),38,IF(AND($M6="MT",$S$2="I"),20,IF(AND($M6="MT",$S$2="II"),39,59)))))))))))))))))))))))))))))))))))))) -> 1 | B6: =IF(O6=0,0,VLOOKUP(O6,'T-L-K'!$B$7:$BH$36,IF(AND($M6="Văn",$S$2="I"),3,IF(AND($M6="Văn",$S$2="II"),22,IF(AND($M6="Toán",$S$2="I"),4,IF(AND($M6="Toán",$S$2="II"),23,IF(AND($M6="Anh",$S$2="I"),5,IF(AND($M6="Anh",$S$2="II"),24,IF(AND($M6="TD",$S$2="I"),6,IF(AND($M6="TD",$S$2="II"),25,IF(AND($M6="QP",$S$2="I"),7,IF(AND($M6="QP",$S$2="II"),26,IF(AND($M6="Sử",$S$2="I"),8,IF(AND($M6="Sử",$S$2="II"),27,IF(AND($M6="GDĐP",$S$2="I"),9,IF(AND($M6="GDĐP",$S$2="II"),28,IF(AND($M6="TN-HN",$S$2="I"),10,IF(AND($M6="TN-HN",$S$2="II"),29,IF(AND($M6="Lý",$S$2="I"),11,IF(AND($M6="Lý",$S$2="II"),30,IF(AND($M6="HóA",$S$2="I"),12,IF(AND($M6="HóA",$S$2="II"),31,IF(AND($M6="Sinh",$S$2="I"),13,IF(AND($M6="Sinh",$S$2="II"),32,IF(AND($M6="ĐịA",$S$2="I"),14,IF(AND($M6="ĐịA",$S$2="II"),33,IF(AND($M6="KT-PL",$S$2="I"),15,IF(AND($M6="KT-PL",$S$2="II"),34,IF(AND($M6="Tin",$S$2="I"),16,IF(AND($M6="Tin",$S$2="II"),35,IF(AND($M6="CNc",$S$2="I"),17,IF(AND($M6="CNc",$S$2="II"),36,IF(AND($M6="CNn",$S$2="I"),18,IF(AND($M6="CNn",$S$2="II"),37,IF(AND($M6="Nhạc",$S$2="I"),19,IF(AND($M6="Nhạc",$S$2="II"),38,IF(AND($M6="MT",$S$2="I"),20,IF(AND($M6="MT",$S$2="II"),39,59)))))))))))))))))))))))))))))))))))))) -> 0 | C6: =IF(P6=0,0,VLOOKUP(P6,'T-L-K'!$B$7:$BH$36,IF(AND($M6="Văn",$S$2="I"),3,IF(AND($M6="Văn",$S$2="II"),22,IF(AND($M6="Toán",$S$2="I"),4,IF(AND($M6="Toán",$S$2="II"),23,IF(AND($M6="Anh",$S$2="I"),5,IF(AND($M6="Anh",$S$2="II"),24,IF(AND($M6="TD",$S$2="I"),6,IF(AND($M6="TD",$S$2="II"),25,IF(AND($M6="QP",$S$2="I"),7,IF(AND($M6="QP",$S$2="II"),26,IF(AND($M6="Sử",$S$2="I"),8,IF(AND($M6="Sử",$S$2="II"),27,IF(AND($M6="GDĐP",$S$2="I"),9,IF(AND($M6="GDĐP",$S$2="II"),28,IF(AND($M6="TN-HN",$S$2="I"),10,IF(AND($M6="TN-HN",$S$2="II"),29,IF(AND($M6="Lý",$S$2="I"),11,IF(AND($M6="Lý",$S$2="II"),30,IF(AND($M6="HóA",$S$2="I"),12,IF(AND($M6="HóA",$S$2="II"),31,IF(AND($M6="Sinh",$S$2="I"),13,IF(AND($M6="Sinh",$S$2="II"),32,IF(AND($M6="ĐịA",$S$2="I"),14,IF(AND($M6="ĐịA",$S$2="II"),33,IF(AND($M6="KT-PL",$S$2="I"),15,IF(AND($M6="KT-PL",$S$2="II"),34,IF(AND($M6="Tin",$S$2="I"),16,IF(AND($M6="Tin",$S$2="II"),35,IF(AND($M6="CNc",$S$2="I"),17,IF(AND($M6="CNc",$S$2="II"),36,IF(AND($M6="CNn",$S$2="I"),18,IF(AND($M6="CNn",$S$2="II"),37,IF(AND($M6="Nhạc",$S$2="I"),19,IF(AND($M6="Nhạc",$S$2="II"),38,IF(AND($M6="MT",$S$2="I"),20,IF(AND($M6="MT",$S$2="II"),39,59)))))))))))))))))))))))))))))))))))))) -> 0 | D6: =IF(Q6=0,0,VLOOKUP(Q6,'T-L-K'!$B$7:$BH$36,IF(AND($M6="Văn",$S$2="I"),3,IF(AND($M6="Văn",$S$2="II"),22,IF(AND($M6="Toán",$S$2="I"),4,IF(AND($M6="Toán",$S$2="II"),23,IF(AND($M6="Anh",$S$2="I"),5,IF(AND($M6="Anh",$S$2="II"),24,IF(AND($M6="TD",$S$2="I"),6,IF(AND($M6="TD",$S$2="II"),25,IF(AND($M6="QP",$S$2="I"),7,IF(AND($M6="QP",$S$2="II"),26,IF(AND($M6="Sử",$S$2="I"),8,IF(AND($M6="Sử",$S$2="II"),27,IF(AND($M6="GDĐP",$S$2="I"),9,IF(AND($M6="GDĐP",$S$2="II"),28,IF(AND($M6="TN-HN",$S$2="I"),10,IF(AND($M6="TN-HN",$S$2="II"),29,IF(AND($M6="Lý",$S$2="I"),11,IF(AND($M6="Lý",$S$2="II"),30,IF(AND($M6="HóA",$S$2="I"),12,IF(AND($M6="HóA",$S$2="II"),31,IF(AND($M6="Sinh",$S$2="I"),13,IF(AND($M6="Sinh",$S$2="II"),32,IF(AND($M6="ĐịA",$S$2="I"),14,IF(AND($M6="ĐịA",$S$2="II"),33,IF(AND($M6="KT-PL",$S$2="I"),15,IF(AND($M6="KT-PL",$S$2="II"),34,IF(AND($M6="Tin",$S$2="I"),16,IF(AND($M6="Tin",$S$2="II"),35,IF(AND($M6="CNc",$S$2="I"),17,IF(AND($M6="CNc",$S$2="II"),36,IF(AND($M6="CNn",$S$2="I"),18,IF(AND($M6="CNn",$S$2="II"),37,IF(AND($M6="Nhạc",$S$2="I"),19,IF(AND($M6="Nhạc",$S$2="II"),38,IF(AND($M6="MT",$S$2="I"),20,IF(AND($M6="MT",$S$2="II"),39,59)))))))))))))))))))))))))))))))))))))) -> 0 | E6: =IF(R6=0,0,VLOOKUP(R6,'T-L-K'!$B$7:$BH$36,IF(AND($M6="Văn",$S$2="I"),3,IF(AND($M6="Văn",$S$2="II"),22,IF(AND($M6="Toán",$S$2="I"),4,IF(AND($M6="Toán",$S$2="II"),23,IF(AND($M6="Anh",$S$2="I"),5,IF(AND($M6="Anh",$S$2="II"),24,IF(AND($M6="TD",$S$2="I"),6,IF(AND($M6="TD",$S$2="II"),25,IF(AND($M6="QP",$S$2="I"),7,IF(AND($M6="QP",$S$2="II"),26,IF(AND($M6="Sử",$S$2="I"),8,IF(AND($M6="Sử",$S$2="II"),27,IF(AND($M6="GDĐP",$S$2="I"),9,IF(AND($M6="GDĐP",$S$2="II"),28,IF(AND($M6="TN-HN",$S$2="I"),10,IF(AND($M6="TN-HN",$S$2="II"),29,IF(AND($M6="Lý",$S$2="I"),11,IF(AND($M6="Lý",$S$2="II"),30,IF(AND($M6="HóA",$S$2="I"),12,IF(AND($M6="HóA",$S$2="II"),31,IF(AND($M6="Sinh",$S$2="I"),13,IF(AND($M6="Sinh",$S$2="II"),32,IF(AND($M6="ĐịA",$S$2="I"),14,IF(AND($M6="ĐịA",$S$2="II"),33,IF(AND($M6="KT-PL",$S$2="I"),15,IF(AND($M6="KT-PL",$S$2="II"),34,IF(AND($M6="Tin",$S$2="I"),16,IF(AND($M6="Tin",$S$2="II"),35,IF(AND($M6="CNc",$S$2="I"),17,IF(AND($M6="CNc",$S$2="II"),36,IF(AND($M6="CNn",$S$2="I"),18,IF(AND($M6="CNn",$S$2="II"),37,IF(AND($M6="Nhạc",$S$2="I"),19,IF(AND($M6="Nhạc",$S$2="II"),38,IF(AND($M6="MT",$S$2="I"),20,IF(AND($M6="MT",$S$2="II"),39,59)))))))))))))))))))))))))))))))))))))) -> 0 | F6: =IF(S6=0,0,VLOOKUP(S6,'T-L-K'!$B$7:$BH$36,IF(AND($M6="Văn",$S$2="I"),3,IF(AND($M6="Văn",$S$2="II"),22,IF(AND($M6="Toán",$S$2="I"),4,IF(AND($M6="Toán",$S$2="II"),23,IF(AND($M6="Anh",$S$2="I"),5,IF(AND($M6="Anh",$S$2="II"),24,IF(AND($M6="TD",$S$2="I"),6,IF(AND($M6="TD",$S$2="II"),25,IF(AND($M6="QP",$S$2="I"),7,IF(AND($M6="QP",$S$2="II"),26,IF(AND($M6="Sử",$S$2="I"),8,IF(AND($M6="Sử",$S$2="II"),27,IF(AND($M6="GDĐP",$S$2="I"),9,IF(AND($M6="GDĐP",$S$2="II"),28,IF(AND($M6="TN-HN",$S$2="I"),10,IF(AND($M6="TN-HN",$S$2="II"),29,IF(AND($M6="Lý",$S$2="I"),11,IF(AND($M6="Lý",$S$2="II"),30,IF(AND($M6="HóA",$S$2="I"),12,IF(AND($M6="HóA",$S$2="II"),31,IF(AND($M6="Sinh",$S$2="I"),13,IF(AND($M6="Sinh",$S$2="II"),32,IF(AND($M6="ĐịA",$S$2="I"),14,IF(AND($M6="ĐịA",$S$2="II"),33,IF(AND($M6="KT-PL",$S$2="I"),15,IF(AND($M6="KT-PL",$S$2="II"),34,IF(AND($M6="Tin",$S$2="I"),16,IF(AND($M6="Tin",$S$2="II"),35,IF(AND($M6="CNc",$S$2="I"),17,IF(AND($M6="CNc",$S$2="II"),36,IF(AND($M6="CNn",$S$2="I"),18,IF(AND($M6="CNn",$S$2="II"),37,IF(AND($M6="Nhạc",$S$2="I"),19,IF(AND($M6="Nhạc",$S$2="II"),38,IF(AND($M6="MT",$S$2="I"),20,IF(AND($M6="MT",$S$2="II"),39,59)))))))))))))))))))))))))))))))))))))) -> 0 | G6: =IF(T6=0,0,VLOOKUP(T6,'T-L-K'!$B$7:$BH$36,IF(AND($M6="Văn",$S$2="I"),3,IF(AND($M6="Văn",$S$2="II"),22,IF(AND($M6="Toán",$S$2="I"),4,IF(AND($M6="Toán",$S$2="II"),23,IF(AND($M6="Anh",$S$2="I"),5,IF(AND($M6="Anh",$S$2="II"),24,IF(AND($M6="TD",$S$2="I"),6,IF(AND($M6="TD",$S$2="II"),25,IF(AND($M6="QP",$S$2="I"),7,IF(AND($M6="QP",$S$2="II"),26,IF(AND($M6="Sử",$S$2="I"),8,IF(AND($M6="Sử",$S$2="II"),27,IF(AND($M6="GDĐP",$S$2="I"),9,IF(AND($M6="GDĐP",$S$2="II"),28,IF(AND($M6="TN-HN",$S$2="I"),10,IF(AND($M6="TN-HN",$S$2="II"),29,IF(AND($M6="Lý",$S$2="I"),11,IF(AND($M6="Lý",$S$2="II"),30,IF(AND($M6="HóA",$S$2="I"),12,IF(AND($M6="HóA",$S$2="II"),31,IF(AND($M6="Sinh",$S$2="I"),13,IF(AND($M6="Sinh",$S$2="II"),32,IF(AND($M6="ĐịA",$S$2="I"),14,IF(AND($M6="ĐịA",$S$2="II"),33,IF(AND($M6="KT-PL",$S$2="I"),15,IF(AND($M6="KT-PL",$S$2="II"),34,IF(AND($M6="Tin",$S$2="I"),16,IF(AND($M6="Tin",$S$2="II"),35,IF(AND($M6="CNc",$S$2="I"),17,IF(AND($M6="CNc",$S$2="II"),36,IF(AND($M6="CNn",$S$2="I"),18,IF(AND($M6="CNn",$S$2="II"),37,IF(AND($M6="Nhạc",$S$2="I"),19,IF(AND($M6="Nhạc",$S$2="II"),38,IF(AND($M6="MT",$S$2="I"),20,IF(AND($M6="MT",$S$2="II"),39,59)))))))))))))))))))))))))))))))))))))) -> 0 | H6: =IF(U6=0,0,VLOOKUP(U6,'T-L-K'!$B$7:$BH$36,IF(AND($M6="Văn",$S$2="I"),3,IF(AND($M6="Văn",$S$2="II"),22,IF(AND($M6="Toán",$S$2="I"),4,IF(AND($M6="Toán",$S$2="II"),23,IF(AND($M6="Anh",$S$2="I"),5,IF(AND($M6="Anh",$S$2="II"),24,IF(AND($M6="TD",$S$2="I"),6,IF(AND($M6="TD",$S$2="II"),25,IF(AND($M6="QP",$S$2="I"),7,IF(AND($M6="QP",$S$2="II"),26,IF(AND($M6="Sử",$S$2="I"),8,IF(AND($M6="Sử",$S$2="II"),27,IF(AND($M6="GDĐP",$S$2="I"),9,IF(AND($M6="GDĐP",$S$2="II"),28,IF(AND($M6="TN-HN",$S$2="I"),10,IF(AND($M6="TN-HN",$S$2="II"),29,IF(AND($M6="Lý",$S$2="I"),11,IF(AND($M6="Lý",$S$2="II"),30,IF(AND($M6="HóA",$S$2="I"),12,IF(AND($M6="HóA",$S$2="II"),31,IF(AND($M6="Sinh",$S$2="I"),13,IF(AND($M6="Sinh",$S$2="II"),32,IF(AND($M6="ĐịA",$S$2="I"),14,IF(AND($M6="ĐịA",$S$2="II"),33,IF(AND($M6="KT-PL",$S$2="I"),15,IF(AND($M6="KT-PL",$S$2="II"),34,IF(AND($M6="Tin",$S$2="I"),16,IF(AND($M6="Tin",$S$2="II"),35,IF(AND($M6="CNc",$S$2="I"),17,IF(AND($M6="CNc",$S$2="II"),36,IF(AND($M6="CNn",$S$2="I"),18,IF(AND($M6="CNn",$S$2="II"),37,IF(AND($M6="Nhạc",$S$2="I"),19,IF(AND($M6="Nhạc",$S$2="II"),38,IF(AND($M6="MT",$S$2="I"),20,IF(AND($M6="MT",$S$2="II"),39,59)))))))))))))))))))))))))))))))))))))) -> 0 | ... J6: =IF(W6=0,0,VLOOKUP(W6,'T-L-K'!$B$7:$BH$36,IF(AND($M6="Văn",$S$2="I"),3,IF(AND($M6="Văn",$S$2="II"),22,IF(AND($M6="Toán",$S$2="I"),4,IF(AND($M6="Toán",$S$2="II"),23,IF(AND($M6="Anh",$S$2="I"),5,IF(AND($M6="Anh",$S$2="II"),24,IF(AND($M6="TD",$S$2="I"),6,IF(AND($M6="TD",$S$2="II"),25,IF(AND($M6="QP",$S$2="I"),7,IF(AND($M6="QP",$S$2="II"),26,IF(AND($M6="Sử",$S$2="I"),8,IF(AND($M6="Sử",$S$2="II"),27,IF(AND($M6="GDĐP",$S$2="I"),9,IF(AND($M6="GDĐP",$S$2="II"),28,IF(AND($M6="TN-HN",$S$2="I"),10,IF(AND($M6="TN-HN",$S$2="II"),29,IF(AND($M6="Lý",$S$2="I"),11,IF(AND($M6="Lý",$S$2="II"),30,IF(AND($M6="HóA",$S$2="I"),12,IF(AND($M6="HóA",$S$2="II"),31,IF(AND($M6="Sinh",$S$2="I"),13,IF(AND($M6="Sinh",$S$2="II"),32,IF(AND($M6="ĐịA",$S$2="I"),14,IF(AND($M6="ĐịA",$S$2="II"),33,IF(AND($M6="KT-PL",$S$2="I"),15,IF(AND($M6="KT-PL",$S$2="II"),34,IF(AND($M6="Tin",$S$2="I"),16,IF(AND($M6="Tin",$S$2="II"),35,IF(AND($M6="CNc",$S$2="I"),17,IF(AND($M6="CNc",$S$2="II"),36,IF(AND($M6="CNn",$S$2="I"),18,IF(AND($M6="CNn",$S$2="II"),37,IF(AND($M6="Nhạc",$S$2="I"),19,IF(AND($M6="Nhạc",$S$2="II"),38,IF(AND($M6="MT",$S$2="I"),20,IF(AND($M6="MT",$S$2="II"),39,59)))))))))))))))))))))))))))))))))))))) -> 0 | M6: TN-HN | N6: 10A3 | AB6: Toán - Tin
A7: =IF(N7=0,0,VLOOKUP(N7,'T-L-K'!$B$7:$BH$36,IF(AND($M7="Văn",$S$2="I"),3,IF(AND($M7="Văn",$S$2="II"),22,IF(AND($M7="Toán",$S$2="I"),4,IF(AND($M7="Toán",$S$2="II"),23,IF(AND($M7="Anh",$S$2="I"),5,IF(AND($M7="Anh",$S$2="II"),24,IF(AND($M7="TD",$S$2="I"),6,IF(AND($M7="TD",$S$2="II"),25,IF(AND($M7="QP",$S$2="I"),7,IF(AND($M7="QP",$S$2="II"),26,IF(AND($M7="Sử",$S$2="I"),8,IF(AND($M7="Sử",$S$2="II"),27,IF(AND($M7="GDĐP",$S$2="I"),9,IF(AND($M7="GDĐP",$S$2="II"),28,IF(AND($M7="TN-HN",$S$2="I"),10,IF(AND($M7="TN-HN",$S$2="II"),29,IF(AND($M7="Lý",$S$2="I"),11,IF(AND($M7="Lý",$S$2="II"),30,IF(AND($M7="HóA",$S$2="I"),12,IF(AND($M7="HóA",$S$2="II"),31,IF(AND($M7="Sinh",$S$2="I"),13,IF(AND($M7="Sinh",$S$2="II"),32,IF(AND($M7="ĐịA",$S$2="I"),14,IF(AND($M7="ĐịA",$S$2="II"),33,IF(AND($M7="KT-PL",$S$2="I"),15,IF(AND($M7="KT-PL",$S$2="II"),34,IF(AND($M7="Tin",$S$2="I"),16,IF(AND($M7="Tin",$S$2="II"),35,IF(AND($M7="CNc",$S$2="I"),17,IF(AND($M7="CNc",$S$2="II"),36,IF(AND($M7="CNn",$S$2="I"),18,IF(AND($M7="CNn",$S$2="II"),37,IF(AND($M7="Nhạc",$S$2="I"),19,IF(AND($M7="Nhạc",$S$2="II"),38,IF(AND($M7="MT",$S$2="I"),20,IF(AND($M7="MT",$S$2="II"),39,59)))))))))))))))))))))))))))))))))))))) -> 4 | B7: =IF(O7=0,0,VLOOKUP(O7,'T-L-K'!$B$7:$BH$36,IF(AND($M7="Văn",$S$2="I"),3,IF(AND($M7="Văn",$S$2="II"),22,IF(AND($M7="Toán",$S$2="I"),4,IF(AND($M7="Toán",$S$2="II"),23,IF(AND($M7="Anh",$S$2="I"),5,IF(AND($M7="Anh",$S$2="II"),24,IF(AND($M7="TD",$S$2="I"),6,IF(AND($M7="TD",$S$2="II"),25,IF(AND($M7="QP",$S$2="I"),7,IF(AND($M7="QP",$S$2="II"),26,IF(AND($M7="Sử",$S$2="I"),8,IF(AND($M7="Sử",$S$2="II"),27,IF(AND($M7="GDĐP",$S$2="I"),9,IF(AND($M7="GDĐP",$S$2="II"),28,IF(AND($M7="TN-HN",$S$2="I"),10,IF(AND($M7="TN-HN",$S$2="II"),29,IF(AND($M7="Lý",$S$2="I"),11,IF(AND($M7="Lý",$S$2="II"),30,IF(AND($M7="HóA",$S$2="I"),12,IF(AND($M7="HóA",$S$2="II"),31,IF(AND($M7="Sinh",$S$2="I"),13,IF(AND($M7="Sinh",$S$2="II"),32,IF(AND($M7="ĐịA",$S$2="I"),14,IF(AND($M7="ĐịA",$S$2="II"),33,IF(AND($M7="KT-PL",$S$2="I"),15,IF(AND($M7="KT-PL",$S$2="II"),34,IF(AND($M7="Tin",$S$2="I"),16,IF(AND($M7="Tin",$S$2="II"),35,IF(AND($M7="CNc",$S$2="I"),17,IF(AND($M7="CNc",$S$2="II"),36,IF(AND($M7="CNn",$S$2="I"),18,IF(AND($M7="CNn",$S$2="II"),37,IF(AND($M7="Nhạc",$S$2="I"),19,IF(AND($M7="Nhạc",$S$2="II"),38,IF(AND($M7="MT",$S$2="I"),20,IF(AND($M7="MT",$S$2="II"),39,59)))))))))))))))))))))))))))))))))))))) -> 4 | C7: =IF(P7=0,0,VLOOKUP(P7,'T-L-K'!$B$7:$BH$36,IF(AND($M7="Văn",$S$2="I"),3,IF(AND($M7="Văn",$S$2="II"),22,IF(AND($M7="Toán",$S$2="I"),4,IF(AND($M7="Toán",$S$2="II"),23,IF(AND($M7="Anh",$S$2="I"),5,IF(AND($M7="Anh",$S$2="II"),24,IF(AND($M7="TD",$S$2="I"),6,IF(AND($M7="TD",$S$2="II"),25,IF(AND($M7="QP",$S$2="I"),7,IF(AND($M7="QP",$S$2="II"),26,IF(AND($M7="Sử",$S$2="I"),8,IF(AND($M7="Sử",$S$2="II"),27,IF(AND($M7="GDĐP",$S$2="I"),9,IF(AND($M7="GDĐP",$S$2="II"),28,IF(AND($M7="TN-HN",$S$2="I"),10,IF(AND($M7="TN-HN",$S$2="II"),29,IF(AND($M7="Lý",$S$2="I"),11,IF(AND($M7="Lý",$S$2="II"),30,IF(AND($M7="HóA",$S$2="I"),12,IF(AND($M7="HóA",$S$2="II"),31,IF(AND($M7="Sinh",$S$2="I"),13,IF(AND($M7="Sinh",$S$2="II"),32,IF(AND($M7="ĐịA",$S$2="I"),14,IF(AND($M7="ĐịA",$S$2="II"),33,IF(AND($M7="KT-PL",$S$2="I"),15,IF(AND($M7="KT-PL",$S$2="II"),34,IF(AND($M7="Tin",$S$2="I"),16,IF(AND($M7="Tin",$S$2="II"),35,IF(AND($M7="CNc",$S$2="I"),17,IF(AND($M7="CNc",$S$2="II"),36,IF(AND($M7="CNn",$S$2="I"),18,IF(AND($M7="CNn",$S$2="II"),37,IF(AND($M7="Nhạc",$S$2="I"),19,IF(AND($M7="Nhạc",$S$2="II"),38,IF(AND($M7="MT",$S$2="I"),20,IF(AND($M7="MT",$S$2="II"),39,59)))))))))))))))))))))))))))))))))))))) -> 0 | D7: =IF(Q7=0,0,VLOOKUP(Q7,'T-L-K'!$B$7:$BH$36,IF(AND($M7="Văn",$S$2="I"),3,IF(AND($M7="Văn",$S$2="II"),22,IF(AND($M7="Toán",$S$2="I"),4,IF(AND($M7="Toán",$S$2="II"),23,IF(AND($M7="Anh",$S$2="I"),5,IF(AND($M7="Anh",$S$2="II"),24,IF(AND($M7="TD",$S$2="I"),6,IF(AND($M7="TD",$S$2="II"),25,IF(AND($M7="QP",$S$2="I"),7,IF(AND($M7="QP",$S$2="II"),26,IF(AND($M7="Sử",$S$2="I"),8,IF(AND($M7="Sử",$S$2="II"),27,IF(AND($M7="GDĐP",$S$2="I"),9,IF(AND($M7="GDĐP",$S$2="II"),28,IF(AND($M7="TN-HN",$S$2="I"),10,IF(AND($M7="TN-HN",$S$2="II"),29,IF(AND($M7="Lý",$S$2="I"),11,IF(AND($M7="Lý",$S$2="II"),30,IF(AND($M7="HóA",$S$2="I"),12,IF(AND($M7="HóA",$S$2="II"),31,IF(AND($M7="Sinh",$S$2="I"),13,IF(AND($M7="Sinh",$S$2="II"),32,IF(AND($M7="ĐịA",$S$2="I"),14,IF(AND($M7="ĐịA",$S$2="II"),33,IF(AND($M7="KT-PL",$S$2="I"),15,IF(AND($M7="KT-PL",$S$2="II"),34,IF(AND($M7="Tin",$S$2="I"),16,IF(AND($M7="Tin",$S$2="II"),35,IF(AND($M7="CNc",$S$2="I"),17,IF(AND($M7="CNc",$S$2="II"),36,IF(AND($M7="CNn",$S$2="I"),18,IF(AND($M7="CNn",$S$2="II"),37,IF(AND($M7="Nhạc",$S$2="I"),19,IF(AND($M7="Nhạc",$S$2="II"),38,IF(AND($M7="MT",$S$2="I"),20,IF(AND($M7="MT",$S$2="II"),39,59)))))))))))))))))))))))))))))))))))))) -> 0 | E7: =IF(R7=0,0,VLOOKUP(R7,'T-L-K'!$B$7:$BH$36,IF(AND($M7="Văn",$S$2="I"),3,IF(AND($M7="Văn",$S$2="II"),22,IF(AND($M7="Toán",$S$2="I"),4,IF(AND($M7="Toán",$S$2="II"),23,IF(AND($M7="Anh",$S$2="I"),5,IF(AND($M7="Anh",$S$2="II"),24,IF(AND($M7="TD",$S$2="I"),6,IF(AND($M7="TD",$S$2="II"),25,IF(AND($M7="QP",$S$2="I"),7,IF(AND($M7="QP",$S$2="II"),26,IF(AND($M7="Sử",$S$2="I"),8,IF(AND($M7="Sử",$S$2="II"),27,IF(AND($M7="GDĐP",$S$2="I"),9,IF(AND($M7="GDĐP",$S$2="II"),28,IF(AND($M7="TN-HN",$S$2="I"),10,IF(AND($M7="TN-HN",$S$2="II"),29,IF(AND($M7="Lý",$S$2="I"),11,IF(AND($M7="Lý",$S$2="II"),30,IF(AND($M7="HóA",$S$2="I"),12,IF(AND($M7="HóA",$S$2="II"),31,IF(AND($M7="Sinh",$S$2="I"),13,IF(AND($M7="Sinh",$S$2="II"),32,IF(AND($M7="ĐịA",$S$2="I"),14,IF(AND($M7="ĐịA",$S$2="II"),33,IF(AND($M7="KT-PL",$S$2="I"),15,IF(AND($M7="KT-PL",$S$2="II"),34,IF(AND($M7="Tin",$S$2="I"),16,IF(AND($M7="Tin",$S$2="II"),35,IF(AND($M7="CNc",$S$2="I"),17,IF(AND($M7="CNc",$S$2="II"),36,IF(AND($M7="CNn",$S$2="I"),18,IF(AND($M7="CNn",$S$2="II"),37,IF(AND($M7="Nhạc",$S$2="I"),19,IF(AND($M7="Nhạc",$S$2="II"),38,IF(AND($M7="MT",$S$2="I"),20,IF(AND($M7="MT",$S$2="II"),39,59)))))))))))))))))))))))))))))))))))))) -> 0 | F7: =IF(S7=0,0,VLOOKUP(S7,'T-L-K'!$B$7:$BH$36,IF(AND($M7="Văn",$S$2="I"),3,IF(AND($M7="Văn",$S$2="II"),22,IF(AND($M7="Toán",$S$2="I"),4,IF(AND($M7="Toán",$S$2="II"),23,IF(AND($M7="Anh",$S$2="I"),5,IF(AND($M7="Anh",$S$2="II"),24,IF(AND($M7="TD",$S$2="I"),6,IF(AND($M7="TD",$S$2="II"),25,IF(AND($M7="QP",$S$2="I"),7,IF(AND($M7="QP",$S$2="II"),26,IF(AND($M7="Sử",$S$2="I"),8,IF(AND($M7="Sử",$S$2="II"),27,IF(AND($M7="GDĐP",$S$2="I"),9,IF(AND($M7="GDĐP",$S$2="II"),28,IF(AND($M7="TN-HN",$S$2="I"),10,IF(AND($M7="TN-HN",$S$2="II"),29,IF(AND($M7="Lý",$S$2="I"),11,IF(AND($M7="Lý",$S$2="II"),30,IF(AND($M7="HóA",$S$2="I"),12,IF(AND($M7="HóA",$S$2="II"),31,IF(AND($M7="Sinh",$S$2="I"),13,IF(AND($M7="Sinh",$S$2="II"),32,IF(AND($M7="ĐịA",$S$2="I"),14,IF(AND($M7="ĐịA",$S$2="II"),33,IF(AND($M7="KT-PL",$S$2="I"),15,IF(AND($M7="KT-PL",$S$2="II"),34,IF(AND($M7="Tin",$S$2="I"),16,IF(AND($M7="Tin",$S$2="II"),35,IF(AND($M7="CNc",$S$2="I"),17,IF(AND($M7="CNc",$S$2="II"),36,IF(AND($M7="CNn",$S$2="I"),18,IF(AND($M7="CNn",$S$2="II"),37,IF(AND($M7="Nhạc",$S$2="I"),19,IF(AND($M7="Nhạc",$S$2="II"),38,IF(AND($M7="MT",$S$2="I"),20,IF(AND($M7="MT",$S$2="II"),39,59)))))))))))))))))))))))))))))))))))))) -> 0 | G7: =IF(T7=0,0,VLOOKUP(T7,'T-L-K'!$B$7:$BH$36,IF(AND($M7="Văn",$S$2="I"),3,IF(AND($M7="Văn",$S$2="II"),22,IF(AND($M7="Toán",$S$2="I"),4,IF(AND($M7="Toán",$S$2="II"),23,IF(AND($M7="Anh",$S$2="I"),5,IF(AND($M7="Anh",$S$2="II"),24,IF(AND($M7="TD",$S$2="I"),6,IF(AND($M7="TD",$S$2="II"),25,IF(AND($M7="QP",$S$2="I"),7,IF(AND($M7="QP",$S$2="II"),26,IF(AND($M7="Sử",$S$2="I"),8,IF(AND($M7="Sử",$S$2="II"),27,IF(AND($M7="GDĐP",$S$2="I"),9,IF(AND($M7="GDĐP",$S$2="II"),28,IF(AND($M7="TN-HN",$S$2="I"),10,IF(AND($M7="TN-HN",$S$2="II"),29,IF(AND($M7="Lý",$S$2="I"),11,IF(AND($M7="Lý",$S$2="II"),30,IF(AND($M7="HóA",$S$2="I"),12,IF(AND($M7="HóA",$S$2="II"),31,IF(AND($M7="Sinh",$S$2="I"),13,IF(AND($M7="Sinh",$S$2="II"),32,IF(AND($M7="ĐịA",$S$2="I"),14,IF(AND($M7="ĐịA",$S$2="II"),33,IF(AND($M7="KT-PL",$S$2="I"),15,IF(AND($M7="KT-PL",$S$2="II"),34,IF(AND($M7="Tin",$S$2="I"),16,IF(AND($M7="Tin",$S$2="II"),35,IF(AND($M7="CNc",$S$2="I"),17,IF(AND($M7="CNc",$S$2="II"),36,IF(AND($M7="CNn",$S$2="I"),18,IF(AND($M7="CNn",$S$2="II"),37,IF(AND($M7="Nhạc",$S$2="I"),19,IF(AND($M7="Nhạc",$S$2="II"),38,IF(AND($M7="MT",$S$2="I"),20,IF(AND($M7="MT",$S$2="II"),39,59)))))))))))))))))))))))))))))))))))))) -> 0 | H7: =IF(U7=0,0,VLOOKUP(U7,'T-L-K'!$B$7:$BH$36,IF(AND($M7="Văn",$S$2="I"),3,IF(AND($M7="Văn",$S$2="II"),22,IF(AND($M7="Toán",$S$2="I"),4,IF(AND($M7="Toán",$S$2="II"),23,IF(AND($M7="Anh",$S$2="I"),5,IF(AND($M7="Anh",$S$2="II"),24,IF(AND($M7="TD",$S$2="I"),6,IF(AND($M7="TD",$S$2="II"),25,IF(AND($M7="QP",$S$2="I"),7,IF(AND($M7="QP",$S$2="II"),26,IF(AND($M7="Sử",$S$2="I"),8,IF(AND($M7="Sử",$S$2="II"),27,IF(AND($M7="GDĐP",$S$2="I"),9,IF(AND($M7="GDĐP",$S$2="II"),28,IF(AND($M7="TN-HN",$S$2="I"),10,IF(AND($M7="TN-HN",$S$2="II"),29,IF(AND($M7="Lý",$S$2="I"),11,IF(AND($M7="Lý",$S$2="II"),30,IF(AND($M7="HóA",$S$2="I"),12,IF(AND($M7="HóA",$S$2="II"),31,IF(AND($M7="Sinh",$S$2="I"),13,IF(AND($M7="Sinh",$S$2="II"),32,IF(AND($M7="ĐịA",$S$2="I"),14,IF(AND($M7="ĐịA",$S$2="II"),33,IF(AND($M7="KT-PL",$S$2="I"),15,IF(AND($M7="KT-PL",$S$2="II"),34,IF(AND($M7="Tin",$S$2="I"),16,IF(AND($M7="Tin",$S$2="II"),35,IF(AND($M7="CNc",$S$2="I"),17,IF(AND($M7="CNc",$S$2="II"),36,IF(AND($M7="CNn",$S$2="I"),18,IF(AND($M7="CNn",$S$2="II"),37,IF(AND($M7="Nhạc",$S$2="I"),19,IF(AND($M7="Nhạc",$S$2="II"),38,IF(AND($M7="MT",$S$2="I"),20,IF(AND($M7="MT",$S$2="II"),39,59)))))))))))))))))))))))))))))))))))))) -> 0 | ... J7: =IF(W7=0,0,VLOOKUP(W7,'T-L-K'!$B$7:$BH$36,IF(AND($M7="Văn",$S$2="I"),3,IF(AND($M7="Văn",$S$2="II"),22,IF(AND($M7="Toán",$S$2="I"),4,IF(AND($M7="Toán",$S$2="II"),23,IF(AND($M7="Anh",$S$2="I"),5,IF(AND($M7="Anh",$S$2="II"),24,IF(AND($M7="TD",$S$2="I"),6,IF(AND($M7="TD",$S$2="II"),25,IF(AND($M7="QP",$S$2="I"),7,IF(AND($M7="QP",$S$2="II"),26,IF(AND($M7="Sử",$S$2="I"),8,IF(AND($M7="Sử",$S$2="II"),27,IF(AND($M7="GDĐP",$S$2="I"),9,IF(AND($M7="GDĐP",$S$2="II"),28,IF(AND($M7="TN-HN",$S$2="I"),10,IF(AND($M7="TN-HN",$S$2="II"),29,IF(AND($M7="Lý",$S$2="I"),11,IF(AND($M7="Lý",$S$2="II"),30,IF(AND($M7="HóA",$S$2="I"),12,IF(AND($M7="HóA",$S$2="II"),31,IF(AND($M7="Sinh",$S$2="I"),13,IF(AND($M7="Sinh",$S$2="II"),32,IF(AND($M7="ĐịA",$S$2="I"),14,IF(AND($M7="ĐịA",$S$2="II"),33,IF(AND($M7="KT-PL",$S$2="I"),15,IF(AND($M7="KT-PL",$S$2="II"),34,IF(AND($M7="Tin",$S$2="I"),16,IF(AND($M7="Tin",$S$2="II"),35,IF(AND($M7="CNc",$S$2="I"),17,IF(AND($M7="CNc",$S$2="II"),36,IF(AND($M7="CNn",$S$2="I"),18,IF(AND($M7="CNn",$S$2="II"),37,IF(AND($M7="Nhạc",$S$2="I"),19,IF(AND($M7="Nhạc",$S$2="II"),38,IF(AND($M7="MT",$S$2="I"),20,IF(AND($M7="MT",$S$2="II"),39,59)))))))))))))))))))))))))))))))))))))) -> 0 | K7: T3 | L7: =IF(K7=0,0,VLOOKUP(K7,CBGV!$B$4:$M$69,12,0)) -> 11A7 | M7: Toán | N7: 11A7 | O7: 10A6 | X7: =IF(K7=0,0,VLOOKUP(K7,CBGV!$B$4:$P$69,14,0))+IF(L7=0,0,VLOOKUP(L7,'T-L-K'!$B$7:$BH$36,2,0)) -> 8 | Y7: =SUM(A7:J9) -> 9 | Z7: =SUM(A7:J9)+X7 -> 17 | AA7: =IF((Z7-(VLOOKUP(K7,CBGV!$B$4:$P$69,13,0)))<=-14,"/",(Z7-(VLOOKUP(K7,CBGV!$B$4:$P$69,13,0)))) -> 0 | AB7: Toán - Tin
A8: =IF(N8=0,0,VLOOKUP(N8,'T-L-K'!$B$7:$BH$36,IF(AND($M8="Văn",$S$2="I"),3,IF(AND($M8="Văn",$S$2="II"),22,IF(AND($M8="Toán",$S$2="I"),4,IF(AND($M8="Toán",$S$2="II"),23,IF(AND($M8="Anh",$S$2="I"),5,IF(AND($M8="Anh",$S$2="II"),24,IF(AND($M8="TD",$S$2="I"),6,IF(AND($M8="TD",$S$2="II"),25,IF(AND($M8="QP",$S$2="I"),7,IF(AND($M8="QP",$S$2="II"),26,IF(AND($M8="Sử",$S$2="I"),8,IF(AND($M8="Sử",$S$2="II"),27,IF(AND($M8="GDĐP",$S$2="I"),9,IF(AND($M8="GDĐP",$S$2="II"),28,IF(AND($M8="TN-HN",$S$2="I"),10,IF(AND($M8="TN-HN",$S$2="II"),29,IF(AND($M8="Lý",$S$2="I"),11,IF(AND($M8="Lý",$S$2="II"),30,IF(AND($M8="HóA",$S$2="I"),12,IF(AND($M8="HóA",$S$2="II"),31,IF(AND($M8="Sinh",$S$2="I"),13,IF(AND($M8="Sinh",$S$2="II"),32,IF(AND($M8="ĐịA",$S$2="I"),14,IF(AND($M8="ĐịA",$S$2="II"),33,IF(AND($M8="KT-PL",$S$2="I"),15,IF(AND($M8="KT-PL",$S$2="II"),34,IF(AND($M8="Tin",$S$2="I"),16,IF(AND($M8="Tin",$S$2="II"),35,IF(AND($M8="CNc",$S$2="I"),17,IF(AND($M8="CNc",$S$2="II"),36,IF(AND($M8="CNn",$S$2="I"),18,IF(AND($M8="CNn",$S$2="II"),37,IF(AND($M8="Nhạc",$S$2="I"),19,IF(AND($M8="Nhạc",$S$2="II"),38,IF(AND($M8="MT",$S$2="I"),20,IF(AND($M8="MT",$S$2="II"),39,59)))))))))))))))))))))))))))))))))))))) -> 0 | B8: =IF(O8=0,0,VLOOKUP(O8,'T-L-K'!$B$7:$BH$36,IF(AND($M8="Văn",$S$2="I"),3,IF(AND($M8="Văn",$S$2="II"),22,IF(AND($M8="Toán",$S$2="I"),4,IF(AND($M8="Toán",$S$2="II"),23,IF(AND($M8="Anh",$S$2="I"),5,IF(AND($M8="Anh",$S$2="II"),24,IF(AND($M8="TD",$S$2="I"),6,IF(AND($M8="TD",$S$2="II"),25,IF(AND($M8="QP",$S$2="I"),7,IF(AND($M8="QP",$S$2="II"),26,IF(AND($M8="Sử",$S$2="I"),8,IF(AND($M8="Sử",$S$2="II"),27,IF(AND($M8="GDĐP",$S$2="I"),9,IF(AND($M8="GDĐP",$S$2="II"),28,IF(AND($M8="TN-HN",$S$2="I"),10,IF(AND($M8="TN-HN",$S$2="II"),29,IF(AND($M8="Lý",$S$2="I"),11,IF(AND($M8="Lý",$S$2="II"),30,IF(AND($M8="HóA",$S$2="I"),12,IF(AND($M8="HóA",$S$2="II"),31,IF(AND($M8="Sinh",$S$2="I"),13,IF(AND($M8="Sinh",$S$2="II"),32,IF(AND($M8="ĐịA",$S$2="I"),14,IF(AND($M8="ĐịA",$S$2="II"),33,IF(AND($M8="KT-PL",$S$2="I"),15,IF(AND($M8="KT-PL",$S$2="II"),34,IF(AND($M8="Tin",$S$2="I"),16,IF(AND($M8="Tin",$S$2="II"),35,IF(AND($M8="CNc",$S$2="I"),17,IF(AND($M8="CNc",$S$2="II"),36,IF(AND($M8="CNn",$S$2="I"),18,IF(AND($M8="CNn",$S$2="II"),37,IF(AND($M8="Nhạc",$S$2="I"),19,IF(AND($M8="Nhạc",$S$2="II"),38,IF(AND($M8="MT",$S$2="I"),20,IF(AND($M8="MT",$S$2="II"),39,59)))))))))))))))))))))))))))))))))))))) -> 0 | C8: =IF(P8=0,0,VLOOKUP(P8,'T-L-K'!$B$7:$BH$36,IF(AND($M8="Văn",$S$2="I"),3,IF(AND($M8="Văn",$S$2="II"),22,IF(AND($M8="Toán",$S$2="I"),4,IF(AND($M8="Toán",$S$2="II"),23,IF(AND($M8="Anh",$S$2="I"),5,IF(AND($M8="Anh",$S$2="II"),24,IF(AND($M8="TD",$S$2="I"),6,IF(AND($M8="TD",$S$2="II"),25,IF(AND($M8="QP",$S$2="I"),7,IF(AND($M8="QP",$S$2="II"),26,IF(AND($M8="Sử",$S$2="I"),8,IF(AND($M8="Sử",$S$2="II"),27,IF(AND($M8="GDĐP",$S$2="I"),9,IF(AND($M8="GDĐP",$S$2="II"),28,IF(AND($M8="TN-HN",$S$2="I"),10,IF(AND($M8="TN-HN",$S$2="II"),29,IF(AND($M8="Lý",$S$2="I"),11,IF(AND($M8="Lý",$S$2="II"),30,IF(AND($M8="HóA",$S$2="I"),12,IF(AND($M8="HóA",$S$2="II"),31,IF(AND($M8="Sinh",$S$2="I"),13,IF(AND($M8="Sinh",$S$2="II"),32,IF(AND($M8="ĐịA",$S$2="I"),14,IF(AND($M8="ĐịA",$S$2="II"),33,IF(AND($M8="KT-PL",$S$2="I"),15,IF(AND($M8="KT-PL",$S$2="II"),34,IF(AND($M8="Tin",$S$2="I"),16,IF(AND($M8="Tin",$S$2="II"),35,IF(AND($M8="CNc",$S$2="I"),17,IF(AND($M8="CNc",$S$2="II"),36,IF(AND($M8="CNn",$S$2="I"),18,IF(AND($M8="CNn",$S$2="II"),37,IF(AND($M8="Nhạc",$S$2="I"),19,IF(AND($M8="Nhạc",$S$2="II"),38,IF(AND($M8="MT",$S$2="I"),20,IF(AND($M8="MT",$S$2="II"),39,59)))))))))))))))))))))))))))))))))))))) -> 0 | D8: =IF(Q8=0,0,VLOOKUP(Q8,'T-L-K'!$B$7:$BH$36,IF(AND($M8="Văn",$S$2="I"),3,IF(AND($M8="Văn",$S$2="II"),22,IF(AND($M8="Toán",$S$2="I"),4,IF(AND($M8="Toán",$S$2="II"),23,IF(AND($M8="Anh",$S$2="I"),5,IF(AND($M8="Anh",$S$2="II"),24,IF(AND($M8="TD",$S$2="I"),6,IF(AND($M8="TD",$S$2="II"),25,IF(AND($M8="QP",$S$2="I"),7,IF(AND($M8="QP",$S$2="II"),26,IF(AND($M8="Sử",$S$2="I"),8,IF(AND($M8="Sử",$S$2="II"),27,IF(AND($M8="GDĐP",$S$2="I"),9,IF(AND($M8="GDĐP",$S$2="II"),28,IF(AND($M8="TN-HN",$S$2="I"),10,IF(AND($M8="TN-HN",$S$2="II"),29,IF(AND($M8="Lý",$S$2="I"),11,IF(AND($M8="Lý",$S$2="II"),30,IF(AND($M8="HóA",$S$2="I"),12,IF(AND($M8="HóA",$S$2="II"),31,IF(AND($M8="Sinh",$S$2="I"),13,IF(AND($M8="Sinh",$S$2="II"),32,IF(AND($M8="ĐịA",$S$2="I"),14,IF(AND($M8="ĐịA",$S$2="II"),33,IF(AND($M8="KT-PL",$S$2="I"),15,IF(AND($M8="KT-PL",$S$2="II"),34,IF(AND($M8="Tin",$S$2="I"),16,IF(AND($M8="Tin",$S$2="II"),35,IF(AND($M8="CNc",$S$2="I"),17,IF(AND($M8="CNc",$S$2="II"),36,IF(AND($M8="CNn",$S$2="I"),18,IF(AND($M8="CNn",$S$2="II"),37,IF(AND($M8="Nhạc",$S$2="I"),19,IF(AND($M8="Nhạc",$S$2="II"),38,IF(AND($M8="MT",$S$2="I"),20,IF(AND($M8="MT",$S$2="II"),39,59)))))))))))))))))))))))))))))))))))))) -> 0 | E8: =IF(R8=0,0,VLOOKUP(R8,'T-L-K'!$B$7:$BH$36,IF(AND($M8="Văn",$S$2="I"),3,IF(AND($M8="Văn",$S$2="II"),22,IF(AND($M8="Toán",$S$2="I"),4,IF(AND($M8="Toán",$S$2="II"),23,IF(AND($M8="Anh",$S$2="I"),5,IF(AND($M8="Anh",$S$2="II"),24,IF(AND($M8="TD",$S$2="I"),6,IF(AND($M8="TD",$S$2="II"),25,IF(AND($M8="QP",$S$2="I"),7,IF(AND($M8="QP",$S$2="II"),26,IF(AND($M8="Sử",$S$2="I"),8,IF(AND($M8="Sử",$S$2="II"),27,IF(AND($M8="GDĐP",$S$2="I"),9,IF(AND($M8="GDĐP",$S$2="II"),28,IF(AND($M8="TN-HN",$S$2="I"),10,IF(AND($M8="TN-HN",$S$2="II"),29,IF(AND($M8="Lý",$S$2="I"),11,IF(AND($M8="Lý",$S$2="II"),30,IF(AND($M8="HóA",$S$2="I"),12,IF(AND($M8="HóA",$S$2="II"),31,IF(AND($M8="Sinh",$S$2="I"),13,IF(AND($M8="Sinh",$S$2="II"),32,IF(AND($M8="ĐịA",$S$2="I"),14,IF(AND($M8="ĐịA",$S$2="II"),33,IF(AND($M8="KT-PL",$S$2="I"),15,IF(AND($M8="KT-PL",$S$2="II"),34,IF(AND($M8="Tin",$S$2="I"),16,IF(AND($M8="Tin",$S$2="II"),35,IF(AND($M8="CNc",$S$2="I"),17,IF(AND($M8="CNc",$S$2="II"),36,IF(AND($M8="CNn",$S$2="I"),18,IF(AND($M8="CNn",$S$2="II"),37,IF(AND($M8="Nhạc",$S$2="I"),19,IF(AND($M8="Nhạc",$S$2="II"),38,IF(AND($M8="MT",$S$2="I"),20,IF(AND($M8="MT",$S$2="II"),39,59)))))))))))))))))))))))))))))))))))))) -> 0 | F8: =IF(S8=0,0,VLOOKUP(S8,'T-L-K'!$B$7:$BH$36,IF(AND($M8="Văn",$S$2="I"),3,IF(AND($M8="Văn",$S$2="II"),22,IF(AND($M8="Toán",$S$2="I"),4,IF(AND($M8="Toán",$S$2="II"),23,IF(AND($M8="Anh",$S$2="I"),5,IF(AND($M8="Anh",$S$2="II"),24,IF(AND($M8="TD",$S$2="I"),6,IF(AND($M8="TD",$S$2="II"),25,IF(AND($M8="QP",$S$2="I"),7,IF(AND($M8="QP",$S$2="II"),26,IF(AND($M8="Sử",$S$2="I"),8,IF(AND($M8="Sử",$S$2="II"),27,IF(AND($M8="GDĐP",$S$2="I"),9,IF(AND($M8="GDĐP",$S$2="II"),28,IF(AND($M8="TN-HN",$S$2="I"),10,IF(AND($M8="TN-HN",$S$2="II"),29,IF(AND($M8="Lý",$S$2="I"),11,IF(AND($M8="Lý",$S$2="II"),30,IF(AND($M8="HóA",$S$2="I"),12,IF(AND($M8="HóA",$S$2="II"),31,IF(AND($M8="Sinh",$S$2="I"),13,IF(AND($M8="Sinh",$S$2="II"),32,IF(AND($M8="ĐịA",$S$2="I"),14,IF(AND($M8="ĐịA",$S$2="II"),33,IF(AND($M8="KT-PL",$S$2="I"),15,IF(AND($M8="KT-PL",$S$2="II"),34,IF(AND($M8="Tin",$S$2="I"),16,IF(AND($M8="Tin",$S$2="II"),35,IF(AND($M8="CNc",$S$2="I"),17,IF(AND($M8="CNc",$S$2="II"),36,IF(AND($M8="CNn",$S$2="I"),18,IF(AND($M8="CNn",$S$2="II"),37,IF(AND($M8="Nhạc",$S$2="I"),19,IF(AND($M8="Nhạc",$S$2="II"),38,IF(AND($M8="MT",$S$2="I"),20,IF(AND($M8="MT",$S$2="II"),39,59)))))))))))))))))))))))))))))))))))))) -> 0 | G8: =IF(T8=0,0,VLOOKUP(T8,'T-L-K'!$B$7:$BH$36,IF(AND($M8="Văn",$S$2="I"),3,IF(AND($M8="Văn",$S$2="II"),22,IF(AND($M8="Toán",$S$2="I"),4,IF(AND($M8="Toán",$S$2="II"),23,IF(AND($M8="Anh",$S$2="I"),5,IF(AND($M8="Anh",$S$2="II"),24,IF(AND($M8="TD",$S$2="I"),6,IF(AND($M8="TD",$S$2="II"),25,IF(AND($M8="QP",$S$2="I"),7,IF(AND($M8="QP",$S$2="II"),26,IF(AND($M8="Sử",$S$2="I"),8,IF(AND($M8="Sử",$S$2="II"),27,IF(AND($M8="GDĐP",$S$2="I"),9,IF(AND($M8="GDĐP",$S$2="II"),28,IF(AND($M8="TN-HN",$S$2="I"),10,IF(AND($M8="TN-HN",$S$2="II"),29,IF(AND($M8="Lý",$S$2="I"),11,IF(AND($M8="Lý",$S$2="II"),30,IF(AND($M8="HóA",$S$2="I"),12,IF(AND($M8="HóA",$S$2="II"),31,IF(AND($M8="Sinh",$S$2="I"),13,IF(AND($M8="Sinh",$S$2="II"),32,IF(AND($M8="ĐịA",$S$2="I"),14,IF(AND($M8="ĐịA",$S$2="II"),33,IF(AND($M8="KT-PL",$S$2="I"),15,IF(AND($M8="KT-PL",$S$2="II"),34,IF(AND($M8="Tin",$S$2="I"),16,IF(AND($M8="Tin",$S$2="II"),35,IF(AND($M8="CNc",$S$2="I"),17,IF(AND($M8="CNc",$S$2="II"),36,IF(AND($M8="CNn",$S$2="I"),18,IF(AND($M8="CNn",$S$2="II"),37,IF(AND($M8="Nhạc",$S$2="I"),19,IF(AND($M8="Nhạc",$S$2="II"),38,IF(AND($M8="MT",$S$2="I"),20,IF(AND($M8="MT",$S$2="II"),39,59)))))))))))))))))))))))))))))))))))))) -> 0 | H8: =IF(U8=0,0,VLOOKUP(U8,'T-L-K'!$B$7:$BH$36,IF(AND($M8="Văn",$S$2="I"),3,IF(AND($M8="Văn",$S$2="II"),22,IF(AND($M8="Toán",$S$2="I"),4,IF(AND($M8="Toán",$S$2="II"),23,IF(AND($M8="Anh",$S$2="I"),5,IF(AND($M8="Anh",$S$2="II"),24,IF(AND($M8="TD",$S$2="I"),6,IF(AND($M8="TD",$S$2="II"),25,IF(AND($M8="QP",$S$2="I"),7,IF(AND($M8="QP",$S$2="II"),26,IF(AND($M8="Sử",$S$2="I"),8,IF(AND($M8="Sử",$S$2="II"),27,IF(AND($M8="GDĐP",$S$2="I"),9,IF(AND($M8="GDĐP",$S$2="II"),28,IF(AND($M8="TN-HN",$S$2="I"),10,IF(AND($M8="TN-HN",$S$2="II"),29,IF(AND($M8="Lý",$S$2="I"),11,IF(AND($M8="Lý",$S$2="II"),30,IF(AND($M8="HóA",$S$2="I"),12,IF(AND($M8="HóA",$S$2="II"),31,IF(AND($M8="Sinh",$S$2="I"),13,IF(AND($M8="Sinh",$S$2="II"),32,IF(AND($M8="ĐịA",$S$2="I"),14,IF(AND($M8="ĐịA",$S$2="II"),33,IF(AND($M8="KT-PL",$S$2="I"),15,IF(AND($M8="KT-PL",$S$2="II"),34,IF(AND($M8="Tin",$S$2="I"),16,IF(AND($M8="Tin",$S$2="II"),35,IF(AND($M8="CNc",$S$2="I"),17,IF(AND($M8="CNc",$S$2="II"),36,IF(AND($M8="CNn",$S$2="I"),18,IF(AND($M8="CNn",$S$2="II"),37,IF(AND($M8="Nhạc",$S$2="I"),19,IF(AND($M8="Nhạc",$S$2="II"),38,IF(AND($M8="MT",$S$2="I"),20,IF(AND($M8="MT",$S$2="II"),39,59)))))))))))))))))))))))))))))))))))))) -> 0 | ... J8: =IF(W8=0,0,VLOOKUP(W8,'T-L-K'!$B$7:$BH$36,IF(AND($M8="Văn",$S$2="I"),3,IF(AND($M8="Văn",$S$2="II"),22,IF(AND($M8="Toán",$S$2="I"),4,IF(AND($M8="Toán",$S$2="II"),23,IF(AND($M8="Anh",$S$2="I"),5,IF(AND($M8="Anh",$S$2="II"),24,IF(AND($M8="TD",$S$2="I"),6,IF(AND($M8="TD",$S$2="II"),25,IF(AND($M8="QP",$S$2="I"),7,IF(AND($M8="QP",$S$2="II"),26,IF(AND($M8="Sử",$S$2="I"),8,IF(AND($M8="Sử",$S$2="II"),27,IF(AND($M8="GDĐP",$S$2="I"),9,IF(AND($M8="GDĐP",$S$2="II"),28,IF(AND($M8="TN-HN",$S$2="I"),10,IF(AND($M8="TN-HN",$S$2="II"),29,IF(AND($M8="Lý",$S$2="I"),11,IF(AND($M8="Lý",$S$2="II"),30,IF(AND($M8="HóA",$S$2="I"),12,IF(AND($M8="HóA",$S$2="II"),31,IF(AND($M8="Sinh",$S$2="I"),13,IF(AND($M8="Sinh",$S$2="II"),32,IF(AND($M8="ĐịA",$S$2="I"),14,IF(AND($M8="ĐịA",$S$2="II"),33,IF(AND($M8="KT-PL",$S$2="I"),15,IF(AND($M8="KT-PL",$S$2="II"),34,IF(AND($M8="Tin",$S$2="I"),16,IF(AND($M8="Tin",$S$2="II"),35,IF(AND($M8="CNc",$S$2="I"),17,IF(AND($M8="CNc",$S$2="II"),36,IF(AND($M8="CNn",$S$2="I"),18,IF(AND($M8="CNn",$S$2="II"),37,IF(AND($M8="Nhạc",$S$2="I"),19,IF(AND($M8="Nhạc",$S$2="II"),38,IF(AND($M8="MT",$S$2="I"),20,IF(AND($M8="MT",$S$2="II"),39,59)))))))))))))))))))))))))))))))))))))) -> 0 | M8: Toán | AB8: Toán - Tin
A9: =IF(N9=0,0,VLOOKUP(N9,'T-L-K'!$B$7:$BH$36,IF(AND($M9="Văn",$S$2="I"),3,IF(AND($M9="Văn",$S$2="II"),22,IF(AND($M9="Toán",$S$2="I"),4,IF(AND($M9="Toán",$S$2="II"),23,IF(AND($M9="Anh",$S$2="I"),5,IF(AND($M9="Anh",$S$2="II"),24,IF(AND($M9="TD",$S$2="I"),6,IF(AND($M9="TD",$S$2="II"),25,IF(AND($M9="QP",$S$2="I"),7,IF(AND($M9="QP",$S$2="II"),26,IF(AND($M9="Sử",$S$2="I"),8,IF(AND($M9="Sử",$S$2="II"),27,IF(AND($M9="GDĐP",$S$2="I"),9,IF(AND($M9="GDĐP",$S$2="II"),28,IF(AND($M9="TN-HN",$S$2="I"),10,IF(AND($M9="TN-HN",$S$2="II"),29,IF(AND($M9="Lý",$S$2="I"),11,IF(AND($M9="Lý",$S$2="II"),30,IF(AND($M9="HóA",$S$2="I"),12,IF(AND($M9="HóA",$S$2="II"),31,IF(AND($M9="Sinh",$S$2="I"),13,IF(AND($M9="Sinh",$S$2="II"),32,IF(AND($M9="ĐịA",$S$2="I"),14,IF(AND($M9="ĐịA",$S$2="II"),33,IF(AND($M9="KT-PL",$S$2="I"),15,IF(AND($M9="KT-PL",$S$2="II"),34,IF(AND($M9="Tin",$S$2="I"),16,IF(AND($M9="Tin",$S$2="II"),35,IF(AND($M9="CNc",$S$2="I"),17,IF(AND($M9="CNc",$S$2="II"),36,IF(AND($M9="CNn",$S$2="I"),18,IF(AND($M9="CNn",$S$2="II"),37,IF(AND($M9="Nhạc",$S$2="I"),19,IF(AND($M9="Nhạc",$S$2="II"),38,IF(AND($M9="MT",$S$2="I"),20,IF(AND($M9="MT",$S$2="II"),39,59)))))))))))))))))))))))))))))))))))))) -> 1 | B9: =IF(O9=0,0,VLOOKUP(O9,'T-L-K'!$B$7:$BH$36,IF(AND($M9="Văn",$S$2="I"),3,IF(AND($M9="Văn",$S$2="II"),22,IF(AND($M9="Toán",$S$2="I"),4,IF(AND($M9="Toán",$S$2="II"),23,IF(AND($M9="Anh",$S$2="I"),5,IF(AND($M9="Anh",$S$2="II"),24,IF(AND($M9="TD",$S$2="I"),6,IF(AND($M9="TD",$S$2="II"),25,IF(AND($M9="QP",$S$2="I"),7,IF(AND($M9="QP",$S$2="II"),26,IF(AND($M9="Sử",$S$2="I"),8,IF(AND($M9="Sử",$S$2="II"),27,IF(AND($M9="GDĐP",$S$2="I"),9,IF(AND($M9="GDĐP",$S$2="II"),28,IF(AND($M9="TN-HN",$S$2="I"),10,IF(AND($M9="TN-HN",$S$2="II"),29,IF(AND($M9="Lý",$S$2="I"),11,IF(AND($M9="Lý",$S$2="II"),30,IF(AND($M9="HóA",$S$2="I"),12,IF(AND($M9="HóA",$S$2="II"),31,IF(AND($M9="Sinh",$S$2="I"),13,IF(AND($M9="Sinh",$S$2="II"),32,IF(AND($M9="ĐịA",$S$2="I"),14,IF(AND($M9="ĐịA",$S$2="II"),33,IF(AND($M9="KT-PL",$S$2="I"),15,IF(AND($M9="KT-PL",$S$2="II"),34,IF(AND($M9="Tin",$S$2="I"),16,IF(AND($M9="Tin",$S$2="II"),35,IF(AND($M9="CNc",$S$2="I"),17,IF(AND($M9="CNc",$S$2="II"),36,IF(AND($M9="CNn",$S$2="I"),18,IF(AND($M9="CNn",$S$2="II"),37,IF(AND($M9="Nhạc",$S$2="I"),19,IF(AND($M9="Nhạc",$S$2="II"),38,IF(AND($M9="MT",$S$2="I"),20,IF(AND($M9="MT",$S$2="II"),39,59)))))))))))))))))))))))))))))))))))))) -> 0 | C9: =IF(P9=0,0,VLOOKUP(P9,'T-L-K'!$B$7:$BH$36,IF(AND($M9="Văn",$S$2="I"),3,IF(AND($M9="Văn",$S$2="II"),22,IF(AND($M9="Toán",$S$2="I"),4,IF(AND($M9="Toán",$S$2="II"),23,IF(AND($M9="Anh",$S$2="I"),5,IF(AND($M9="Anh",$S$2="II"),24,IF(AND($M9="TD",$S$2="I"),6,IF(AND($M9="TD",$S$2="II"),25,IF(AND($M9="QP",$S$2="I"),7,IF(AND($M9="QP",$S$2="II"),26,IF(AND($M9="Sử",$S$2="I"),8,IF(AND($M9="Sử",$S$2="II"),27,IF(AND($M9="GDĐP",$S$2="I"),9,IF(AND($M9="GDĐP",$S$2="II"),28,IF(AND($M9="TN-HN",$S$2="I"),10,IF(AND($M9="TN-HN",$S$2="II"),29,IF(AND($M9="Lý",$S$2="I"),11,IF(AND($M9="Lý",$S$2="II"),30,IF(AND($M9="HóA",$S$2="I"),12,IF(AND($M9="HóA",$S$2="II"),31,IF(AND($M9="Sinh",$S$2="I"),13,IF(AND($M9="Sinh",$S$2="II"),32,IF(AND($M9="ĐịA",$S$2="I"),14,IF(AND($M9="ĐịA",$S$2="II"),33,IF(AND($M9="KT-PL",$S$2="I"),15,IF(AND($M9="KT-PL",$S$2="II"),34,IF(AND($M9="Tin",$S$2="I"),16,IF(AND($M9="Tin",$S$2="II"),35,IF(AND($M9="CNc",$S$2="I"),17,IF(AND($M9="CNc",$S$2="II"),36,IF(AND($M9="CNn",$S$2="I"),18,IF(AND($M9="CNn",$S$2="II"),37,IF(AND($M9="Nhạc",$S$2="I"),19,IF(AND($M9="Nhạc",$S$2="II"),38,IF(AND($M9="MT",$S$2="I"),20,IF(AND($M9="MT",$S$2="II"),39,59)))))))))))))))))))))))))))))))))))))) -> 0 | D9: =IF(Q9=0,0,VLOOKUP(Q9,'T-L-K'!$B$7:$BH$36,IF(AND($M9="Văn",$S$2="I"),3,IF(AND($M9="Văn",$S$2="II"),22,IF(AND($M9="Toán",$S$2="I"),4,IF(AND($M9="Toán",$S$2="II"),23,IF(AND($M9="Anh",$S$2="I"),5,IF(AND($M9="Anh",$S$2="II"),24,IF(AND($M9="TD",$S$2="I"),6,IF(AND($M9="TD",$S$2="II"),25,IF(AND($M9="QP",$S$2="I"),7,IF(AND($M9="QP",$S$2="II"),26,IF(AND($M9="Sử",$S$2="I"),8,IF(AND($M9="Sử",$S$2="II"),27,IF(AND($M9="GDĐP",$S$2="I"),9,IF(AND($M9="GDĐP",$S$2="II"),28,IF(AND($M9="TN-HN",$S$2="I"),10,IF(AND($M9="TN-HN",$S$2="II"),29,IF(AND($M9="Lý",$S$2="I"),11,IF(AND($M9="Lý",$S$2="II"),30,IF(AND($M9="HóA",$S$2="I"),12,IF(AND($M9="HóA",$S$2="II"),31,IF(AND($M9="Sinh",$S$2="I"),13,IF(AND($M9="Sinh",$S$2="II"),32,IF(AND($M9="ĐịA",$S$2="I"),14,IF(AND($M9="ĐịA",$S$2="II"),33,IF(AND($M9="KT-PL",$S$2="I"),15,IF(AND($M9="KT-PL",$S$2="II"),34,IF(AND($M9="Tin",$S$2="I"),16,IF(AND($M9="Tin",$S$2="II"),35,IF(AND($M9="CNc",$S$2="I"),17,IF(AND($M9="CNc",$S$2="II"),36,IF(AND($M9="CNn",$S$2="I"),18,IF(AND($M9="CNn",$S$2="II"),37,IF(AND($M9="Nhạc",$S$2="I"),19,IF(AND($M9="Nhạc",$S$2="II"),38,IF(AND($M9="MT",$S$2="I"),20,IF(AND($M9="MT",$S$2="II"),39,59)))))))))))))))))))))))))))))))))))))) -> 0 | E9: =IF(R9=0,0,VLOOKUP(R9,'T-L-K'!$B$7:$BH$36,IF(AND($M9="Văn",$S$2="I"),3,IF(AND($M9="Văn",$S$2="II"),22,IF(AND($M9="Toán",$S$2="I"),4,IF(AND($M9="Toán",$S$2="II"),23,IF(AND($M9="Anh",$S$2="I"),5,IF(AND($M9="Anh",$S$2="II"),24,IF(AND($M9="TD",$S$2="I"),6,IF(AND($M9="TD",$S$2="II"),25,IF(AND($M9="QP",$S$2="I"),7,IF(AND($M9="QP",$S$2="II"),26,IF(AND($M9="Sử",$S$2="I"),8,IF(AND($M9="Sử",$S$2="II"),27,IF(AND($M9="GDĐP",$S$2="I"),9,IF(AND($M9="GDĐP",$S$2="II"),28,IF(AND($M9="TN-HN",$S$2="I"),10,IF(AND($M9="TN-HN",$S$2="II"),29,IF(AND($M9="Lý",$S$2="I"),11,IF(AND($M9="Lý",$S$2="II"),30,IF(AND($M9="HóA",$S$2="I"),12,IF(AND($M9="HóA",$S$2="II"),31,IF(AND($M9="Sinh",$S$2="I"),13,IF(AND($M9="Sinh",$S$2="II"),32,IF(AND($M9="ĐịA",$S$2="I"),14,IF(AND($M9="ĐịA",$S$2="II"),33,IF(AND($M9="KT-PL",$S$2="I"),15,IF(AND($M9="KT-PL",$S$2="II"),34,IF(AND($M9="Tin",$S$2="I"),16,IF(AND($M9="Tin",$S$2="II"),35,IF(AND($M9="CNc",$S$2="I"),17,IF(AND($M9="CNc",$S$2="II"),36,IF(AND($M9="CNn",$S$2="I"),18,IF(AND($M9="CNn",$S$2="II"),37,IF(AND($M9="Nhạc",$S$2="I"),19,IF(AND($M9="Nhạc",$S$2="II"),38,IF(AND($M9="MT",$S$2="I"),20,IF(AND($M9="MT",$S$2="II"),39,59)))))))))))))))))))))))))))))))))))))) -> 0 | F9: =IF(S9=0,0,VLOOKUP(S9,'T-L-K'!$B$7:$BH$36,IF(AND($M9="Văn",$S$2="I"),3,IF(AND($M9="Văn",$S$2="II"),22,IF(AND($M9="Toán",$S$2="I"),4,IF(AND($M9="Toán",$S$2="II"),23,IF(AND($M9="Anh",$S$2="I"),5,IF(AND($M9="Anh",$S$2="II"),24,IF(AND($M9="TD",$S$2="I"),6,IF(AND($M9="TD",$S$2="II"),25,IF(AND($M9="QP",$S$2="I"),7,IF(AND($M9="QP",$S$2="II"),26,IF(AND($M9="Sử",$S$2="I"),8,IF(AND($M9="Sử",$S$2="II"),27,IF(AND($M9="GDĐP",$S$2="I"),9,IF(AND($M9="GDĐP",$S$2="II"),28,IF(AND($M9="TN-HN",$S$2="I"),10,IF(AND($M9="TN-HN",$S$2="II"),29,IF(AND($M9="Lý",$S$2="I"),11,IF(AND($M9="Lý",$S$2="II"),30,IF(AND($M9="HóA",$S$2="I"),12,IF(AND($M9="HóA",$S$2="II"),31,IF(AND($M9="Sinh",$S$2="I"),13,IF(AND($M9="Sinh",$S$2="II"),32,IF(AND($M9="ĐịA",$S$2="I"),14,IF(AND($M9="ĐịA",$S$2="II"),33,IF(AND($M9="KT-PL",$S$2="I"),15,IF(AND($M9="KT-PL",$S$2="II"),34,IF(AND($M9="Tin",$S$2="I"),16,IF(AND($M9="Tin",$S$2="II"),35,IF(AND($M9="CNc",$S$2="I"),17,IF(AND($M9="CNc",$S$2="II"),36,IF(AND($M9="CNn",$S$2="I"),18,IF(AND($M9="CNn",$S$2="II"),37,IF(AND($M9="Nhạc",$S$2="I"),19,IF(AND($M9="Nhạc",$S$2="II"),38,IF(AND($M9="MT",$S$2="I"),20,IF(AND($M9="MT",$S$2="II"),39,59)))))))))))))))))))))))))))))))))))))) -> 0 | G9: =IF(T9=0,0,VLOOKUP(T9,'T-L-K'!$B$7:$BH$36,IF(AND($M9="Văn",$S$2="I"),3,IF(AND($M9="Văn",$S$2="II"),22,IF(AND($M9="Toán",$S$2="I"),4,IF(AND($M9="Toán",$S$2="II"),23,IF(AND($M9="Anh",$S$2="I"),5,IF(AND($M9="Anh",$S$2="II"),24,IF(AND($M9="TD",$S$2="I"),6,IF(AND($M9="TD",$S$2="II"),25,IF(AND($M9="QP",$S$2="I"),7,IF(AND($M9="QP",$S$2="II"),26,IF(AND($M9="Sử",$S$2="I"),8,IF(AND($M9="Sử",$S$2="II"),27,IF(AND($M9="GDĐP",$S$2="I"),9,IF(AND($M9="GDĐP",$S$2="II"),28,IF(AND($M9="TN-HN",$S$2="I"),10,IF(AND($M9="TN-HN",$S$2="II"),29,IF(AND($M9="Lý",$S$2="I"),11,IF(AND($M9="Lý",$S$2="II"),30,IF(AND($M9="HóA",$S$2="I"),12,IF(AND($M9="HóA",$S$2="II"),31,IF(AND($M9="Sinh",$S$2="I"),13,IF(AND($M9="Sinh",$S$2="II"),32,IF(AND($M9="ĐịA",$S$2="I"),14,IF(AND($M9="ĐịA",$S$2="II"),33,IF(AND($M9="KT-PL",$S$2="I"),15,IF(AND($M9="KT-PL",$S$2="II"),34,IF(AND($M9="Tin",$S$2="I"),16,IF(AND($M9="Tin",$S$2="II"),35,IF(AND($M9="CNc",$S$2="I"),17,IF(AND($M9="CNc",$S$2="II"),36,IF(AND($M9="CNn",$S$2="I"),18,IF(AND($M9="CNn",$S$2="II"),37,IF(AND($M9="Nhạc",$S$2="I"),19,IF(AND($M9="Nhạc",$S$2="II"),38,IF(AND($M9="MT",$S$2="I"),20,IF(AND($M9="MT",$S$2="II"),39,59)))))))))))))))))))))))))))))))))))))) -> 0 | H9: =IF(U9=0,0,VLOOKUP(U9,'T-L-K'!$B$7:$BH$36,IF(AND($M9="Văn",$S$2="I"),3,IF(AND($M9="Văn",$S$2="II"),22,IF(AND($M9="Toán",$S$2="I"),4,IF(AND($M9="Toán",$S$2="II"),23,IF(AND($M9="Anh",$S$2="I"),5,IF(AND($M9="Anh",$S$2="II"),24,IF(AND($M9="TD",$S$2="I"),6,IF(AND($M9="TD",$S$2="II"),25,IF(AND($M9="QP",$S$2="I"),7,IF(AND($M9="QP",$S$2="II"),26,IF(AND($M9="Sử",$S$2="I"),8,IF(AND($M9="Sử",$S$2="II"),27,IF(AND($M9="GDĐP",$S$2="I"),9,IF(AND($M9="GDĐP",$S$2="II"),28,IF(AND($M9="TN-HN",$S$2="I"),10,IF(AND($M9="TN-HN",$S$2="II"),29,IF(AND($M9="Lý",$S$2="I"),11,IF(AND($M9="Lý",$S$2="II"),30,IF(AND($M9="HóA",$S$2="I"),12,IF(AND($M9="HóA",$S$2="II"),31,IF(AND($M9="Sinh",$S$2="I"),13,IF(AND($M9="Sinh",$S$2="II"),32,IF(AND($M9="ĐịA",$S$2="I"),14,IF(AND($M9="ĐịA",$S$2="II"),33,IF(AND($M9="KT-PL",$S$2="I"),15,IF(AND($M9="KT-PL",$S$2="II"),34,IF(AND($M9="Tin",$S$2="I"),16,IF(AND($M9="Tin",$S$2="II"),35,IF(AND($M9="CNc",$S$2="I"),17,IF(AND($M9="CNc",$S$2="II"),36,IF(AND($M9="CNn",$S$2="I"),18,IF(AND($M9="CNn",$S$2="II"),37,IF(AND($M9="Nhạc",$S$2="I"),19,IF(AND($M9="Nhạc",$S$2="II"),38,IF(AND($M9="MT",$S$2="I"),20,IF(AND($M9="MT",$S$2="II"),39,59)))))))))))))))))))))))))))))))))))))) -> 0 | ... J9: =IF(W9=0,0,VLOOKUP(W9,'T-L-K'!$B$7:$BH$36,IF(AND($M9="Văn",$S$2="I"),3,IF(AND($M9="Văn",$S$2="II"),22,IF(AND($M9="Toán",$S$2="I"),4,IF(AND($M9="Toán",$S$2="II"),23,IF(AND($M9="Anh",$S$2="I"),5,IF(AND($M9="Anh",$S$2="II"),24,IF(AND($M9="TD",$S$2="I"),6,IF(AND($M9="TD",$S$2="II"),25,IF(AND($M9="QP",$S$2="I"),7,IF(AND($M9="QP",$S$2="II"),26,IF(AND($M9="Sử",$S$2="I"),8,IF(AND($M9="Sử",$S$2="II"),27,IF(AND($M9="GDĐP",$S$2="I"),9,IF(AND($M9="GDĐP",$S$2="II"),28,IF(AND($M9="TN-HN",$S$2="I"),10,IF(AND($M9="TN-HN",$S$2="II"),29,IF(AND($M9="Lý",$S$2="I"),11,IF(AND($M9="Lý",$S$2="II"),30,IF(AND($M9="HóA",$S$2="I"),12,IF(AND($M9="HóA",$S$2="II"),31,IF(AND($M9="Sinh",$S$2="I"),13,IF(AND($M9="Sinh",$S$2="II"),32,IF(AND($M9="ĐịA",$S$2="I"),14,IF(AND($M9="ĐịA",$S$2="II"),33,IF(AND($M9="KT-PL",$S$2="I"),15,IF(AND($M9="KT-PL",$S$2="II"),34,IF(AND($M9="Tin",$S$2="I"),16,IF(AND($M9="Tin",$S$2="II"),35,IF(AND($M9="CNc",$S$2="I"),17,IF(AND($M9="CNc",$S$2="II"),36,IF(AND($M9="CNn",$S$2="I"),18,IF(AND($M9="CNn",$S$2="II"),37,IF(AND($M9="Nhạc",$S$2="I"),19,IF(AND($M9="Nhạc",$S$2="II"),38,IF(AND($M9="MT",$S$2="I"),20,IF(AND($M9="MT",$S$2="II"),39,59)))))))))))))))))))))))))))))))))))))) -> 0 | M9: TN-HN | N9: 11A7 | AB9: Toán - Tin
A10: =IF(N10=0,0,VLOOKUP(N10,'T-L-K'!$B$7:$BH$36,IF(AND($M10="Văn",$S$2="I"),3,IF(AND($M10="Văn",$S$2="II"),22,IF(AND($M10="Toán",$S$2="I"),4,IF(AND($M10="Toán",$S$2="II"),23,IF(AND($M10="Anh",$S$2="I"),5,IF(AND($M10="Anh",$S$2="II"),24,IF(AND($M10="TD",$S$2="I"),6,IF(AND($M10="TD",$S$2="II"),25,IF(AND($M10="QP",$S$2="I"),7,IF(AND($M10="QP",$S$2="II"),26,IF(AND($M10="Sử",$S$2="I"),8,IF(AND($M10="Sử",$S$2="II"),27,IF(AND($M10="GDĐP",$S$2="I"),9,IF(AND($M10="GDĐP",$S$2="II"),28,IF(AND($M10="TN-HN",$S$2="I"),10,IF(AND($M10="TN-HN",$S$2="II"),29,IF(AND($M10="Lý",$S$2="I"),11,IF(AND($M10="Lý",$S$2="II"),30,IF(AND($M10="HóA",$S$2="I"),12,IF(AND($M10="HóA",$S$2="II"),31,IF(AND($M10="Sinh",$S$2="I"),13,IF(AND($M10="Sinh",$S$2="II"),32,IF(AND($M10="ĐịA",$S$2="I"),14,IF(AND($M10="ĐịA",$S$2="II"),33,IF(AND($M10="KT-PL",$S$2="I"),15,IF(AND($M10="KT-PL",$S$2="II"),34,IF(AND($M10="Tin",$S$2="I"),16,IF(AND($M10="Tin",$S$2="II"),35,IF(AND($M10="CNc",$S$2="I"),17,IF(AND($M10="CNc",$S$2="II"),36,IF(AND($M10="CNn",$S$2="I"),18,IF(AND($M10="CNn",$S$2="II"),37,IF(AND($M10="Nhạc",$S$2="I"),19,IF(AND($M10="Nhạc",$S$2="II"),38,IF(AND($M10="MT",$S$2="I"),20,IF(AND($M10="MT",$S$2="II"),39,59)))))))))))))))))))))))))))))))))))))) -> 4 | B10: =IF(O10=0,0,VLOOKUP(O10,'T-L-K'!$B$7:$BH$36,IF(AND($M10="Văn",$S$2="I"),3,IF(AND($M10="Văn",$S$2="II"),22,IF(AND($M10="Toán",$S$2="I"),4,IF(AND($M10="Toán",$S$2="II"),23,IF(AND($M10="Anh",$S$2="I"),5,IF(AND($M10="Anh",$S$2="II"),24,IF(AND($M10="TD",$S$2="I"),6,IF(AND($M10="TD",$S$2="II"),25,IF(AND($M10="QP",$S$2="I"),7,IF(AND($M10="QP",$S$2="II"),26,IF(AND($M10="Sử",$S$2="I"),8,IF(AND($M10="Sử",$S$2="II"),27,IF(AND($M10="GDĐP",$S$2="I"),9,IF(AND($M10="GDĐP",$S$2="II"),28,IF(AND($M10="TN-HN",$S$2="I"),10,IF(AND($M10="TN-HN",$S$2="II"),29,IF(AND($M10="Lý",$S$2="I"),11,IF(AND($M10="Lý",$S$2="II"),30,IF(AND($M10="HóA",$S$2="I"),12,IF(AND($M10="HóA",$S$2="II"),31,IF(AND($M10="Sinh",$S$2="I"),13,IF(AND($M10="Sinh",$S$2="II"),32,IF(AND($M10="ĐịA",$S$2="I"),14,IF(AND($M10="ĐịA",$S$2="II"),33,IF(AND($M10="KT-PL",$S$2="I"),15,IF(AND($M10="KT-PL",$S$2="II"),34,IF(AND($M10="Tin",$S$2="I"),16,IF(AND($M10="Tin",$S$2="II"),35,IF(AND($M10="CNc",$S$2="I"),17,IF(AND($M10="CNc",$S$2="II"),36,IF(AND($M10="CNn",$S$2="I"),18,IF(AND($M10="CNn",$S$2="II"),37,IF(AND($M10="Nhạc",$S$2="I"),19,IF(AND($M10="Nhạc",$S$2="II"),38,IF(AND($M10="MT",$S$2="I"),20,IF(AND($M10="MT",$S$2="II"),39,59)))))))))))))))))))))))))))))))))))))) -> 4 | C10: =IF(P10=0,0,VLOOKUP(P10,'T-L-K'!$B$7:$BH$36,IF(AND($M10="Văn",$S$2="I"),3,IF(AND($M10="Văn",$S$2="II"),22,IF(AND($M10="Toán",$S$2="I"),4,IF(AND($M10="Toán",$S$2="II"),23,IF(AND($M10="Anh",$S$2="I"),5,IF(AND($M10="Anh",$S$2="II"),24,IF(AND($M10="TD",$S$2="I"),6,IF(AND($M10="TD",$S$2="II"),25,IF(AND($M10="QP",$S$2="I"),7,IF(AND($M10="QP",$S$2="II"),26,IF(AND($M10="Sử",$S$2="I"),8,IF(AND($M10="Sử",$S$2="II"),27,IF(AND($M10="GDĐP",$S$2="I"),9,IF(AND($M10="GDĐP",$S$2="II"),28,IF(AND($M10="TN-HN",$S$2="I"),10,IF(AND($M10="TN-HN",$S$2="II"),29,IF(AND($M10="Lý",$S$2="I"),11,IF(AND($M10="Lý",$S$2="II"),30,IF(AND($M10="HóA",$S$2="I"),12,IF(AND($M10="HóA",$S$2="II"),31,IF(AND($M10="Sinh",$S$2="I"),13,IF(AND($M10="Sinh",$S$2="II"),32,IF(AND($M10="ĐịA",$S$2="I"),14,IF(AND($M10="ĐịA",$S$2="II"),33,IF(AND($M10="KT-PL",$S$2="I"),15,IF(AND($M10="KT-PL",$S$2="II"),34,IF(AND($M10="Tin",$S$2="I"),16,IF(AND($M10="Tin",$S$2="II"),35,IF(AND($M10="CNc",$S$2="I"),17,IF(AND($M10="CNc",$S$2="II"),36,IF(AND($M10="CNn",$S$2="I"),18,IF(AND($M10="CNn",$S$2="II"),37,IF(AND($M10="Nhạc",$S$2="I"),19,IF(AND($M10="Nhạc",$S$2="II"),38,IF(AND($M10="MT",$S$2="I"),20,IF(AND($M10="MT",$S$2="II"),39,59)))))))))))))))))))))))))))))))))))))) -> 4 | D10: =IF(Q10=0,0,VLOOKUP(Q10,'T-L-K'!$B$7:$BH$36,IF(AND($M10="Văn",$S$2="I"),3,IF(AND($M10="Văn",$S$2="II"),22,IF(AND($M10="Toán",$S$2="I"),4,IF(AND($M10="Toán",$S$2="II"),23,IF(AND($M10="Anh",$S$2="I"),5,IF(AND($M10="Anh",$S$2="II"),24,IF(AND($M10="TD",$S$2="I"),6,IF(AND($M10="TD",$S$2="II"),25,IF(AND($M10="QP",$S$2="I"),7,IF(AND($M10="QP",$S$2="II"),26,IF(AND($M10="Sử",$S$2="I"),8,IF(AND($M10="Sử",$S$2="II"),27,IF(AND($M10="GDĐP",$S$2="I"),9,IF(AND($M10="GDĐP",$S$2="II"),28,IF(AND($M10="TN-HN",$S$2="I"),10,IF(AND($M10="TN-HN",$S$2="II"),29,IF(AND($M10="Lý",$S$2="I"),11,IF(AND($M10="Lý",$S$2="II"),30,IF(AND($M10="HóA",$S$2="I"),12,IF(AND($M10="HóA",$S$2="II"),31,IF(AND($M10="Sinh",$S$2="I"),13,IF(AND($M10="Sinh",$S$2="II"),32,IF(AND($M10="ĐịA",$S$2="I"),14,IF(AND($M10="ĐịA",$S$2="II"),33,IF(AND($M10="KT-PL",$S$2="I"),15,IF(AND($M10="KT-PL",$S$2="II"),34,IF(AND($M10="Tin",$S$2="I"),16,IF(AND($M10="Tin",$S$2="II"),35,IF(AND($M10="CNc",$S$2="I"),17,IF(AND($M10="CNc",$S$2="II"),36,IF(AND($M10="CNn",$S$2="I"),18,IF(AND($M10="CNn",$S$2="II"),37,IF(AND($M10="Nhạc",$S$2="I"),19,IF(AND($M10="Nhạc",$S$2="II"),38,IF(AND($M10="MT",$S$2="I"),20,IF(AND($M10="MT",$S$2="II"),39,59)))))))))))))))))))))))))))))))))))))) -> 0 | E10: =IF(R10=0,0,VLOOKUP(R10,'T-L-K'!$B$7:$BH$36,IF(AND($M10="Văn",$S$2="I"),3,IF(AND($M10="Văn",$S$2="II"),22,IF(AND($M10="Toán",$S$2="I"),4,IF(AND($M10="Toán",$S$2="II"),23,IF(AND($M10="Anh",$S$2="I"),5,IF(AND($M10="Anh",$S$2="II"),24,IF(AND($M10="TD",$S$2="I"),6,IF(AND($M10="TD",$S$2="II"),25,IF(AND($M10="QP",$S$2="I"),7,IF(AND($M10="QP",$S$2="II"),26,IF(AND($M10="Sử",$S$2="I"),8,IF(AND($M10="Sử",$S$2="II"),27,IF(AND($M10="GDĐP",$S$2="I"),9,IF(AND($M10="GDĐP",$S$2="II"),28,IF(AND($M10="TN-HN",$S$2="I"),10,IF(AND($M10="TN-HN",$S$2="II"),29,IF(AND($M10="Lý",$S$2="I"),11,IF(AND($M10="Lý",$S$2="II"),30,IF(AND($M10="HóA",$S$2="I"),12,IF(AND($M10="HóA",$S$2="II"),31,IF(AND($M10="Sinh",$S$2="I"),13,IF(AND($M10="Sinh",$S$2="II"),32,IF(AND($M10="ĐịA",$S$2="I"),14,IF(AND($M10="ĐịA",$S$2="II"),33,IF(AND($M10="KT-PL",$S$2="I"),15,IF(AND($M10="KT-PL",$S$2="II"),34,IF(AND($M10="Tin",$S$2="I"),16,IF(AND($M10="Tin",$S$2="II"),35,IF(AND($M10="CNc",$S$2="I"),17,IF(AND($M10="CNc",$S$2="II"),36,IF(AND($M10="CNn",$S$2="I"),18,IF(AND($M10="CNn",$S$2="II"),37,IF(AND($M10="Nhạc",$S$2="I"),19,IF(AND($M10="Nhạc",$S$2="II"),38,IF(AND($M10="MT",$S$2="I"),20,IF(AND($M10="MT",$S$2="II"),39,59)))))))))))))))))))))))))))))))))))))) -> 0 | F10: =IF(S10=0,0,VLOOKUP(S10,'T-L-K'!$B$7:$BH$36,IF(AND($M10="Văn",$S$2="I"),3,IF(AND($M10="Văn",$S$2="II"),22,IF(AND($M10="Toán",$S$2="I"),4,IF(AND($M10="Toán",$S$2="II"),23,IF(AND($M10="Anh",$S$2="I"),5,IF(AND($M10="Anh",$S$2="II"),24,IF(AND($M10="TD",$S$2="I"),6,IF(AND($M10="TD",$S$2="II"),25,IF(AND($M10="QP",$S$2="I"),7,IF(AND($M10="QP",$S$2="II"),26,IF(AND($M10="Sử",$S$2="I"),8,IF(AND($M10="Sử",$S$2="II"),27,IF(AND($M10="GDĐP",$S$2="I"),9,IF(AND($M10="GDĐP",$S$2="II"),28,IF(AND($M10="TN-HN",$S$2="I"),10,IF(AND($M10="TN-HN",$S$2="II"),29,IF(AND($M10="Lý",$S$2="I"),11,IF(AND($M10="Lý",$S$2="II"),30,IF(AND($M10="HóA",$S$2="I"),12,IF(AND($M10="HóA",$S$2="II"),31,IF(AND($M10="Sinh",$S$2="I"),13,IF(AND($M10="Sinh",$S$2="II"),32,IF(AND($M10="ĐịA",$S$2="I"),14,IF(AND($M10="ĐịA",$S$2="II"),33,IF(AND($M10="KT-PL",$S$2="I"),15,IF(AND($M10="KT-PL",$S$2="II"),34,IF(AND($M10="Tin",$S$2="I"),16,IF(AND($M10="Tin",$S$2="II"),35,IF(AND($M10="CNc",$S$2="I"),17,IF(AND($M10="CNc",$S$2="II"),36,IF(AND($M10="CNn",$S$2="I"),18,IF(AND($M10="CNn",$S$2="II"),37,IF(AND($M10="Nhạc",$S$2="I"),19,IF(AND($M10="Nhạc",$S$2="II"),38,IF(AND($M10="MT",$S$2="I"),20,IF(AND($M10="MT",$S$2="II"),39,59)))))))))))))))))))))))))))))))))))))) -> 0 | G10: =IF(T10=0,0,VLOOKUP(T10,'T-L-K'!$B$7:$BH$36,IF(AND($M10="Văn",$S$2="I"),3,IF(AND($M10="Văn",$S$2="II"),22,IF(AND($M10="Toán",$S$2="I"),4,IF(AND($M10="Toán",$S$2="II"),23,IF(AND($M10="Anh",$S$2="I"),5,IF(AND($M10="Anh",$S$2="II"),24,IF(AND($M10="TD",$S$2="I"),6,IF(AND($M10="TD",$S$2="II"),25,IF(AND($M10="QP",$S$2="I"),7,IF(AND($M10="QP",$S$2="II"),26,IF(AND($M10="Sử",$S$2="I"),8,IF(AND($M10="Sử",$S$2="II"),27,IF(AND($M10="GDĐP",$S$2="I"),9,IF(AND($M10="GDĐP",$S$2="II"),28,IF(AND($M10="TN-HN",$S$2="I"),10,IF(AND($M10="TN-HN",$S$2="II"),29,IF(AND($M10="Lý",$S$2="I"),11,IF(AND($M10="Lý",$S$2="II"),30,IF(AND($M10="HóA",$S$2="I"),12,IF(AND($M10="HóA",$S$2="II"),31,IF(AND($M10="Sinh",$S$2="I"),13,IF(AND($M10="Sinh",$S$2="II"),32,IF(AND($M10="ĐịA",$S$2="I"),14,IF(AND($M10="ĐịA",$S$2="II"),33,IF(AND($M10="KT-PL",$S$2="I"),15,IF(AND($M10="KT-PL",$S$2="II"),34,IF(AND($M10="Tin",$S$2="I"),16,IF(AND($M10="Tin",$S$2="II"),35,IF(AND($M10="CNc",$S$2="I"),17,IF(AND($M10="CNc",$S$2="II"),36,IF(AND($M10="CNn",$S$2="I"),18,IF(AND($M10="CNn",$S$2="II"),37,IF(AND($M10="Nhạc",$S$2="I"),19,IF(AND($M10="Nhạc",$S$2="II"),38,IF(AND($M10="MT",$S$2="I"),20,IF(AND($M10="MT",$S$2="II"),39,59)))))))))))))))))))))))))))))))))))))) -> 0 | H10: =IF(U10=0,0,VLOOKUP(U10,'T-L-K'!$B$7:$BH$36,IF(AND($M10="Văn",$S$2="I"),3,IF(AND($M10="Văn",$S$2="II"),22,IF(AND($M10="Toán",$S$2="I"),4,IF(AND($M10="Toán",$S$2="II"),23,IF(AND($M10="Anh",$S$2="I"),5,IF(AND($M10="Anh",$S$2="II"),24,IF(AND($M10="TD",$S$2="I"),6,IF(AND($M10="TD",$S$2="II"),25,IF(AND($M10="QP",$S$2="I"),7,IF(AND($M10="QP",$S$2="II"),26,IF(AND($M10="Sử",$S$2="I"),8,IF(AND($M10="Sử",$S$2="II"),27,IF(AND($M10="GDĐP",$S$2="I"),9,IF(AND($M10="GDĐP",$S$2="II"),28,IF(AND($M10="TN-HN",$S$2="I"),10,IF(AND($M10="TN-HN",$S$2="II"),29,IF(AND($M10="Lý",$S$2="I"),11,IF(AND($M10="Lý",$S$2="II"),30,IF(AND($M10="HóA",$S$2="I"),12,IF(AND($M10="HóA",$S$2="II"),31,IF(AND($M10="Sinh",$S$2="I"),13,IF(AND($M10="Sinh",$S$2="II"),32,IF(AND($M10="ĐịA",$S$2="I"),14,IF(AND($M10="ĐịA",$S$2="II"),33,IF(AND($M10="KT-PL",$S$2="I"),15,IF(AND($M10="KT-PL",$S$2="II"),34,IF(AND($M10="Tin",$S$2="I"),16,IF(AND($M10="Tin",$S$2="II"),35,IF(AND($M10="CNc",$S$2="I"),17,IF(AND($M10="CNc",$S$2="II"),36,IF(AND($M10="CNn",$S$2="I"),18,IF(AND($M10="CNn",$S$2="II"),37,IF(AND($M10="Nhạc",$S$2="I"),19,IF(AND($M10="Nhạc",$S$2="II"),38,IF(AND($M10="MT",$S$2="I"),20,IF(AND($M10="MT",$S$2="II"),39,59)))))))))))))))))))))))))))))))))))))) -> 0 | ... J10: =IF(W10=0,0,VLOOKUP(W10,'T-L-K'!$B$7:$BH$36,IF(AND($M10="Văn",$S$2="I"),3,IF(AND($M10="Văn",$S$2="II"),22,IF(AND($M10="Toán",$S$2="I"),4,IF(AND($M10="Toán",$S$2="II"),23,IF(AND($M10="Anh",$S$2="I"),5,IF(AND($M10="Anh",$S$2="II"),24,IF(AND($M10="TD",$S$2="I"),6,IF(AND($M10="TD",$S$2="II"),25,IF(AND($M10="QP",$S$2="I"),7,IF(AND($M10="QP",$S$2="II"),26,IF(AND($M10="Sử",$S$2="I"),8,IF(AND($M10="Sử",$S$2="II"),27,IF(AND($M10="GDĐP",$S$2="I"),9,IF(AND($M10="GDĐP",$S$2="II"),28,IF(AND($M10="TN-HN",$S$2="I"),10,IF(AND($M10="TN-HN",$S$2="II"),29,IF(AND($M10="Lý",$S$2="I"),11,IF(AND($M10="Lý",$S$2="II"),30,IF(AND($M10="HóA",$S$2="I"),12,IF(AND($M10="HóA",$S$2="II"),31,IF(AND($M10="Sinh",$S$2="I"),13,IF(AND($M10="Sinh",$S$2="II"),32,IF(AND($M10="ĐịA",$S$2="I"),14,IF(AND($M10="ĐịA",$S$2="II"),33,IF(AND($M10="KT-PL",$S$2="I"),15,IF(AND($M10="KT-PL",$S$2="II"),34,IF(AND($M10="Tin",$S$2="I"),16,IF(AND($M10="Tin",$S$2="II"),35,IF(AND($M10="CNc",$S$2="I"),17,IF(AND($M10="CNc",$S$2="II"),36,IF(AND($M10="CNn",$S$2="I"),18,IF(AND($M10="CNn",$S$2="II"),37,IF(AND($M10="Nhạc",$S$2="I"),19,IF(AND($M10="Nhạc",$S$2="II"),38,IF(AND($M10="MT",$S$2="I"),20,IF(AND($M10="MT",$S$2="II"),39,59)))))))))))))))))))))))))))))))))))))) -> 0 | K10: T4 | L10: =IF(K10=0,0,VLOOKUP(K10,CBGV!$B$4:$M$69,12,0)) -> 0 | M10: Toán | N10: 10A1 | O10: 10A5 | P10: 10A8 | X10: =IF(K10=0,0,VLOOKUP(K10,CBGV!$B$4:$P$69,14,0))+IF(L10=0,0,VLOOKUP(L10,'T-L-K'!$B$7:$BH$36,2,0)) -> 4 | Y10: =SUM(A10:J12) -> 12 | Z10: =SUM(A10:J12)+X10 -> 16 | AA10: =IF((Z10-(VLOOKUP(K10,CBGV!$B$4:$P$69,13,0)))<=-14,"/",(Z10-(VLOOKUP(K10,CBGV!$B$4:$P$69,13,0)))) -> -1 | AB10: Toán - Tin
A11: =IF(N11=0,0,VLOOKUP(N11,'T-L-K'!$B$7:$BH$36,IF(AND($M11="Văn",$S$2="I"),3,IF(AND($M11="Văn",$S$2="II"),22,IF(AND($M11="Toán",$S$2="I"),4,IF(AND($M11="Toán",$S$2="II"),23,IF(AND($M11="Anh",$S$2="I"),5,IF(AND($M11="Anh",$S$2="II"),24,IF(AND($M11="TD",$S$2="I"),6,IF(AND($M11="TD",$S$2="II"),25,IF(AND($M11="QP",$S$2="I"),7,IF(AND($M11="QP",$S$2="II"),26,IF(AND($M11="Sử",$S$2="I"),8,IF(AND($M11="Sử",$S$2="II"),27,IF(AND($M11="GDĐP",$S$2="I"),9,IF(AND($M11="GDĐP",$S$2="II"),28,IF(AND($M11="TN-HN",$S$2="I"),10,IF(AND($M11="TN-HN",$S$2="II"),29,IF(AND($M11="Lý",$S$2="I"),11,IF(AND($M11="Lý",$S$2="II"),30,IF(AND($M11="HóA",$S$2="I"),12,IF(AND($M11="HóA",$S$2="II"),31,IF(AND($M11="Sinh",$S$2="I"),13,IF(AND($M11="Sinh",$S$2="II"),32,IF(AND($M11="ĐịA",$S$2="I"),14,IF(AND($M11="ĐịA",$S$2="II"),33,IF(AND($M11="KT-PL",$S$2="I"),15,IF(AND($M11="KT-PL",$S$2="II"),34,IF(AND($M11="Tin",$S$2="I"),16,IF(AND($M11="Tin",$S$2="II"),35,IF(AND($M11="CNc",$S$2="I"),17,IF(AND($M11="CNc",$S$2="II"),36,IF(AND($M11="CNn",$S$2="I"),18,IF(AND($M11="CNn",$S$2="II"),37,IF(AND($M11="Nhạc",$S$2="I"),19,IF(AND($M11="Nhạc",$S$2="II"),38,IF(AND($M11="MT",$S$2="I"),20,IF(AND($M11="MT",$S$2="II"),39,59)))))))))))))))))))))))))))))))))))))) -> 0 | B11: =IF(O11=0,0,VLOOKUP(O11,'T-L-K'!$B$7:$BH$36,IF(AND($M11="Văn",$S$2="I"),3,IF(AND($M11="Văn",$S$2="II"),22,IF(AND($M11="Toán",$S$2="I"),4,IF(AND($M11="Toán",$S$2="II"),23,IF(AND($M11="Anh",$S$2="I"),5,IF(AND($M11="Anh",$S$2="II"),24,IF(AND($M11="TD",$S$2="I"),6,IF(AND($M11="TD",$S$2="II"),25,IF(AND($M11="QP",$S$2="I"),7,IF(AND($M11="QP",$S$2="II"),26,IF(AND($M11="Sử",$S$2="I"),8,IF(AND($M11="Sử",$S$2="II"),27,IF(AND($M11="GDĐP",$S$2="I"),9,IF(AND($M11="GDĐP",$S$2="II"),28,IF(AND($M11="TN-HN",$S$2="I"),10,IF(AND($M11="TN-HN",$S$2="II"),29,IF(AND($M11="Lý",$S$2="I"),11,IF(AND($M11="Lý",$S$2="II"),30,IF(AND($M11="HóA",$S$2="I"),12,IF(AND($M11="HóA",$S$2="II"),31,IF(AND($M11="Sinh",$S$2="I"),13,IF(AND($M11="Sinh",$S$2="II"),32,IF(AND($M11="ĐịA",$S$2="I"),14,IF(AND($M11="ĐịA",$S$2="II"),33,IF(AND($M11="KT-PL",$S$2="I"),15,IF(AND($M11="KT-PL",$S$2="II"),34,IF(AND($M11="Tin",$S$2="I"),16,IF(AND($M11="Tin",$S$2="II"),35,IF(AND($M11="CNc",$S$2="I"),17,IF(AND($M11="CNc",$S$2="II"),36,IF(AND($M11="CNn",$S$2="I"),18,IF(AND($M11="CNn",$S$2="II"),37,IF(AND($M11="Nhạc",$S$2="I"),19,IF(AND($M11="Nhạc",$S$2="II"),38,IF(AND($M11="MT",$S$2="I"),20,IF(AND($M11="MT",$S$2="II"),39,59)))))))))))))))))))))))))))))))))))))) -> 0 | C11: =IF(P11=0,0,VLOOKUP(P11,'T-L-K'!$B$7:$BH$36,IF(AND($M11="Văn",$S$2="I"),3,IF(AND($M11="Văn",$S$2="II"),22,IF(AND($M11="Toán",$S$2="I"),4,IF(AND($M11="Toán",$S$2="II"),23,IF(AND($M11="Anh",$S$2="I"),5,IF(AND($M11="Anh",$S$2="II"),24,IF(AND($M11="TD",$S$2="I"),6,IF(AND($M11="TD",$S$2="II"),25,IF(AND($M11="QP",$S$2="I"),7,IF(AND($M11="QP",$S$2="II"),26,IF(AND($M11="Sử",$S$2="I"),8,IF(AND($M11="Sử",$S$2="II"),27,IF(AND($M11="GDĐP",$S$2="I"),9,IF(AND($M11="GDĐP",$S$2="II"),28,IF(AND($M11="TN-HN",$S$2="I"),10,IF(AND($M11="TN-HN",$S$2="II"),29,IF(AND($M11="Lý",$S$2="I"),11,IF(AND($M11="Lý",$S$2="II"),30,IF(AND($M11="HóA",$S$2="I"),12,IF(AND($M11="HóA",$S$2="II"),31,IF(AND($M11="Sinh",$S$2="I"),13,IF(AND($M11="Sinh",$S$2="II"),32,IF(AND($M11="ĐịA",$S$2="I"),14,IF(AND($M11="ĐịA",$S$2="II"),33,IF(AND($M11="KT-PL",$S$2="I"),15,IF(AND($M11="KT-PL",$S$2="II"),34,IF(AND($M11="Tin",$S$2="I"),16,IF(AND($M11="Tin",$S$2="II"),35,IF(AND($M11="CNc",$S$2="I"),17,IF(AND($M11="CNc",$S$2="II"),36,IF(AND($M11="CNn",$S$2="I"),18,IF(AND($M11="CNn",$S$2="II"),37,IF(AND($M11="Nhạc",$S$2="I"),19,IF(AND($M11="Nhạc",$S$2="II"),38,IF(AND($M11="MT",$S$2="I"),20,IF(AND($M11="MT",$S$2="II"),39,59)))))))))))))))))))))))))))))))))))))) -> 0 | D11: =IF(Q11=0,0,VLOOKUP(Q11,'T-L-K'!$B$7:$BH$36,IF(AND($M11="Văn",$S$2="I"),3,IF(AND($M11="Văn",$S$2="II"),22,IF(AND($M11="Toán",$S$2="I"),4,IF(AND($M11="Toán",$S$2="II"),23,IF(AND($M11="Anh",$S$2="I"),5,IF(AND($M11="Anh",$S$2="II"),24,IF(AND($M11="TD",$S$2="I"),6,IF(AND($M11="TD",$S$2="II"),25,IF(AND($M11="QP",$S$2="I"),7,IF(AND($M11="QP",$S$2="II"),26,IF(AND($M11="Sử",$S$2="I"),8,IF(AND($M11="Sử",$S$2="II"),27,IF(AND($M11="GDĐP",$S$2="I"),9,IF(AND($M11="GDĐP",$S$2="II"),28,IF(AND($M11="TN-HN",$S$2="I"),10,IF(AND($M11="TN-HN",$S$2="II"),29,IF(AND($M11="Lý",$S$2="I"),11,IF(AND($M11="Lý",$S$2="II"),30,IF(AND($M11="HóA",$S$2="I"),12,IF(AND($M11="HóA",$S$2="II"),31,IF(AND($M11="Sinh",$S$2="I"),13,IF(AND($M11="Sinh",$S$2="II"),32,IF(AND($M11="ĐịA",$S$2="I"),14,IF(AND($M11="ĐịA",$S$2="II"),33,IF(AND($M11="KT-PL",$S$2="I"),15,IF(AND($M11="KT-PL",$S$2="II"),34,IF(AND($M11="Tin",$S$2="I"),16,IF(AND($M11="Tin",$S$2="II"),35,IF(AND($M11="CNc",$S$2="I"),17,IF(AND($M11="CNc",$S$2="II"),36,IF(AND($M11="CNn",$S$2="I"),18,IF(AND($M11="CNn",$S$2="II"),37,IF(AND($M11="Nhạc",$S$2="I"),19,IF(AND($M11="Nhạc",$S$2="II"),38,IF(AND($M11="MT",$S$2="I"),20,IF(AND($M11="MT",$S$2="II"),39,59)))))))))))))))))))))))))))))))))))))) -> 0 | E11: =IF(R11=0,0,VLOOKUP(R11,'T-L-K'!$B$7:$BH$36,IF(AND($M11="Văn",$S$2="I"),3,IF(AND($M11="Văn",$S$2="II"),22,IF(AND($M11="Toán",$S$2="I"),4,IF(AND($M11="Toán",$S$2="II"),23,IF(AND($M11="Anh",$S$2="I"),5,IF(AND($M11="Anh",$S$2="II"),24,IF(AND($M11="TD",$S$2="I"),6,IF(AND($M11="TD",$S$2="II"),25,IF(AND($M11="QP",$S$2="I"),7,IF(AND($M11="QP",$S$2="II"),26,IF(AND($M11="Sử",$S$2="I"),8,IF(AND($M11="Sử",$S$2="II"),27,IF(AND($M11="GDĐP",$S$2="I"),9,IF(AND($M11="GDĐP",$S$2="II"),28,IF(AND($M11="TN-HN",$S$2="I"),10,IF(AND($M11="TN-HN",$S$2="II"),29,IF(AND($M11="Lý",$S$2="I"),11,IF(AND($M11="Lý",$S$2="II"),30,IF(AND($M11="HóA",$S$2="I"),12,IF(AND($M11="HóA",$S$2="II"),31,IF(AND($M11="Sinh",$S$2="I"),13,IF(AND($M11="Sinh",$S$2="II"),32,IF(AND($M11="ĐịA",$S$2="I"),14,IF(AND($M11="ĐịA",$S$2="II"),33,IF(AND($M11="KT-PL",$S$2="I"),15,IF(AND($M11="KT-PL",$S$2="II"),34,IF(AND($M11="Tin",$S$2="I"),16,IF(AND($M11="Tin",$S$2="II"),35,IF(AND($M11="CNc",$S$2="I"),17,IF(AND($M11="CNc",$S$2="II"),36,IF(AND($M11="CNn",$S$2="I"),18,IF(AND($M11="CNn",$S$2="II"),37,IF(AND($M11="Nhạc",$S$2="I"),19,IF(AND($M11="Nhạc",$S$2="II"),38,IF(AND($M11="MT",$S$2="I"),20,IF(AND($M11="MT",$S$2="II"),39,59)))))))))))))))))))))))))))))))))))))) -> 0 | F11: =IF(S11=0,0,VLOOKUP(S11,'T-L-K'!$B$7:$BH$36,IF(AND($M11="Văn",$S$2="I"),3,IF(AND($M11="Văn",$S$2="II"),22,IF(AND($M11="Toán",$S$2="I"),4,IF(AND($M11="Toán",$S$2="II"),23,IF(AND($M11="Anh",$S$2="I"),5,IF(AND($M11="Anh",$S$2="II"),24,IF(AND($M11="TD",$S$2="I"),6,IF(AND($M11="TD",$S$2="II"),25,IF(AND($M11="QP",$S$2="I"),7,IF(AND($M11="QP",$S$2="II"),26,IF(AND($M11="Sử",$S$2="I"),8,IF(AND($M11="Sử",$S$2="II"),27,IF(AND($M11="GDĐP",$S$2="I"),9,IF(AND($M11="GDĐP",$S$2="II"),28,IF(AND($M11="TN-HN",$S$2="I"),10,IF(AND($M11="TN-HN",$S$2="II"),29,IF(AND($M11="Lý",$S$2="I"),11,IF(AND($M11="Lý",$S$2="II"),30,IF(AND($M11="HóA",$S$2="I"),12,IF(AND($M11="HóA",$S$2="II"),31,IF(AND($M11="Sinh",$S$2="I"),13,IF(AND($M11="Sinh",$S$2="II"),32,IF(AND($M11="ĐịA",$S$2="I"),14,IF(AND($M11="ĐịA",$S$2="II"),33,IF(AND($M11="KT-PL",$S$2="I"),15,IF(AND($M11="KT-PL",$S$2="II"),34,IF(AND($M11="Tin",$S$2="I"),16,IF(AND($M11="Tin",$S$2="II"),35,IF(AND($M11="CNc",$S$2="I"),17,IF(AND($M11="CNc",$S$2="II"),36,IF(AND($M11="CNn",$S$2="I"),18,IF(AND($M11="CNn",$S$2="II"),37,IF(AND($M11="Nhạc",$S$2="I"),19,IF(AND($M11="Nhạc",$S$2="II"),38,IF(AND($M11="MT",$S$2="I"),20,IF(AND($M11="MT",$S$2="II"),39,59)))))))))))))))))))))))))))))))))))))) -> 0 | G11: =IF(T11=0,0,VLOOKUP(T11,'T-L-K'!$B$7:$BH$36,IF(AND($M11="Văn",$S$2="I"),3,IF(AND($M11="Văn",$S$2="II"),22,IF(AND($M11="Toán",$S$2="I"),4,IF(AND($M11="Toán",$S$2="II"),23,IF(AND($M11="Anh",$S$2="I"),5,IF(AND($M11="Anh",$S$2="II"),24,IF(AND($M11="TD",$S$2="I"),6,IF(AND($M11="TD",$S$2="II"),25,IF(AND($M11="QP",$S$2="I"),7,IF(AND($M11="QP",$S$2="II"),26,IF(AND($M11="Sử",$S$2="I"),8,IF(AND($M11="Sử",$S$2="II"),27,IF(AND($M11="GDĐP",$S$2="I"),9,IF(AND($M11="GDĐP",$S$2="II"),28,IF(AND($M11="TN-HN",$S$2="I"),10,IF(AND($M11="TN-HN",$S$2="II"),29,IF(AND($M11="Lý",$S$2="I"),11,IF(AND($M11="Lý",$S$2="II"),30,IF(AND($M11="HóA",$S$2="I"),12,IF(AND($M11="HóA",$S$2="II"),31,IF(AND($M11="Sinh",$S$2="I"),13,IF(AND($M11="Sinh",$S$2="II"),32,IF(AND($M11="ĐịA",$S$2="I"),14,IF(AND($M11="ĐịA",$S$2="II"),33,IF(AND($M11="KT-PL",$S$2="I"),15,IF(AND($M11="KT-PL",$S$2="II"),34,IF(AND($M11="Tin",$S$2="I"),16,IF(AND($M11="Tin",$S$2="II"),35,IF(AND($M11="CNc",$S$2="I"),17,IF(AND($M11="CNc",$S$2="II"),36,IF(AND($M11="CNn",$S$2="I"),18,IF(AND($M11="CNn",$S$2="II"),37,IF(AND($M11="Nhạc",$S$2="I"),19,IF(AND($M11="Nhạc",$S$2="II"),38,IF(AND($M11="MT",$S$2="I"),20,IF(AND($M11="MT",$S$2="II"),39,59)))))))))))))))))))))))))))))))))))))) -> 0 | H11: =IF(U11=0,0,VLOOKUP(U11,'T-L-K'!$B$7:$BH$36,IF(AND($M11="Văn",$S$2="I"),3,IF(AND($M11="Văn",$S$2="II"),22,IF(AND($M11="Toán",$S$2="I"),4,IF(AND($M11="Toán",$S$2="II"),23,IF(AND($M11="Anh",$S$2="I"),5,IF(AND($M11="Anh",$S$2="II"),24,IF(AND($M11="TD",$S$2="I"),6,IF(AND($M11="TD",$S$2="II"),25,IF(AND($M11="QP",$S$2="I"),7,IF(AND($M11="QP",$S$2="II"),26,IF(AND($M11="Sử",$S$2="I"),8,IF(AND($M11="Sử",$S$2="II"),27,IF(AND($M11="GDĐP",$S$2="I"),9,IF(AND($M11="GDĐP",$S$2="II"),28,IF(AND($M11="TN-HN",$S$2="I"),10,IF(AND($M11="TN-HN",$S$2="II"),29,IF(AND($M11="Lý",$S$2="I"),11,IF(AND($M11="Lý",$S$2="II"),30,IF(AND($M11="HóA",$S$2="I"),12,IF(AND($M11="HóA",$S$2="II"),31,IF(AND($M11="Sinh",$S$2="I"),13,IF(AND($M11="Sinh",$S$2="II"),32,IF(AND($M11="ĐịA",$S$2="I"),14,IF(AND($M11="ĐịA",$S$2="II"),33,IF(AND($M11="KT-PL",$S$2="I"),15,IF(AND($M11="KT-PL",$S$2="II"),34,IF(AND($M11="Tin",$S$2="I"),16,IF(AND($M11="Tin",$S$2="II"),35,IF(AND($M11="CNc",$S$2="I"),17,IF(AND($M11="CNc",$S$2="II"),36,IF(AND($M11="CNn",$S$2="I"),18,IF(AND($M11="CNn",$S$2="II"),37,IF(AND($M11="Nhạc",$S$2="I"),19,IF(AND($M11="Nhạc",$S$2="II"),38,IF(AND($M11="MT",$S$2="I"),20,IF(AND($M11="MT",$S$2="II"),39,59)))))))))))))))))))))))))))))))))))))) -> 0 | ... J11: =IF(W11=0,0,VLOOKUP(W11,'T-L-K'!$B$7:$BH$36,IF(AND($M11="Văn",$S$2="I"),3,IF(AND($M11="Văn",$S$2="II"),22,IF(AND($M11="Toán",$S$2="I"),4,IF(AND($M11="Toán",$S$2="II"),23,IF(AND($M11="Anh",$S$2="I"),5,IF(AND($M11="Anh",$S$2="II"),24,IF(AND($M11="TD",$S$2="I"),6,IF(AND($M11="TD",$S$2="II"),25,IF(AND($M11="QP",$S$2="I"),7,IF(AND($M11="QP",$S$2="II"),26,IF(AND($M11="Sử",$S$2="I"),8,IF(AND($M11="Sử",$S$2="II"),27,IF(AND($M11="GDĐP",$S$2="I"),9,IF(AND($M11="GDĐP",$S$2="II"),28,IF(AND($M11="TN-HN",$S$2="I"),10,IF(AND($M11="TN-HN",$S$2="II"),29,IF(AND($M11="Lý",$S$2="I"),11,IF(AND($M11="Lý",$S$2="II"),30,IF(AND($M11="HóA",$S$2="I"),12,IF(AND($M11="HóA",$S$2="II"),31,IF(AND($M11="Sinh",$S$2="I"),13,IF(AND($M11="Sinh",$S$2="II"),32,IF(AND($M11="ĐịA",$S$2="I"),14,IF(AND($M11="ĐịA",$S$2="II"),33,IF(AND($M11="KT-PL",$S$2="I"),15,IF(AND($M11="KT-PL",$S$2="II"),34,IF(AND($M11="Tin",$S$2="I"),16,IF(AND($M11="Tin",$S$2="II"),35,IF(AND($M11="CNc",$S$2="I"),17,IF(AND($M11="CNc",$S$2="II"),36,IF(AND($M11="CNn",$S$2="I"),18,IF(AND($M11="CNn",$S$2="II"),37,IF(AND($M11="Nhạc",$S$2="I"),19,IF(AND($M11="Nhạc",$S$2="II"),38,IF(AND($M11="MT",$S$2="I"),20,IF(AND($M11="MT",$S$2="II"),39,59)))))))))))))))))))))))))))))))))))))) -> 0 | M11: Toán | AB11: Toán - Tin
A12: =IF(N12=0,0,VLOOKUP(N12,'T-L-K'!$B$7:$BH$36,IF(AND($M12="Văn",$S$2="I"),3,IF(AND($M12="Văn",$S$2="II"),22,IF(AND($M12="Toán",$S$2="I"),4,IF(AND($M12="Toán",$S$2="II"),23,IF(AND($M12="Anh",$S$2="I"),5,IF(AND($M12="Anh",$S$2="II"),24,IF(AND($M12="TD",$S$2="I"),6,IF(AND($M12="TD",$S$2="II"),25,IF(AND($M12="QP",$S$2="I"),7,IF(AND($M12="QP",$S$2="II"),26,IF(AND($M12="Sử",$S$2="I"),8,IF(AND($M12="Sử",$S$2="II"),27,IF(AND($M12="GDĐP",$S$2="I"),9,IF(AND($M12="GDĐP",$S$2="II"),28,IF(AND($M12="TN-HN",$S$2="I"),10,IF(AND($M12="TN-HN",$S$2="II"),29,IF(AND($M12="Lý",$S$2="I"),11,IF(AND($M12="Lý",$S$2="II"),30,IF(AND($M12="HóA",$S$2="I"),12,IF(AND($M12="HóA",$S$2="II"),31,IF(AND($M12="Sinh",$S$2="I"),13,IF(AND($M12="Sinh",$S$2="II"),32,IF(AND($M12="ĐịA",$S$2="I"),14,IF(AND($M12="ĐịA",$S$2="II"),33,IF(AND($M12="KT-PL",$S$2="I"),15,IF(AND($M12="KT-PL",$S$2="II"),34,IF(AND($M12="Tin",$S$2="I"),16,IF(AND($M12="Tin",$S$2="II"),35,IF(AND($M12="CNc",$S$2="I"),17,IF(AND($M12="CNc",$S$2="II"),36,IF(AND($M12="CNn",$S$2="I"),18,IF(AND($M12="CNn",$S$2="II"),37,IF(AND($M12="Nhạc",$S$2="I"),19,IF(AND($M12="Nhạc",$S$2="II"),38,IF(AND($M12="MT",$S$2="I"),20,IF(AND($M12="MT",$S$2="II"),39,59)))))))))))))))))))))))))))))))))))))) -> 0 | B12: =IF(O12=0,0,VLOOKUP(O12,'T-L-K'!$B$7:$BH$36,IF(AND($M12="Văn",$S$2="I"),3,IF(AND($M12="Văn",$S$2="II"),22,IF(AND($M12="Toán",$S$2="I"),4,IF(AND($M12="Toán",$S$2="II"),23,IF(AND($M12="Anh",$S$2="I"),5,IF(AND($M12="Anh",$S$2="II"),24,IF(AND($M12="TD",$S$2="I"),6,IF(AND($M12="TD",$S$2="II"),25,IF(AND($M12="QP",$S$2="I"),7,IF(AND($M12="QP",$S$2="II"),26,IF(AND($M12="Sử",$S$2="I"),8,IF(AND($M12="Sử",$S$2="II"),27,IF(AND($M12="GDĐP",$S$2="I"),9,IF(AND($M12="GDĐP",$S$2="II"),28,IF(AND($M12="TN-HN",$S$2="I"),10,IF(AND($M12="TN-HN",$S$2="II"),29,IF(AND($M12="Lý",$S$2="I"),11,IF(AND($M12="Lý",$S$2="II"),30,IF(AND($M12="HóA",$S$2="I"),12,IF(AND($M12="HóA",$S$2="II"),31,IF(AND($M12="Sinh",$S$2="I"),13,IF(AND($M12="Sinh",$S$2="II"),32,IF(AND($M12="ĐịA",$S$2="I"),14,IF(AND($M12="ĐịA",$S$2="II"),33,IF(AND($M12="KT-PL",$S$2="I"),15,IF(AND($M12="KT-PL",$S$2="II"),34,IF(AND($M12="Tin",$S$2="I"),16,IF(AND($M12="Tin",$S$2="II"),35,IF(AND($M12="CNc",$S$2="I"),17,IF(AND($M12="CNc",$S$2="II"),36,IF(AND($M12="CNn",$S$2="I"),18,IF(AND($M12="CNn",$S$2="II"),37,IF(AND($M12="Nhạc",$S$2="I"),19,IF(AND($M12="Nhạc",$S$2="II"),38,IF(AND($M12="MT",$S$2="I"),20,IF(AND($M12="MT",$S$2="II"),39,59)))))))))))))))))))))))))))))))))))))) -> 0 | C12: =IF(P12=0,0,VLOOKUP(P12,'T-L-K'!$B$7:$BH$36,IF(AND($M12="Văn",$S$2="I"),3,IF(AND($M12="Văn",$S$2="II"),22,IF(AND($M12="Toán",$S$2="I"),4,IF(AND($M12="Toán",$S$2="II"),23,IF(AND($M12="Anh",$S$2="I"),5,IF(AND($M12="Anh",$S$2="II"),24,IF(AND($M12="TD",$S$2="I"),6,IF(AND($M12="TD",$S$2="II"),25,IF(AND($M12="QP",$S$2="I"),7,IF(AND($M12="QP",$S$2="II"),26,IF(AND($M12="Sử",$S$2="I"),8,IF(AND($M12="Sử",$S$2="II"),27,IF(AND($M12="GDĐP",$S$2="I"),9,IF(AND($M12="GDĐP",$S$2="II"),28,IF(AND($M12="TN-HN",$S$2="I"),10,IF(AND($M12="TN-HN",$S$2="II"),29,IF(AND($M12="Lý",$S$2="I"),11,IF(AND($M12="Lý",$S$2="II"),30,IF(AND($M12="HóA",$S$2="I"),12,IF(AND($M12="HóA",$S$2="II"),31,IF(AND($M12="Sinh",$S$2="I"),13,IF(AND($M12="Sinh",$S$2="II"),32,IF(AND($M12="ĐịA",$S$2="I"),14,IF(AND($M12="ĐịA",$S$2="II"),33,IF(AND($M12="KT-PL",$S$2="I"),15,IF(AND($M12="KT-PL",$S$2="II"),34,IF(AND($M12="Tin",$S$2="I"),16,IF(AND($M12="Tin",$S$2="II"),35,IF(AND($M12="CNc",$S$2="I"),17,IF(AND($M12="CNc",$S$2="II"),36,IF(AND($M12="CNn",$S$2="I"),18,IF(AND($M12="CNn",$S$2="II"),37,IF(AND($M12="Nhạc",$S$2="I"),19,IF(AND($M12="Nhạc",$S$2="II"),38,IF(AND($M12="MT",$S$2="I"),20,IF(AND($M12="MT",$S$2="II"),39,59)))))))))))))))))))))))))))))))))))))) -> 0 | D12: =IF(Q12=0,0,VLOOKUP(Q12,'T-L-K'!$B$7:$BH$36,IF(AND($M12="Văn",$S$2="I"),3,IF(AND($M12="Văn",$S$2="II"),22,IF(AND($M12="Toán",$S$2="I"),4,IF(AND($M12="Toán",$S$2="II"),23,IF(AND($M12="Anh",$S$2="I"),5,IF(AND($M12="Anh",$S$2="II"),24,IF(AND($M12="TD",$S$2="I"),6,IF(AND($M12="TD",$S$2="II"),25,IF(AND($M12="QP",$S$2="I"),7,IF(AND($M12="QP",$S$2="II"),26,IF(AND($M12="Sử",$S$2="I"),8,IF(AND($M12="Sử",$S$2="II"),27,IF(AND($M12="GDĐP",$S$2="I"),9,IF(AND($M12="GDĐP",$S$2="II"),28,IF(AND($M12="TN-HN",$S$2="I"),10,IF(AND($M12="TN-HN",$S$2="II"),29,IF(AND($M12="Lý",$S$2="I"),11,IF(AND($M12="Lý",$S$2="II"),30,IF(AND($M12="HóA",$S$2="I"),12,IF(AND($M12="HóA",$S$2="II"),31,IF(AND($M12="Sinh",$S$2="I"),13,IF(AND($M12="Sinh",$S$2="II"),32,IF(AND($M12="ĐịA",$S$2="I"),14,IF(AND($M12="ĐịA",$S$2="II"),33,IF(AND($M12="KT-PL",$S$2="I"),15,IF(AND($M12="KT-PL",$S$2="II"),34,IF(AND($M12="Tin",$S$2="I"),16,IF(AND($M12="Tin",$S$2="II"),35,IF(AND($M12="CNc",$S$2="I"),17,IF(AND($M12="CNc",$S$2="II"),36,IF(AND($M12="CNn",$S$2="I"),18,IF(AND($M12="CNn",$S$2="II"),37,IF(AND($M12="Nhạc",$S$2="I"),19,IF(AND($M12="Nhạc",$S$2="II"),38,IF(AND($M12="MT",$S$2="I"),20,IF(AND($M12="MT",$S$2="II"),39,59)))))))))))))))))))))))))))))))))))))) -> 0 | E12: =IF(R12=0,0,VLOOKUP(R12,'T-L-K'!$B$7:$BH$36,IF(AND($M12="Văn",$S$2="I"),3,IF(AND($M12="Văn",$S$2="II"),22,IF(AND($M12="Toán",$S$2="I"),4,IF(AND($M12="Toán",$S$2="II"),23,IF(AND($M12="Anh",$S$2="I"),5,IF(AND($M12="Anh",$S$2="II"),24,IF(AND($M12="TD",$S$2="I"),6,IF(AND($M12="TD",$S$2="II"),25,IF(AND($M12="QP",$S$2="I"),7,IF(AND($M12="QP",$S$2="II"),26,IF(AND($M12="Sử",$S$2="I"),8,IF(AND($M12="Sử",$S$2="II"),27,IF(AND($M12="GDĐP",$S$2="I"),9,IF(AND($M12="GDĐP",$S$2="II"),28,IF(AND($M12="TN-HN",$S$2="I"),10,IF(AND($M12="TN-HN",$S$2="II"),29,IF(AND($M12="Lý",$S$2="I"),11,IF(AND($M12="Lý",$S$2="II"),30,IF(AND($M12="HóA",$S$2="I"),12,IF(AND($M12="HóA",$S$2="II"),31,IF(AND($M12="Sinh",$S$2="I"),13,IF(AND($M12="Sinh",$S$2="II"),32,IF(AND($M12="ĐịA",$S$2="I"),14,IF(AND($M12="ĐịA",$S$2="II"),33,IF(AND($M12="KT-PL",$S$2="I"),15,IF(AND($M12="KT-PL",$S$2="II"),34,IF(AND($M12="Tin",$S$2="I"),16,IF(AND($M12="Tin",$S$2="II"),35,IF(AND($M12="CNc",$S$2="I"),17,IF(AND($M12="CNc",$S$2="II"),36,IF(AND($M12="CNn",$S$2="I"),18,IF(AND($M12="CNn",$S$2="II"),37,IF(AND($M12="Nhạc",$S$2="I"),19,IF(AND($M12="Nhạc",$S$2="II"),38,IF(AND($M12="MT",$S$2="I"),20,IF(AND($M12="MT",$S$2="II"),39,59)))))))))))))))))))))))))))))))))))))) -> 0 | F12: =IF(S12=0,0,VLOOKUP(S12,'T-L-K'!$B$7:$BH$36,IF(AND($M12="Văn",$S$2="I"),3,IF(AND($M12="Văn",$S$2="II"),22,IF(AND($M12="Toán",$S$2="I"),4,IF(AND($M12="Toán",$S$2="II"),23,IF(AND($M12="Anh",$S$2="I"),5,IF(AND($M12="Anh",$S$2="II"),24,IF(AND($M12="TD",$S$2="I"),6,IF(AND($M12="TD",$S$2="II"),25,IF(AND($M12="QP",$S$2="I"),7,IF(AND($M12="QP",$S$2="II"),26,IF(AND($M12="Sử",$S$2="I"),8,IF(AND($M12="Sử",$S$2="II"),27,IF(AND($M12="GDĐP",$S$2="I"),9,IF(AND($M12="GDĐP",$S$2="II"),28,IF(AND($M12="TN-HN",$S$2="I"),10,IF(AND($M12="TN-HN",$S$2="II"),29,IF(AND($M12="Lý",$S$2="I"),11,IF(AND($M12="Lý",$S$2="II"),30,IF(AND($M12="HóA",$S$2="I"),12,IF(AND($M12="HóA",$S$2="II"),31,IF(AND($M12="Sinh",$S$2="I"),13,IF(AND($M12="Sinh",$S$2="II"),32,IF(AND($M12="ĐịA",$S$2="I"),14,IF(AND($M12="ĐịA",$S$2="II"),33,IF(AND($M12="KT-PL",$S$2="I"),15,IF(AND($M12="KT-PL",$S$2="II"),34,IF(AND($M12="Tin",$S$2="I"),16,IF(AND($M12="Tin",$S$2="II"),35,IF(AND($M12="CNc",$S$2="I"),17,IF(AND($M12="CNc",$S$2="II"),36,IF(AND($M12="CNn",$S$2="I"),18,IF(AND($M12="CNn",$S$2="II"),37,IF(AND($M12="Nhạc",$S$2="I"),19,IF(AND($M12="Nhạc",$S$2="II"),38,IF(AND($M12="MT",$S$2="I"),20,IF(AND($M12="MT",$S$2="II"),39,59)))))))))))))))))))))))))))))))))))))) -> 0 | G12: =IF(T12=0,0,VLOOKUP(T12,'T-L-K'!$B$7:$BH$36,IF(AND($M12="Văn",$S$2="I"),3,IF(AND($M12="Văn",$S$2="II"),22,IF(AND($M12="Toán",$S$2="I"),4,IF(AND($M12="Toán",$S$2="II"),23,IF(AND($M12="Anh",$S$2="I"),5,IF(AND($M12="Anh",$S$2="II"),24,IF(AND($M12="TD",$S$2="I"),6,IF(AND($M12="TD",$S$2="II"),25,IF(AND($M12="QP",$S$2="I"),7,IF(AND($M12="QP",$S$2="II"),26,IF(AND($M12="Sử",$S$2="I"),8,IF(AND($M12="Sử",$S$2="II"),27,IF(AND($M12="GDĐP",$S$2="I"),9,IF(AND($M12="GDĐP",$S$2="II"),28,IF(AND($M12="TN-HN",$S$2="I"),10,IF(AND($M12="TN-HN",$S$2="II"),29,IF(AND($M12="Lý",$S$2="I"),11,IF(AND($M12="Lý",$S$2="II"),30,IF(AND($M12="HóA",$S$2="I"),12,IF(AND($M12="HóA",$S$2="II"),31,IF(AND($M12="Sinh",$S$2="I"),13,IF(AND($M12="Sinh",$S$2="II"),32,IF(AND($M12="ĐịA",$S$2="I"),14,IF(AND($M12="ĐịA",$S$2="II"),33,IF(AND($M12="KT-PL",$S$2="I"),15,IF(AND($M12="KT-PL",$S$2="II"),34,IF(AND($M12="Tin",$S$2="I"),16,IF(AND($M12="Tin",$S$2="II"),35,IF(AND($M12="CNc",$S$2="I"),17,IF(AND($M12="CNc",$S$2="II"),36,IF(AND($M12="CNn",$S$2="I"),18,IF(AND($M12="CNn",$S$2="II"),37,IF(AND($M12="Nhạc",$S$2="I"),19,IF(AND($M12="Nhạc",$S$2="II"),38,IF(AND($M12="MT",$S$2="I"),20,IF(AND($M12="MT",$S$2="II"),39,59)))))))))))))))))))))))))))))))))))))) -> 0 | H12: =IF(U12=0,0,VLOOKUP(U12,'T-L-K'!$B$7:$BH$36,IF(AND($M12="Văn",$S$2="I"),3,IF(AND($M12="Văn",$S$2="II"),22,IF(AND($M12="Toán",$S$2="I"),4,IF(AND($M12="Toán",$S$2="II"),23,IF(AND($M12="Anh",$S$2="I"),5,IF(AND($M12="Anh",$S$2="II"),24,IF(AND($M12="TD",$S$2="I"),6,IF(AND($M12="TD",$S$2="II"),25,IF(AND($M12="QP",$S$2="I"),7,IF(AND($M12="QP",$S$2="II"),26,IF(AND($M12="Sử",$S$2="I"),8,IF(AND($M12="Sử",$S$2="II"),27,IF(AND($M12="GDĐP",$S$2="I"),9,IF(AND($M12="GDĐP",$S$2="II"),28,IF(AND($M12="TN-HN",$S$2="I"),10,IF(AND($M12="TN-HN",$S$2="II"),29,IF(AND($M12="Lý",$S$2="I"),11,IF(AND($M12="Lý",$S$2="II"),30,IF(AND($M12="HóA",$S$2="I"),12,IF(AND($M12="HóA",$S$2="II"),31,IF(AND($M12="Sinh",$S$2="I"),13,IF(AND($M12="Sinh",$S$2="II"),32,IF(AND($M12="ĐịA",$S$2="I"),14,IF(AND($M12="ĐịA",$S$2="II"),33,IF(AND($M12="KT-PL",$S$2="I"),15,IF(AND($M12="KT-PL",$S$2="II"),34,IF(AND($M12="Tin",$S$2="I"),16,IF(AND($M12="Tin",$S$2="II"),35,IF(AND($M12="CNc",$S$2="I"),17,IF(AND($M12="CNc",$S$2="II"),36,IF(AND($M12="CNn",$S$2="I"),18,IF(AND($M12="CNn",$S$2="II"),37,IF(AND($M12="Nhạc",$S$2="I"),19,IF(AND($M12="Nhạc",$S$2="II"),38,IF(AND($M12="MT",$S$2="I"),20,IF(AND($M12="MT",$S$2="II"),39,59)))))))))))))))))))))))))))))))))))))) -> 0 | ... J12: =IF(W12=0,0,VLOOKUP(W12,'T-L-K'!$B$7:$BH$36,IF(AND($M12="Văn",$S$2="I"),3,IF(AND($M12="Văn",$S$2="II"),22,IF(AND($M12="Toán",$S$2="I"),4,IF(AND($M12="Toán",$S$2="II"),23,IF(AND($M12="Anh",$S$2="I"),5,IF(AND($M12="Anh",$S$2="II"),24,IF(AND($M12="TD",$S$2="I"),6,IF(AND($M12="TD",$S$2="II"),25,IF(AND($M12="QP",$S$2="I"),7,IF(AND($M12="QP",$S$2="II"),26,IF(AND($M12="Sử",$S$2="I"),8,IF(AND($M12="Sử",$S$2="II"),27,IF(AND($M12="GDĐP",$S$2="I"),9,IF(AND($M12="GDĐP",$S$2="II"),28,IF(AND($M12="TN-HN",$S$2="I"),10,IF(AND($M12="TN-HN",$S$2="II"),29,IF(AND($M12="Lý",$S$2="I"),11,IF(AND($M12="Lý",$S$2="II"),30,IF(AND($M12="HóA",$S$2="I"),12,IF(AND($M12="HóA",$S$2="II"),31,IF(AND($M12="Sinh",$S$2="I"),13,IF(AND($M12="Sinh",$S$2="II"),32,IF(AND($M12="ĐịA",$S$2="I"),14,IF(AND($M12="ĐịA",$S$2="II"),33,IF(AND($M12="KT-PL",$S$2="I"),15,IF(AND($M12="KT-PL",$S$2="II"),34,IF(AND($M12="Tin",$S$2="I"),16,IF(AND($M12="Tin",$S$2="II"),35,IF(AND($M12="CNc",$S$2="I"),17,IF(AND($M12="CNc",$S$2="II"),36,IF(AND($M12="CNn",$S$2="I"),18,IF(AND($M12="CNn",$S$2="II"),37,IF(AND($M12="Nhạc",$S$2="I"),19,IF(AND($M12="Nhạc",$S$2="II"),38,IF(AND($M12="MT",$S$2="I"),20,IF(AND($M12="MT",$S$2="II"),39,59)))))))))))))))))))))))))))))))))))))) -> 0 | M12: TN-HN | AB12: Toán - Tin
A13: =IF(N13=0,0,VLOOKUP(N13,'T-L-K'!$B$7:$BH$36,IF(AND($M13="Văn",$S$2="I"),3,IF(AND($M13="Văn",$S$2="II"),22,IF(AND($M13="Toán",$S$2="I"),4,IF(AND($M13="Toán",$S$2="II"),23,IF(AND($M13="Anh",$S$2="I"),5,IF(AND($M13="Anh",$S$2="II"),24,IF(AND($M13="TD",$S$2="I"),6,IF(AND($M13="TD",$S$2="II"),25,IF(AND($M13="QP",$S$2="I"),7,IF(AND($M13="QP",$S$2="II"),26,IF(AND($M13="Sử",$S$2="I"),8,IF(AND($M13="Sử",$S$2="II"),27,IF(AND($M13="GDĐP",$S$2="I"),9,IF(AND($M13="GDĐP",$S$2="II"),28,IF(AND($M13="TN-HN",$S$2="I"),10,IF(AND($M13="TN-HN",$S$2="II"),29,IF(AND($M13="Lý",$S$2="I"),11,IF(AND($M13="Lý",$S$2="II"),30,IF(AND($M13="HóA",$S$2="I"),12,IF(AND($M13="HóA",$S$2="II"),31,IF(AND($M13="Sinh",$S$2="I"),13,IF(AND($M13="Sinh",$S$2="II"),32,IF(AND($M13="ĐịA",$S$2="I"),14,IF(AND($M13="ĐịA",$S$2="II"),33,IF(AND($M13="KT-PL",$S$2="I"),15,IF(AND($M13="KT-PL",$S$2="II"),34,IF(AND($M13="Tin",$S$2="I"),16,IF(AND($M13="Tin",$S$2="II"),35,IF(AND($M13="CNc",$S$2="I"),17,IF(AND($M13="CNc",$S$2="II"),36,IF(AND($M13="CNn",$S$2="I"),18,IF(AND($M13="CNn",$S$2="II"),37,IF(AND($M13="Nhạc",$S$2="I"),19,IF(AND($M13="Nhạc",$S$2="II"),38,IF(AND($M13="MT",$S$2="I"),20,IF(AND($M13="MT",$S$2="II"),39,59)))))))))))))))))))))))))))))))))))))) -> 4 | B13: =IF(O13=0,0,VLOOKUP(O13,'T-L-K'!$B$7:$BH$36,IF(AND($M13="Văn",$S$2="I"),3,IF(AND($M13="Văn",$S$2="II"),22,IF(AND($M13="Toán",$S$2="I"),4,IF(AND($M13="Toán",$S$2="II"),23,IF(AND($M13="Anh",$S$2="I"),5,IF(AND($M13="Anh",$S$2="II"),24,IF(AND($M13="TD",$S$2="I"),6,IF(AND($M13="TD",$S$2="II"),25,IF(AND($M13="QP",$S$2="I"),7,IF(AND($M13="QP",$S$2="II"),26,IF(AND($M13="Sử",$S$2="I"),8,IF(AND($M13="Sử",$S$2="II"),27,IF(AND($M13="GDĐP",$S$2="I"),9,IF(AND($M13="GDĐP",$S$2="II"),28,IF(AND($M13="TN-HN",$S$2="I"),10,IF(AND($M13="TN-HN",$S$2="II"),29,IF(AND($M13="Lý",$S$2="I"),11,IF(AND($M13="Lý",$S$2="II"),30,IF(AND($M13="HóA",$S$2="I"),12,IF(AND($M13="HóA",$S$2="II"),31,IF(AND($M13="Sinh",$S$2="I"),13,IF(AND($M13="Sinh",$S$2="II"),32,IF(AND($M13="ĐịA",$S$2="I"),14,IF(AND($M13="ĐịA",$S$2="II"),33,IF(AND($M13="KT-PL",$S$2="I"),15,IF(AND($M13="KT-PL",$S$2="II"),34,IF(AND($M13="Tin",$S$2="I"),16,IF(AND($M13="Tin",$S$2="II"),35,IF(AND($M13="CNc",$S$2="I"),17,IF(AND($M13="CNc",$S$2="II"),36,IF(AND($M13="CNn",$S$2="I"),18,IF(AND($M13="CNn",$S$2="II"),37,IF(AND($M13="Nhạc",$S$2="I"),19,IF(AND($M13="Nhạc",$S$2="II"),38,IF(AND($M13="MT",$S$2="I"),20,IF(AND($M13="MT",$S$2="II"),39,59)))))))))))))))))))))))))))))))))))))) -> 4 | C13: =IF(P13=0,0,VLOOKUP(P13,'T-L-K'!$B$7:$BH$36,IF(AND($M13="Văn",$S$2="I"),3,IF(AND($M13="Văn",$S$2="II"),22,IF(AND($M13="Toán",$S$2="I"),4,IF(AND($M13="Toán",$S$2="II"),23,IF(AND($M13="Anh",$S$2="I"),5,IF(AND($M13="Anh",$S$2="II"),24,IF(AND($M13="TD",$S$2="I"),6,IF(AND($M13="TD",$S$2="II"),25,IF(AND($M13="QP",$S$2="I"),7,IF(AND($M13="QP",$S$2="II"),26,IF(AND($M13="Sử",$S$2="I"),8,IF(AND($M13="Sử",$S$2="II"),27,IF(AND($M13="GDĐP",$S$2="I"),9,IF(AND($M13="GDĐP",$S$2="II"),28,IF(AND($M13="TN-HN",$S$2="I"),10,IF(AND($M13="TN-HN",$S$2="II"),29,IF(AND($M13="Lý",$S$2="I"),11,IF(AND($M13="Lý",$S$2="II"),30,IF(AND($M13="HóA",$S$2="I"),12,IF(AND($M13="HóA",$S$2="II"),31,IF(AND($M13="Sinh",$S$2="I"),13,IF(AND($M13="Sinh",$S$2="II"),32,IF(AND($M13="ĐịA",$S$2="I"),14,IF(AND($M13="ĐịA",$S$2="II"),33,IF(AND($M13="KT-PL",$S$2="I"),15,IF(AND($M13="KT-PL",$S$2="II"),34,IF(AND($M13="Tin",$S$2="I"),16,IF(AND($M13="Tin",$S$2="II"),35,IF(AND($M13="CNc",$S$2="I"),17,IF(AND($M13="CNc",$S$2="II"),36,IF(AND($M13="CNn",$S$2="I"),18,IF(AND($M13="CNn",$S$2="II"),37,IF(AND($M13="Nhạc",$S$2="I"),19,IF(AND($M13="Nhạc",$S$2="II"),38,IF(AND($M13="MT",$S$2="I"),20,IF(AND($M13="MT",$S$2="II"),39,59)))))))))))))))))))))))))))))))))))))) -> 4 | D13: =IF(Q13=0,0,VLOOKUP(Q13,'T-L-K'!$B$7:$BH$36,IF(AND($M13="Văn",$S$2="I"),3,IF(AND($M13="Văn",$S$2="II"),22,IF(AND($M13="Toán",$S$2="I"),4,IF(AND($M13="Toán",$S$2="II"),23,IF(AND($M13="Anh",$S$2="I"),5,IF(AND($M13="Anh",$S$2="II"),24,IF(AND($M13="TD",$S$2="I"),6,IF(AND($M13="TD",$S$2="II"),25,IF(AND($M13="QP",$S$2="I"),7,IF(AND($M13="QP",$S$2="II"),26,IF(AND($M13="Sử",$S$2="I"),8,IF(AND($M13="Sử",$S$2="II"),27,IF(AND($M13="GDĐP",$S$2="I"),9,IF(AND($M13="GDĐP",$S$2="II"),28,IF(AND($M13="TN-HN",$S$2="I"),10,IF(AND($M13="TN-HN",$S$2="II"),29,IF(AND($M13="Lý",$S$2="I"),11,IF(AND($M13="Lý",$S$2="II"),30,IF(AND($M13="HóA",$S$2="I"),12,IF(AND($M13="HóA",$S$2="II"),31,IF(AND($M13="Sinh",$S$2="I"),13,IF(AND($M13="Sinh",$S$2="II"),32,IF(AND($M13="ĐịA",$S$2="I"),14,IF(AND($M13="ĐịA",$S$2="II"),33,IF(AND($M13="KT-PL",$S$2="I"),15,IF(AND($M13="KT-PL",$S$2="II"),34,IF(AND($M13="Tin",$S$2="I"),16,IF(AND($M13="Tin",$S$2="II"),35,IF(AND($M13="CNc",$S$2="I"),17,IF(AND($M13="CNc",$S$2="II"),36,IF(AND($M13="CNn",$S$2="I"),18,IF(AND($M13="CNn",$S$2="II"),37,IF(AND($M13="Nhạc",$S$2="I"),19,IF(AND($M13="Nhạc",$S$2="II"),38,IF(AND($M13="MT",$S$2="I"),20,IF(AND($M13="MT",$S$2="II"),39,59)))))))))))))))))))))))))))))))))))))) -> 0 | E13: =IF(R13=0,0,VLOOKUP(R13,'T-L-K'!$B$7:$BH$36,IF(AND($M13="Văn",$S$2="I"),3,IF(AND($M13="Văn",$S$2="II"),22,IF(AND($M13="Toán",$S$2="I"),4,IF(AND($M13="Toán",$S$2="II"),23,IF(AND($M13="Anh",$S$2="I"),5,IF(AND($M13="Anh",$S$2="II"),24,IF(AND($M13="TD",$S$2="I"),6,IF(AND($M13="TD",$S$2="II"),25,IF(AND($M13="QP",$S$2="I"),7,IF(AND($M13="QP",$S$2="II"),26,IF(AND($M13="Sử",$S$2="I"),8,IF(AND($M13="Sử",$S$2="II"),27,IF(AND($M13="GDĐP",$S$2="I"),9,IF(AND($M13="GDĐP",$S$2="II"),28,IF(AND($M13="TN-HN",$S$2="I"),10,IF(AND($M13="TN-HN",$S$2="II"),29,IF(AND($M13="Lý",$S$2="I"),11,IF(AND($M13="Lý",$S$2="II"),30,IF(AND($M13="HóA",$S$2="I"),12,IF(AND($M13="HóA",$S$2="II"),31,IF(AND($M13="Sinh",$S$2="I"),13,IF(AND($M13="Sinh",$S$2="II"),32,IF(AND($M13="ĐịA",$S$2="I"),14,IF(AND($M13="ĐịA",$S$2="II"),33,IF(AND($M13="KT-PL",$S$2="I"),15,IF(AND($M13="KT-PL",$S$2="II"),34,IF(AND($M13="Tin",$S$2="I"),16,IF(AND($M13="Tin",$S$2="II"),35,IF(AND($M13="CNc",$S$2="I"),17,IF(AND($M13="CNc",$S$2="II"),36,IF(AND($M13="CNn",$S$2="I"),18,IF(AND($M13="CNn",$S$2="II"),37,IF(AND($M13="Nhạc",$S$2="I"),19,IF(AND($M13="Nhạc",$S$2="II"),38,IF(AND($M13="MT",$S$2="I"),20,IF(AND($M13="MT",$S$2="II"),39,59)))))))))))))))))))))))))))))))))))))) -> 0 | F13: =IF(S13=0,0,VLOOKUP(S13,'T-L-K'!$B$7:$BH$36,IF(AND($M13="Văn",$S$2="I"),3,IF(AND($M13="Văn",$S$2="II"),22,IF(AND($M13="Toán",$S$2="I"),4,IF(AND($M13="Toán",$S$2="II"),23,IF(AND($M13="Anh",$S$2="I"),5,IF(AND($M13="Anh",$S$2="II"),24,IF(AND($M13="TD",$S$2="I"),6,IF(AND($M13="TD",$S$2="II"),25,IF(AND($M13="QP",$S$2="I"),7,IF(AND($M13="QP",$S$2="II"),26,IF(AND($M13="Sử",$S$2="I"),8,IF(AND($M13="Sử",$S$2="II"),27,IF(AND($M13="GDĐP",$S$2="I"),9,IF(AND($M13="GDĐP",$S$2="II"),28,IF(AND($M13="TN-HN",$S$2="I"),10,IF(AND($M13="TN-HN",$S$2="II"),29,IF(AND($M13="Lý",$S$2="I"),11,IF(AND($M13="Lý",$S$2="II"),30,IF(AND($M13="HóA",$S$2="I"),12,IF(AND($M13="HóA",$S$2="II"),31,IF(AND($M13="Sinh",$S$2="I"),13,IF(AND($M13="Sinh",$S$2="II"),32,IF(AND($M13="ĐịA",$S$2="I"),14,IF(AND($M13="ĐịA",$S$2="II"),33,IF(AND($M13="KT-PL",$S$2="I"),15,IF(AND($M13="KT-PL",$S$2="II"),34,IF(AND($M13="Tin",$S$2="I"),16,IF(AND($M13="Tin",$S$2="II"),35,IF(AND($M13="CNc",$S$2="I"),17,IF(AND($M13="CNc",$S$2="II"),36,IF(AND($M13="CNn",$S$2="I"),18,IF(AND($M13="CNn",$S$2="II"),37,IF(AND($M13="Nhạc",$S$2="I"),19,IF(AND($M13="Nhạc",$S$2="II"),38,IF(AND($M13="MT",$S$2="I"),20,IF(AND($M13="MT",$S$2="II"),39,59)))))))))))))))))))))))))))))))))))))) -> 0 | G13: =IF(T13=0,0,VLOOKUP(T13,'T-L-K'!$B$7:$BH$36,IF(AND($M13="Văn",$S$2="I"),3,IF(AND($M13="Văn",$S$2="II"),22,IF(AND($M13="Toán",$S$2="I"),4,IF(AND($M13="Toán",$S$2="II"),23,IF(AND($M13="Anh",$S$2="I"),5,IF(AND($M13="Anh",$S$2="II"),24,IF(AND($M13="TD",$S$2="I"),6,IF(AND($M13="TD",$S$2="II"),25,IF(AND($M13="QP",$S$2="I"),7,IF(AND($M13="QP",$S$2="II"),26,IF(AND($M13="Sử",$S$2="I"),8,IF(AND($M13="Sử",$S$2="II"),27,IF(AND($M13="GDĐP",$S$2="I"),9,IF(AND($M13="GDĐP",$S$2="II"),28,IF(AND($M13="TN-HN",$S$2="I"),10,IF(AND($M13="TN-HN",$S$2="II"),29,IF(AND($M13="Lý",$S$2="I"),11,IF(AND($M13="Lý",$S$2="II"),30,IF(AND($M13="HóA",$S$2="I"),12,IF(AND($M13="HóA",$S$2="II"),31,IF(AND($M13="Sinh",$S$2="I"),13,IF(AND($M13="Sinh",$S$2="II"),32,IF(AND($M13="ĐịA",$S$2="I"),14,IF(AND($M13="ĐịA",$S$2="II"),33,IF(AND($M13="KT-PL",$S$2="I"),15,IF(AND($M13="KT-PL",$S$2="II"),34,IF(AND($M13="Tin",$S$2="I"),16,IF(AND($M13="Tin",$S$2="II"),35,IF(AND($M13="CNc",$S$2="I"),17,IF(AND($M13="CNc",$S$2="II"),36,IF(AND($M13="CNn",$S$2="I"),18,IF(AND($M13="CNn",$S$2="II"),37,IF(AND($M13="Nhạc",$S$2="I"),19,IF(AND($M13="Nhạc",$S$2="II"),38,IF(AND($M13="MT",$S$2="I"),20,IF(AND($M13="MT",$S$2="II"),39,59)))))))))))))))))))))))))))))))))))))) -> 0 | H13: =IF(U13=0,0,VLOOKUP(U13,'T-L-K'!$B$7:$BH$36,IF(AND($M13="Văn",$S$2="I"),3,IF(AND($M13="Văn",$S$2="II"),22,IF(AND($M13="Toán",$S$2="I"),4,IF(AND($M13="Toán",$S$2="II"),23,IF(AND($M13="Anh",$S$2="I"),5,IF(AND($M13="Anh",$S$2="II"),24,IF(AND($M13="TD",$S$2="I"),6,IF(AND($M13="TD",$S$2="II"),25,IF(AND($M13="QP",$S$2="I"),7,IF(AND($M13="QP",$S$2="II"),26,IF(AND($M13="Sử",$S$2="I"),8,IF(AND($M13="Sử",$S$2="II"),27,IF(AND($M13="GDĐP",$S$2="I"),9,IF(AND($M13="GDĐP",$S$2="II"),28,IF(AND($M13="TN-HN",$S$2="I"),10,IF(AND($M13="TN-HN",$S$2="II"),29,IF(AND($M13="Lý",$S$2="I"),11,IF(AND($M13="Lý",$S$2="II"),30,IF(AND($M13="HóA",$S$2="I"),12,IF(AND($M13="HóA",$S$2="II"),31,IF(AND($M13="Sinh",$S$2="I"),13,IF(AND($M13="Sinh",$S$2="II"),32,IF(AND($M13="ĐịA",$S$2="I"),14,IF(AND($M13="ĐịA",$S$2="II"),33,IF(AND($M13="KT-PL",$S$2="I"),15,IF(AND($M13="KT-PL",$S$2="II"),34,IF(AND($M13="Tin",$S$2="I"),16,IF(AND($M13="Tin",$S$2="II"),35,IF(AND($M13="CNc",$S$2="I"),17,IF(AND($M13="CNc",$S$2="II"),36,IF(AND($M13="CNn",$S$2="I"),18,IF(AND($M13="CNn",$S$2="II"),37,IF(AND($M13="Nhạc",$S$2="I"),19,IF(AND($M13="Nhạc",$S$2="II"),38,IF(AND($M13="MT",$S$2="I"),20,IF(AND($M13="MT",$S$2="II"),39,59)))))))))))))))))))))))))))))))))))))) -> 0 | ... J13: =IF(W13=0,0,VLOOKUP(W13,'T-L-K'!$B$7:$BH$36,IF(AND($M13="Văn",$S$2="I"),3,IF(AND($M13="Văn",$S$2="II"),22,IF(AND($M13="Toán",$S$2="I"),4,IF(AND($M13="Toán",$S$2="II"),23,IF(AND($M13="Anh",$S$2="I"),5,IF(AND($M13="Anh",$S$2="II"),24,IF(AND($M13="TD",$S$2="I"),6,IF(AND($M13="TD",$S$2="II"),25,IF(AND($M13="QP",$S$2="I"),7,IF(AND($M13="QP",$S$2="II"),26,IF(AND($M13="Sử",$S$2="I"),8,IF(AND($M13="Sử",$S$2="II"),27,IF(AND($M13="GDĐP",$S$2="I"),9,IF(AND($M13="GDĐP",$S$2="II"),28,IF(AND($M13="TN-HN",$S$2="I"),10,IF(AND($M13="TN-HN",$S$2="II"),29,IF(AND($M13="Lý",$S$2="I"),11,IF(AND($M13="Lý",$S$2="II"),30,IF(AND($M13="HóA",$S$2="I"),12,IF(AND($M13="HóA",$S$2="II"),31,IF(AND($M13="Sinh",$S$2="I"),13,IF(AND($M13="Sinh",$S$2="II"),32,IF(AND($M13="ĐịA",$S$2="I"),14,IF(AND($M13="ĐịA",$S$2="II"),33,IF(AND($M13="KT-PL",$S$2="I"),15,IF(AND($M13="KT-PL",$S$2="II"),34,IF(AND($M13="Tin",$S$2="I"),16,IF(AND($M13="Tin",$S$2="II"),35,IF(AND($M13="CNc",$S$2="I"),17,IF(AND($M13="CNc",$S$2="II"),36,IF(AND($M13="CNn",$S$2="I"),18,IF(AND($M13="CNn",$S$2="II"),37,IF(AND($M13="Nhạc",$S$2="I"),19,IF(AND($M13="Nhạc",$S$2="II"),38,IF(AND($M13="MT",$S$2="I"),20,IF(AND($M13="MT",$S$2="II"),39,59)))))))))))))))))))))))))))))))))))))) -> 0 | K13: T5 | L13: =IF(K13=0,0,VLOOKUP(K13,CBGV!$B$4:$M$69,12,0)) -> 11A2 | M13: Toán | N13: 11A2 | O13: 11A6 | P13: 11A8 | X13: =IF(K13=0,0,VLOOKUP(K13,CBGV!$B$4:$P$69,14,0))+IF(L13=0,0,VLOOKUP(L13,'T-L-K'!$B$7:$BH$36,2,0)) -> 5 | Y13: =SUM(A13:J15) -> 13 | Z13: =SUM(A13:J15)+X13 -> 18 | AA13: =IF((Z13-(VLOOKUP(K13,CBGV!$B$4:$P$69,13,0)))<=-14,"/",(Z13-(VLOOKUP(K13,CBGV!$B$4:$P$69,13,0)))) -> 1 | AB13: Toán - Tin
A14: =IF(N14=0,0,VLOOKUP(N14,'T-L-K'!$B$7:$BH$36,IF(AND($M14="Văn",$S$2="I"),3,IF(AND($M14="Văn",$S$2="II"),22,IF(AND($M14="Toán",$S$2="I"),4,IF(AND($M14="Toán",$S$2="II"),23,IF(AND($M14="Anh",$S$2="I"),5,IF(AND($M14="Anh",$S$2="II"),24,IF(AND($M14="TD",$S$2="I"),6,IF(AND($M14="TD",$S$2="II"),25,IF(AND($M14="QP",$S$2="I"),7,IF(AND($M14="QP",$S$2="II"),26,IF(AND($M14="Sử",$S$2="I"),8,IF(AND($M14="Sử",$S$2="II"),27,IF(AND($M14="GDĐP",$S$2="I"),9,IF(AND($M14="GDĐP",$S$2="II"),28,IF(AND($M14="TN-HN",$S$2="I"),10,IF(AND($M14="TN-HN",$S$2="II"),29,IF(AND($M14="Lý",$S$2="I"),11,IF(AND($M14="Lý",$S$2="II"),30,IF(AND($M14="HóA",$S$2="I"),12,IF(AND($M14="HóA",$S$2="II"),31,IF(AND($M14="Sinh",$S$2="I"),13,IF(AND($M14="Sinh",$S$2="II"),32,IF(AND($M14="ĐịA",$S$2="I"),14,IF(AND($M14="ĐịA",$S$2="II"),33,IF(AND($M14="KT-PL",$S$2="I"),15,IF(AND($M14="KT-PL",$S$2="II"),34,IF(AND($M14="Tin",$S$2="I"),16,IF(AND($M14="Tin",$S$2="II"),35,IF(AND($M14="CNc",$S$2="I"),17,IF(AND($M14="CNc",$S$2="II"),36,IF(AND($M14="CNn",$S$2="I"),18,IF(AND($M14="CNn",$S$2="II"),37,IF(AND($M14="Nhạc",$S$2="I"),19,IF(AND($M14="Nhạc",$S$2="II"),38,IF(AND($M14="MT",$S$2="I"),20,IF(AND($M14="MT",$S$2="II"),39,59)))))))))))))))))))))))))))))))))))))) -> 0 | B14: =IF(O14=0,0,VLOOKUP(O14,'T-L-K'!$B$7:$BH$36,IF(AND($M14="Văn",$S$2="I"),3,IF(AND($M14="Văn",$S$2="II"),22,IF(AND($M14="Toán",$S$2="I"),4,IF(AND($M14="Toán",$S$2="II"),23,IF(AND($M14="Anh",$S$2="I"),5,IF(AND($M14="Anh",$S$2="II"),24,IF(AND($M14="TD",$S$2="I"),6,IF(AND($M14="TD",$S$2="II"),25,IF(AND($M14="QP",$S$2="I"),7,IF(AND($M14="QP",$S$2="II"),26,IF(AND($M14="Sử",$S$2="I"),8,IF(AND($M14="Sử",$S$2="II"),27,IF(AND($M14="GDĐP",$S$2="I"),9,IF(AND($M14="GDĐP",$S$2="II"),28,IF(AND($M14="TN-HN",$S$2="I"),10,IF(AND($M14="TN-HN",$S$2="II"),29,IF(AND($M14="Lý",$S$2="I"),11,IF(AND($M14="Lý",$S$2="II"),30,IF(AND($M14="HóA",$S$2="I"),12,IF(AND($M14="HóA",$S$2="II"),31,IF(AND($M14="Sinh",$S$2="I"),13,IF(AND($M14="Sinh",$S$2="II"),32,IF(AND($M14="ĐịA",$S$2="I"),14,IF(AND($M14="ĐịA",$S$2="II"),33,IF(AND($M14="KT-PL",$S$2="I"),15,IF(AND($M14="KT-PL",$S$2="II"),34,IF(AND($M14="Tin",$S$2="I"),16,IF(AND($M14="Tin",$S$2="II"),35,IF(AND($M14="CNc",$S$2="I"),17,IF(AND($M14="CNc",$S$2="II"),36,IF(AND($M14="CNn",$S$2="I"),18,IF(AND($M14="CNn",$S$2="II"),37,IF(AND($M14="Nhạc",$S$2="I"),19,IF(AND($M14="Nhạc",$S$2="II"),38,IF(AND($M14="MT",$S$2="I"),20,IF(AND($M14="MT",$S$2="II"),39,59)))))))))))))))))))))))))))))))))))))) -> 0 | C14: =IF(P14=0,0,VLOOKUP(P14,'T-L-K'!$B$7:$BH$36,IF(AND($M14="Văn",$S$2="I"),3,IF(AND($M14="Văn",$S$2="II"),22,IF(AND($M14="Toán",$S$2="I"),4,IF(AND($M14="Toán",$S$2="II"),23,IF(AND($M14="Anh",$S$2="I"),5,IF(AND($M14="Anh",$S$2="II"),24,IF(AND($M14="TD",$S$2="I"),6,IF(AND($M14="TD",$S$2="II"),25,IF(AND($M14="QP",$S$2="I"),7,IF(AND($M14="QP",$S$2="II"),26,IF(AND($M14="Sử",$S$2="I"),8,IF(AND($M14="Sử",$S$2="II"),27,IF(AND($M14="GDĐP",$S$2="I"),9,IF(AND($M14="GDĐP",$S$2="II"),28,IF(AND($M14="TN-HN",$S$2="I"),10,IF(AND($M14="TN-HN",$S$2="II"),29,IF(AND($M14="Lý",$S$2="I"),11,IF(AND($M14="Lý",$S$2="II"),30,IF(AND($M14="HóA",$S$2="I"),12,IF(AND($M14="HóA",$S$2="II"),31,IF(AND($M14="Sinh",$S$2="I"),13,IF(AND($M14="Sinh",$S$2="II"),32,IF(AND($M14="ĐịA",$S$2="I"),14,IF(AND($M14="ĐịA",$S$2="II"),33,IF(AND($M14="KT-PL",$S$2="I"),15,IF(AND($M14="KT-PL",$S$2="II"),34,IF(AND($M14="Tin",$S$2="I"),16,IF(AND($M14="Tin",$S$2="II"),35,IF(AND($M14="CNc",$S$2="I"),17,IF(AND($M14="CNc",$S$2="II"),36,IF(AND($M14="CNn",$S$2="I"),18,IF(AND($M14="CNn",$S$2="II"),37,IF(AND($M14="Nhạc",$S$2="I"),19,IF(AND($M14="Nhạc",$S$2="II"),38,IF(AND($M14="MT",$S$2="I"),20,IF(AND($M14="MT",$S$2="II"),39,59)))))))))))))))))))))))))))))))))))))) -> 0 | D14: =IF(Q14=0,0,VLOOKUP(Q14,'T-L-K'!$B$7:$BH$36,IF(AND($M14="Văn",$S$2="I"),3,IF(AND($M14="Văn",$S$2="II"),22,IF(AND($M14="Toán",$S$2="I"),4,IF(AND($M14="Toán",$S$2="II"),23,IF(AND($M14="Anh",$S$2="I"),5,IF(AND($M14="Anh",$S$2="II"),24,IF(AND($M14="TD",$S$2="I"),6,IF(AND($M14="TD",$S$2="II"),25,IF(AND($M14="QP",$S$2="I"),7,IF(AND($M14="QP",$S$2="II"),26,IF(AND($M14="Sử",$S$2="I"),8,IF(AND($M14="Sử",$S$2="II"),27,IF(AND($M14="GDĐP",$S$2="I"),9,IF(AND($M14="GDĐP",$S$2="II"),28,IF(AND($M14="TN-HN",$S$2="I"),10,IF(AND($M14="TN-HN",$S$2="II"),29,IF(AND($M14="Lý",$S$2="I"),11,IF(AND($M14="Lý",$S$2="II"),30,IF(AND($M14="HóA",$S$2="I"),12,IF(AND($M14="HóA",$S$2="II"),31,IF(AND($M14="Sinh",$S$2="I"),13,IF(AND($M14="Sinh",$S$2="II"),32,IF(AND($M14="ĐịA",$S$2="I"),14,IF(AND($M14="ĐịA",$S$2="II"),33,IF(AND($M14="KT-PL",$S$2="I"),15,IF(AND($M14="KT-PL",$S$2="II"),34,IF(AND($M14="Tin",$S$2="I"),16,IF(AND($M14="Tin",$S$2="II"),35,IF(AND($M14="CNc",$S$2="I"),17,IF(AND($M14="CNc",$S$2="II"),36,IF(AND($M14="CNn",$S$2="I"),18,IF(AND($M14="CNn",$S$2="II"),37,IF(AND($M14="Nhạc",$S$2="I"),19,IF(AND($M14="Nhạc",$S$2="II"),38,IF(AND($M14="MT",$S$2="I"),20,IF(AND($M14="MT",$S$2="II"),39,59)))))))))))))))))))))))))))))))))))))) -> 0 | E14: =IF(R14=0,0,VLOOKUP(R14,'T-L-K'!$B$7:$BH$36,IF(AND($M14="Văn",$S$2="I"),3,IF(AND($M14="Văn",$S$2="II"),22,IF(AND($M14="Toán",$S$2="I"),4,IF(AND($M14="Toán",$S$2="II"),23,IF(AND($M14="Anh",$S$2="I"),5,IF(AND($M14="Anh",$S$2="II"),24,IF(AND($M14="TD",$S$2="I"),6,IF(AND($M14="TD",$S$2="II"),25,IF(AND($M14="QP",$S$2="I"),7,IF(AND($M14="QP",$S$2="II"),26,IF(AND($M14="Sử",$S$2="I"),8,IF(AND($M14="Sử",$S$2="II"),27,IF(AND($M14="GDĐP",$S$2="I"),9,IF(AND($M14="GDĐP",$S$2="II"),28,IF(AND($M14="TN-HN",$S$2="I"),10,IF(AND($M14="TN-HN",$S$2="II"),29,IF(AND($M14="Lý",$S$2="I"),11,IF(AND($M14="Lý",$S$2="II"),30,IF(AND($M14="HóA",$S$2="I"),12,IF(AND($M14="HóA",$S$2="II"),31,IF(AND($M14="Sinh",$S$2="I"),13,IF(AND($M14="Sinh",$S$2="II"),32,IF(AND($M14="ĐịA",$S$2="I"),14,IF(AND($M14="ĐịA",$S$2="II"),33,IF(AND($M14="KT-PL",$S$2="I"),15,IF(AND($M14="KT-PL",$S$2="II"),34,IF(AND($M14="Tin",$S$2="I"),16,IF(AND($M14="Tin",$S$2="II"),35,IF(AND($M14="CNc",$S$2="I"),17,IF(AND($M14="CNc",$S$2="II"),36,IF(AND($M14="CNn",$S$2="I"),18,IF(AND($M14="CNn",$S$2="II"),37,IF(AND($M14="Nhạc",$S$2="I"),19,IF(AND($M14="Nhạc",$S$2="II"),38,IF(AND($M14="MT",$S$2="I"),20,IF(AND($M14="MT",$S$2="II"),39,59)))))))))))))))))))))))))))))))))))))) -> 0 | F14: =IF(S14=0,0,VLOOKUP(S14,'T-L-K'!$B$7:$BH$36,IF(AND($M14="Văn",$S$2="I"),3,IF(AND($M14="Văn",$S$2="II"),22,IF(AND($M14="Toán",$S$2="I"),4,IF(AND($M14="Toán",$S$2="II"),23,IF(AND($M14="Anh",$S$2="I"),5,IF(AND($M14="Anh",$S$2="II"),24,IF(AND($M14="TD",$S$2="I"),6,IF(AND($M14="TD",$S$2="II"),25,IF(AND($M14="QP",$S$2="I"),7,IF(AND($M14="QP",$S$2="II"),26,IF(AND($M14="Sử",$S$2="I"),8,IF(AND($M14="Sử",$S$2="II"),27,IF(AND($M14="GDĐP",$S$2="I"),9,IF(AND($M14="GDĐP",$S$2="II"),28,IF(AND($M14="TN-HN",$S$2="I"),10,IF(AND($M14="TN-HN",$S$2="II"),29,IF(AND($M14="Lý",$S$2="I"),11,IF(AND($M14="Lý",$S$2="II"),30,IF(AND($M14="HóA",$S$2="I"),12,IF(AND($M14="HóA",$S$2="II"),31,IF(AND($M14="Sinh",$S$2="I"),13,IF(AND($M14="Sinh",$S$2="II"),32,IF(AND($M14="ĐịA",$S$2="I"),14,IF(AND($M14="ĐịA",$S$2="II"),33,IF(AND($M14="KT-PL",$S$2="I"),15,IF(AND($M14="KT-PL",$S$2="II"),34,IF(AND($M14="Tin",$S$2="I"),16,IF(AND($M14="Tin",$S$2="II"),35,IF(AND($M14="CNc",$S$2="I"),17,IF(AND($M14="CNc",$S$2="II"),36,IF(AND($M14="CNn",$S$2="I"),18,IF(AND($M14="CNn",$S$2="II"),37,IF(AND($M14="Nhạc",$S$2="I"),19,IF(AND($M14="Nhạc",$S$2="II"),38,IF(AND($M14="MT",$S$2="I"),20,IF(AND($M14="MT",$S$2="II"),39,59)))))))))))))))))))))))))))))))))))))) -> 0 | G14: =IF(T14=0,0,VLOOKUP(T14,'T-L-K'!$B$7:$BH$36,IF(AND($M14="Văn",$S$2="I"),3,IF(AND($M14="Văn",$S$2="II"),22,IF(AND($M14="Toán",$S$2="I"),4,IF(AND($M14="Toán",$S$2="II"),23,IF(AND($M14="Anh",$S$2="I"),5,IF(AND($M14="Anh",$S$2="II"),24,IF(AND($M14="TD",$S$2="I"),6,IF(AND($M14="TD",$S$2="II"),25,IF(AND($M14="QP",$S$2="I"),7,IF(AND($M14="QP",$S$2="II"),26,IF(AND($M14="Sử",$S$2="I"),8,IF(AND($M14="Sử",$S$2="II"),27,IF(AND($M14="GDĐP",$S$2="I"),9,IF(AND($M14="GDĐP",$S$2="II"),28,IF(AND($M14="TN-HN",$S$2="I"),10,IF(AND($M14="TN-HN",$S$2="II"),29,IF(AND($M14="Lý",$S$2="I"),11,IF(AND($M14="Lý",$S$2="II"),30,IF(AND($M14="HóA",$S$2="I"),12,IF(AND($M14="HóA",$S$2="II"),31,IF(AND($M14="Sinh",$S$2="I"),13,IF(AND($M14="Sinh",$S$2="II"),32,IF(AND($M14="ĐịA",$S$2="I"),14,IF(AND($M14="ĐịA",$S$2="II"),33,IF(AND($M14="KT-PL",$S$2="I"),15,IF(AND($M14="KT-PL",$S$2="II"),34,IF(AND($M14="Tin",$S$2="I"),16,IF(AND($M14="Tin",$S$2="II"),35,IF(AND($M14="CNc",$S$2="I"),17,IF(AND($M14="CNc",$S$2="II"),36,IF(AND($M14="CNn",$S$2="I"),18,IF(AND($M14="CNn",$S$2="II"),37,IF(AND($M14="Nhạc",$S$2="I"),19,IF(AND($M14="Nhạc",$S$2="II"),38,IF(AND($M14="MT",$S$2="I"),20,IF(AND($M14="MT",$S$2="II"),39,59)))))))))))))))))))))))))))))))))))))) -> 0 | H14: =IF(U14=0,0,VLOOKUP(U14,'T-L-K'!$B$7:$BH$36,IF(AND($M14="Văn",$S$2="I"),3,IF(AND($M14="Văn",$S$2="II"),22,IF(AND($M14="Toán",$S$2="I"),4,IF(AND($M14="Toán",$S$2="II"),23,IF(AND($M14="Anh",$S$2="I"),5,IF(AND($M14="Anh",$S$2="II"),24,IF(AND($M14="TD",$S$2="I"),6,IF(AND($M14="TD",$S$2="II"),25,IF(AND($M14="QP",$S$2="I"),7,IF(AND($M14="QP",$S$2="II"),26,IF(AND($M14="Sử",$S$2="I"),8,IF(AND($M14="Sử",$S$2="II"),27,IF(AND($M14="GDĐP",$S$2="I"),9,IF(AND($M14="GDĐP",$S$2="II"),28,IF(AND($M14="TN-HN",$S$2="I"),10,IF(AND($M14="TN-HN",$S$2="II"),29,IF(AND($M14="Lý",$S$2="I"),11,IF(AND($M14="Lý",$S$2="II"),30,IF(AND($M14="HóA",$S$2="I"),12,IF(AND($M14="HóA",$S$2="II"),31,IF(AND($M14="Sinh",$S$2="I"),13,IF(AND($M14="Sinh",$S$2="II"),32,IF(AND($M14="ĐịA",$S$2="I"),14,IF(AND($M14="ĐịA",$S$2="II"),33,IF(AND($M14="KT-PL",$S$2="I"),15,IF(AND($M14="KT-PL",$S$2="II"),34,IF(AND($M14="Tin",$S$2="I"),16,IF(AND($M14="Tin",$S$2="II"),35,IF(AND($M14="CNc",$S$2="I"),17,IF(AND($M14="CNc",$S$2="II"),36,IF(AND($M14="CNn",$S$2="I"),18,IF(AND($M14="CNn",$S$2="II"),37,IF(AND($M14="Nhạc",$S$2="I"),19,IF(AND($M14="Nhạc",$S$2="II"),38,IF(AND($M14="MT",$S$2="I"),20,IF(AND($M14="MT",$S$2="II"),39,59)))))))))))))))))))))))))))))))))))))) -> 0 | ... J14: =IF(W14=0,0,VLOOKUP(W14,'T-L-K'!$B$7:$BH$36,IF(AND($M14="Văn",$S$2="I"),3,IF(AND($M14="Văn",$S$2="II"),22,IF(AND($M14="Toán",$S$2="I"),4,IF(AND($M14="Toán",$S$2="II"),23,IF(AND($M14="Anh",$S$2="I"),5,IF(AND($M14="Anh",$S$2="II"),24,IF(AND($M14="TD",$S$2="I"),6,IF(AND($M14="TD",$S$2="II"),25,IF(AND($M14="QP",$S$2="I"),7,IF(AND($M14="QP",$S$2="II"),26,IF(AND($M14="Sử",$S$2="I"),8,IF(AND($M14="Sử",$S$2="II"),27,IF(AND($M14="GDĐP",$S$2="I"),9,IF(AND($M14="GDĐP",$S$2="II"),28,IF(AND($M14="TN-HN",$S$2="I"),10,IF(AND($M14="TN-HN",$S$2="II"),29,IF(AND($M14="Lý",$S$2="I"),11,IF(AND($M14="Lý",$S$2="II"),30,IF(AND($M14="HóA",$S$2="I"),12,IF(AND($M14="HóA",$S$2="II"),31,IF(AND($M14="Sinh",$S$2="I"),13,IF(AND($M14="Sinh",$S$2="II"),32,IF(AND($M14="ĐịA",$S$2="I"),14,IF(AND($M14="ĐịA",$S$2="II"),33,IF(AND($M14="KT-PL",$S$2="I"),15,IF(AND($M14="KT-PL",$S$2="II"),34,IF(AND($M14="Tin",$S$2="I"),16,IF(AND($M14="Tin",$S$2="II"),35,IF(AND($M14="CNc",$S$2="I"),17,IF(AND($M14="CNc",$S$2="II"),36,IF(AND($M14="CNn",$S$2="I"),18,IF(AND($M14="CNn",$S$2="II"),37,IF(AND($M14="Nhạc",$S$2="I"),19,IF(AND($M14="Nhạc",$S$2="II"),38,IF(AND($M14="MT",$S$2="I"),20,IF(AND($M14="MT",$S$2="II"),39,59)))))))))))))))))))))))))))))))))))))) -> 0 | M14: Toán | AB14: Toán - Tin
A15: =IF(N15=0,0,VLOOKUP(N15,'T-L-K'!$B$7:$BH$36,IF(AND($M15="Văn",$S$2="I"),3,IF(AND($M15="Văn",$S$2="II"),22,IF(AND($M15="Toán",$S$2="I"),4,IF(AND($M15="Toán",$S$2="II"),23,IF(AND($M15="Anh",$S$2="I"),5,IF(AND($M15="Anh",$S$2="II"),24,IF(AND($M15="TD",$S$2="I"),6,IF(AND($M15="TD",$S$2="II"),25,IF(AND($M15="QP",$S$2="I"),7,IF(AND($M15="QP",$S$2="II"),26,IF(AND($M15="Sử",$S$2="I"),8,IF(AND($M15="Sử",$S$2="II"),27,IF(AND($M15="GDĐP",$S$2="I"),9,IF(AND($M15="GDĐP",$S$2="II"),28,IF(AND($M15="TN-HN",$S$2="I"),10,IF(AND($M15="TN-HN",$S$2="II"),29,IF(AND($M15="Lý",$S$2="I"),11,IF(AND($M15="Lý",$S$2="II"),30,IF(AND($M15="HóA",$S$2="I"),12,IF(AND($M15="HóA",$S$2="II"),31,IF(AND($M15="Sinh",$S$2="I"),13,IF(AND($M15="Sinh",$S$2="II"),32,IF(AND($M15="ĐịA",$S$2="I"),14,IF(AND($M15="ĐịA",$S$2="II"),33,IF(AND($M15="KT-PL",$S$2="I"),15,IF(AND($M15="KT-PL",$S$2="II"),34,IF(AND($M15="Tin",$S$2="I"),16,IF(AND($M15="Tin",$S$2="II"),35,IF(AND($M15="CNc",$S$2="I"),17,IF(AND($M15="CNc",$S$2="II"),36,IF(AND($M15="CNn",$S$2="I"),18,IF(AND($M15="CNn",$S$2="II"),37,IF(AND($M15="Nhạc",$S$2="I"),19,IF(AND($M15="Nhạc",$S$2="II"),38,IF(AND($M15="MT",$S$2="I"),20,IF(AND($M15="MT",$S$2="II"),39,59)))))))))))))))))))))))))))))))))))))) -> 1 | B15: =IF(O15=0,0,VLOOKUP(O15,'T-L-K'!$B$7:$BH$36,IF(AND($M15="Văn",$S$2="I"),3,IF(AND($M15="Văn",$S$2="II"),22,IF(AND($M15="Toán",$S$2="I"),4,IF(AND($M15="Toán",$S$2="II"),23,IF(AND($M15="Anh",$S$2="I"),5,IF(AND($M15="Anh",$S$2="II"),24,IF(AND($M15="TD",$S$2="I"),6,IF(AND($M15="TD",$S$2="II"),25,IF(AND($M15="QP",$S$2="I"),7,IF(AND($M15="QP",$S$2="II"),26,IF(AND($M15="Sử",$S$2="I"),8,IF(AND($M15="Sử",$S$2="II"),27,IF(AND($M15="GDĐP",$S$2="I"),9,IF(AND($M15="GDĐP",$S$2="II"),28,IF(AND($M15="TN-HN",$S$2="I"),10,IF(AND($M15="TN-HN",$S$2="II"),29,IF(AND($M15="Lý",$S$2="I"),11,IF(AND($M15="Lý",$S$2="II"),30,IF(AND($M15="HóA",$S$2="I"),12,IF(AND($M15="HóA",$S$2="II"),31,IF(AND($M15="Sinh",$S$2="I"),13,IF(AND($M15="Sinh",$S$2="II"),32,IF(AND($M15="ĐịA",$S$2="I"),14,IF(AND($M15="ĐịA",$S$2="II"),33,IF(AND($M15="KT-PL",$S$2="I"),15,IF(AND($M15="KT-PL",$S$2="II"),34,IF(AND($M15="Tin",$S$2="I"),16,IF(AND($M15="Tin",$S$2="II"),35,IF(AND($M15="CNc",$S$2="I"),17,IF(AND($M15="CNc",$S$2="II"),36,IF(AND($M15="CNn",$S$2="I"),18,IF(AND($M15="CNn",$S$2="II"),37,IF(AND($M15="Nhạc",$S$2="I"),19,IF(AND($M15="Nhạc",$S$2="II"),38,IF(AND($M15="MT",$S$2="I"),20,IF(AND($M15="MT",$S$2="II"),39,59)))))))))))))))))))))))))))))))))))))) -> 0 | C15: =IF(P15=0,0,VLOOKUP(P15,'T-L-K'!$B$7:$BH$36,IF(AND($M15="Văn",$S$2="I"),3,IF(AND($M15="Văn",$S$2="II"),22,IF(AND($M15="Toán",$S$2="I"),4,IF(AND($M15="Toán",$S$2="II"),23,IF(AND($M15="Anh",$S$2="I"),5,IF(AND($M15="Anh",$S$2="II"),24,IF(AND($M15="TD",$S$2="I"),6,IF(AND($M15="TD",$S$2="II"),25,IF(AND($M15="QP",$S$2="I"),7,IF(AND($M15="QP",$S$2="II"),26,IF(AND($M15="Sử",$S$2="I"),8,IF(AND($M15="Sử",$S$2="II"),27,IF(AND($M15="GDĐP",$S$2="I"),9,IF(AND($M15="GDĐP",$S$2="II"),28,IF(AND($M15="TN-HN",$S$2="I"),10,IF(AND($M15="TN-HN",$S$2="II"),29,IF(AND($M15="Lý",$S$2="I"),11,IF(AND($M15="Lý",$S$2="II"),30,IF(AND($M15="HóA",$S$2="I"),12,IF(AND($M15="HóA",$S$2="II"),31,IF(AND($M15="Sinh",$S$2="I"),13,IF(AND($M15="Sinh",$S$2="II"),32,IF(AND($M15="ĐịA",$S$2="I"),14,IF(AND($M15="ĐịA",$S$2="II"),33,IF(AND($M15="KT-PL",$S$2="I"),15,IF(AND($M15="KT-PL",$S$2="II"),34,IF(AND($M15="Tin",$S$2="I"),16,IF(AND($M15="Tin",$S$2="II"),35,IF(AND($M15="CNc",$S$2="I"),17,IF(AND($M15="CNc",$S$2="II"),36,IF(AND($M15="CNn",$S$2="I"),18,IF(AND($M15="CNn",$S$2="II"),37,IF(AND($M15="Nhạc",$S$2="I"),19,IF(AND($M15="Nhạc",$S$2="II"),38,IF(AND($M15="MT",$S$2="I"),20,IF(AND($M15="MT",$S$2="II"),39,59)))))))))))))))))))))))))))))))))))))) -> 0 | D15: =IF(Q15=0,0,VLOOKUP(Q15,'T-L-K'!$B$7:$BH$36,IF(AND($M15="Văn",$S$2="I"),3,IF(AND($M15="Văn",$S$2="II"),22,IF(AND($M15="Toán",$S$2="I"),4,IF(AND($M15="Toán",$S$2="II"),23,IF(AND($M15="Anh",$S$2="I"),5,IF(AND($M15="Anh",$S$2="II"),24,IF(AND($M15="TD",$S$2="I"),6,IF(AND($M15="TD",$S$2="II"),25,IF(AND($M15="QP",$S$2="I"),7,IF(AND($M15="QP",$S$2="II"),26,IF(AND($M15="Sử",$S$2="I"),8,IF(AND($M15="Sử",$S$2="II"),27,IF(AND($M15="GDĐP",$S$2="I"),9,IF(AND($M15="GDĐP",$S$2="II"),28,IF(AND($M15="TN-HN",$S$2="I"),10,IF(AND($M15="TN-HN",$S$2="II"),29,IF(AND($M15="Lý",$S$2="I"),11,IF(AND($M15="Lý",$S$2="II"),30,IF(AND($M15="HóA",$S$2="I"),12,IF(AND($M15="HóA",$S$2="II"),31,IF(AND($M15="Sinh",$S$2="I"),13,IF(AND($M15="Sinh",$S$2="II"),32,IF(AND($M15="ĐịA",$S$2="I"),14,IF(AND($M15="ĐịA",$S$2="II"),33,IF(AND($M15="KT-PL",$S$2="I"),15,IF(AND($M15="KT-PL",$S$2="II"),34,IF(AND($M15="Tin",$S$2="I"),16,IF(AND($M15="Tin",$S$2="II"),35,IF(AND($M15="CNc",$S$2="I"),17,IF(AND($M15="CNc",$S$2="II"),36,IF(AND($M15="CNn",$S$2="I"),18,IF(AND($M15="CNn",$S$2="II"),37,IF(AND($M15="Nhạc",$S$2="I"),19,IF(AND($M15="Nhạc",$S$2="II"),38,IF(AND($M15="MT",$S$2="I"),20,IF(AND($M15="MT",$S$2="II"),39,59)))))))))))))))))))))))))))))))))))))) -> 0 | E15: =IF(R15=0,0,VLOOKUP(R15,'T-L-K'!$B$7:$BH$36,IF(AND($M15="Văn",$S$2="I"),3,IF(AND($M15="Văn",$S$2="II"),22,IF(AND($M15="Toán",$S$2="I"),4,IF(AND($M15="Toán",$S$2="II"),23,IF(AND($M15="Anh",$S$2="I"),5,IF(AND($M15="Anh",$S$2="II"),24,IF(AND($M15="TD",$S$2="I"),6,IF(AND($M15="TD",$S$2="II"),25,IF(AND($M15="QP",$S$2="I"),7,IF(AND($M15="QP",$S$2="II"),26,IF(AND($M15="Sử",$S$2="I"),8,IF(AND($M15="Sử",$S$2="II"),27,IF(AND($M15="GDĐP",$S$2="I"),9,IF(AND($M15="GDĐP",$S$2="II"),28,IF(AND($M15="TN-HN",$S$2="I"),10,IF(AND($M15="TN-HN",$S$2="II"),29,IF(AND($M15="Lý",$S$2="I"),11,IF(AND($M15="Lý",$S$2="II"),30,IF(AND($M15="HóA",$S$2="I"),12,IF(AND($M15="HóA",$S$2="II"),31,IF(AND($M15="Sinh",$S$2="I"),13,IF(AND($M15="Sinh",$S$2="II"),32,IF(AND($M15="ĐịA",$S$2="I"),14,IF(AND($M15="ĐịA",$S$2="II"),33,IF(AND($M15="KT-PL",$S$2="I"),15,IF(AND($M15="KT-PL",$S$2="II"),34,IF(AND($M15="Tin",$S$2="I"),16,IF(AND($M15="Tin",$S$2="II"),35,IF(AND($M15="CNc",$S$2="I"),17,IF(AND($M15="CNc",$S$2="II"),36,IF(AND($M15="CNn",$S$2="I"),18,IF(AND($M15="CNn",$S$2="II"),37,IF(AND($M15="Nhạc",$S$2="I"),19,IF(AND($M15="Nhạc",$S$2="II"),38,IF(AND($M15="MT",$S$2="I"),20,IF(AND($M15="MT",$S$2="II"),39,59)))))))))))))))))))))))))))))))))))))) -> 0 | F15: =IF(S15=0,0,VLOOKUP(S15,'T-L-K'!$B$7:$BH$36,IF(AND($M15="Văn",$S$2="I"),3,IF(AND($M15="Văn",$S$2="II"),22,IF(AND($M15="Toán",$S$2="I"),4,IF(AND($M15="Toán",$S$2="II"),23,IF(AND($M15="Anh",$S$2="I"),5,IF(AND($M15="Anh",$S$2="II"),24,IF(AND($M15="TD",$S$2="I"),6,IF(AND($M15="TD",$S$2="II"),25,IF(AND($M15="QP",$S$2="I"),7,IF(AND($M15="QP",$S$2="II"),26,IF(AND($M15="Sử",$S$2="I"),8,IF(AND($M15="Sử",$S$2="II"),27,IF(AND($M15="GDĐP",$S$2="I"),9,IF(AND($M15="GDĐP",$S$2="II"),28,IF(AND($M15="TN-HN",$S$2="I"),10,IF(AND($M15="TN-HN",$S$2="II"),29,IF(AND($M15="Lý",$S$2="I"),11,IF(AND($M15="Lý",$S$2="II"),30,IF(AND($M15="HóA",$S$2="I"),12,IF(AND($M15="HóA",$S$2="II"),31,IF(AND($M15="Sinh",$S$2="I"),13,IF(AND($M15="Sinh",$S$2="II"),32,IF(AND($M15="ĐịA",$S$2="I"),14,IF(AND($M15="ĐịA",$S$2="II"),33,IF(AND($M15="KT-PL",$S$2="I"),15,IF(AND($M15="KT-PL",$S$2="II"),34,IF(AND($M15="Tin",$S$2="I"),16,IF(AND($M15="Tin",$S$2="II"),35,IF(AND($M15="CNc",$S$2="I"),17,IF(AND($M15="CNc",$S$2="II"),36,IF(AND($M15="CNn",$S$2="I"),18,IF(AND($M15="CNn",$S$2="II"),37,IF(AND($M15="Nhạc",$S$2="I"),19,IF(AND($M15="Nhạc",$S$2="II"),38,IF(AND($M15="MT",$S$2="I"),20,IF(AND($M15="MT",$S$2="II"),39,59)))))))))))))))))))))))))))))))))))))) -> 0 | G15: =IF(T15=0,0,VLOOKUP(T15,'T-L-K'!$B$7:$BH$36,IF(AND($M15="Văn",$S$2="I"),3,IF(AND($M15="Văn",$S$2="II"),22,IF(AND($M15="Toán",$S$2="I"),4,IF(AND($M15="Toán",$S$2="II"),23,IF(AND($M15="Anh",$S$2="I"),5,IF(AND($M15="Anh",$S$2="II"),24,IF(AND($M15="TD",$S$2="I"),6,IF(AND($M15="TD",$S$2="II"),25,IF(AND($M15="QP",$S$2="I"),7,IF(AND($M15="QP",$S$2="II"),26,IF(AND($M15="Sử",$S$2="I"),8,IF(AND($M15="Sử",$S$2="II"),27,IF(AND($M15="GDĐP",$S$2="I"),9,IF(AND($M15="GDĐP",$S$2="II"),28,IF(AND($M15="TN-HN",$S$2="I"),10,IF(AND($M15="TN-HN",$S$2="II"),29,IF(AND($M15="Lý",$S$2="I"),11,IF(AND($M15="Lý",$S$2="II"),30,IF(AND($M15="HóA",$S$2="I"),12,IF(AND($M15="HóA",$S$2="II"),31,IF(AND($M15="Sinh",$S$2="I"),13,IF(AND($M15="Sinh",$S$2="II"),32,IF(AND($M15="ĐịA",$S$2="I"),14,IF(AND($M15="ĐịA",$S$2="II"),33,IF(AND($M15="KT-PL",$S$2="I"),15,IF(AND($M15="KT-PL",$S$2="II"),34,IF(AND($M15="Tin",$S$2="I"),16,IF(AND($M15="Tin",$S$2="II"),35,IF(AND($M15="CNc",$S$2="I"),17,IF(AND($M15="CNc",$S$2="II"),36,IF(AND($M15="CNn",$S$2="I"),18,IF(AND($M15="CNn",$S$2="II"),37,IF(AND($M15="Nhạc",$S$2="I"),19,IF(AND($M15="Nhạc",$S$2="II"),38,IF(AND($M15="MT",$S$2="I"),20,IF(AND($M15="MT",$S$2="II"),39,59)))))))))))))))))))))))))))))))))))))) -> 0 | H15: =IF(U15=0,0,VLOOKUP(U15,'T-L-K'!$B$7:$BH$36,IF(AND($M15="Văn",$S$2="I"),3,IF(AND($M15="Văn",$S$2="II"),22,IF(AND($M15="Toán",$S$2="I"),4,IF(AND($M15="Toán",$S$2="II"),23,IF(AND($M15="Anh",$S$2="I"),5,IF(AND($M15="Anh",$S$2="II"),24,IF(AND($M15="TD",$S$2="I"),6,IF(AND($M15="TD",$S$2="II"),25,IF(AND($M15="QP",$S$2="I"),7,IF(AND($M15="QP",$S$2="II"),26,IF(AND($M15="Sử",$S$2="I"),8,IF(AND($M15="Sử",$S$2="II"),27,IF(AND($M15="GDĐP",$S$2="I"),9,IF(AND($M15="GDĐP",$S$2="II"),28,IF(AND($M15="TN-HN",$S$2="I"),10,IF(AND($M15="TN-HN",$S$2="II"),29,IF(AND($M15="Lý",$S$2="I"),11,IF(AND($M15="Lý",$S$2="II"),30,IF(AND($M15="HóA",$S$2="I"),12,IF(AND($M15="HóA",$S$2="II"),31,IF(AND($M15="Sinh",$S$2="I"),13,IF(AND($M15="Sinh",$S$2="II"),32,IF(AND($M15="ĐịA",$S$2="I"),14,IF(AND($M15="ĐịA",$S$2="II"),33,IF(AND($M15="KT-PL",$S$2="I"),15,IF(AND($M15="KT-PL",$S$2="II"),34,IF(AND($M15="Tin",$S$2="I"),16,IF(AND($M15="Tin",$S$2="II"),35,IF(AND($M15="CNc",$S$2="I"),17,IF(AND($M15="CNc",$S$2="II"),36,IF(AND($M15="CNn",$S$2="I"),18,IF(AND($M15="CNn",$S$2="II"),37,IF(AND($M15="Nhạc",$S$2="I"),19,IF(AND($M15="Nhạc",$S$2="II"),38,IF(AND($M15="MT",$S$2="I"),20,IF(AND($M15="MT",$S$2="II"),39,59)))))))))))))))))))))))))))))))))))))) -> 0 | ... J15: =IF(W15=0,0,VLOOKUP(W15,'T-L-K'!$B$7:$BH$36,IF(AND($M15="Văn",$S$2="I"),3,IF(AND($M15="Văn",$S$2="II"),22,IF(AND($M15="Toán",$S$2="I"),4,IF(AND($M15="Toán",$S$2="II"),23,IF(AND($M15="Anh",$S$2="I"),5,IF(AND($M15="Anh",$S$2="II"),24,IF(AND($M15="TD",$S$2="I"),6,IF(AND($M15="TD",$S$2="II"),25,IF(AND($M15="QP",$S$2="I"),7,IF(AND($M15="QP",$S$2="II"),26,IF(AND($M15="Sử",$S$2="I"),8,IF(AND($M15="Sử",$S$2="II"),27,IF(AND($M15="GDĐP",$S$2="I"),9,IF(AND($M15="GDĐP",$S$2="II"),28,IF(AND($M15="TN-HN",$S$2="I"),10,IF(AND($M15="TN-HN",$S$2="II"),29,IF(AND($M15="Lý",$S$2="I"),11,IF(AND($M15="Lý",$S$2="II"),30,IF(AND($M15="HóA",$S$2="I"),12,IF(AND($M15="HóA",$S$2="II"),31,IF(AND($M15="Sinh",$S$2="I"),13,IF(AND($M15="Sinh",$S$2="II"),32,IF(AND($M15="ĐịA",$S$2="I"),14,IF(AND($M15="ĐịA",$S$2="II"),33,IF(AND($M15="KT-PL",$S$2="I"),15,IF(AND($M15="KT-PL",$S$2="II"),34,IF(AND($M15="Tin",$S$2="I"),16,IF(AND($M15="Tin",$S$2="II"),35,IF(AND($M15="CNc",$S$2="I"),17,IF(AND($M15="CNc",$S$2="II"),36,IF(AND($M15="CNn",$S$2="I"),18,IF(AND($M15="CNn",$S$2="II"),37,IF(AND($M15="Nhạc",$S$2="I"),19,IF(AND($M15="Nhạc",$S$2="II"),38,IF(AND($M15="MT",$S$2="I"),20,IF(AND($M15="MT",$S$2="II"),39,59)))))))))))))))))))))))))))))))))))))) -> 0 | M15: TN-HN | N15: 11A2 | AB15: Toán - Tin
A16: =IF(N16=0,0,VLOOKUP(N16,'T-L-K'!$B$7:$BH$36,IF(AND($M16="Văn",$S$2="I"),3,IF(AND($M16="Văn",$S$2="II"),22,IF(AND($M16="Toán",$S$2="I"),4,IF(AND($M16="Toán",$S$2="II"),23,IF(AND($M16="Anh",$S$2="I"),5,IF(AND($M16="Anh",$S$2="II"),24,IF(AND($M16="TD",$S$2="I"),6,IF(AND($M16="TD",$S$2="II"),25,IF(AND($M16="QP",$S$2="I"),7,IF(AND($M16="QP",$S$2="II"),26,IF(AND($M16="Sử",$S$2="I"),8,IF(AND($M16="Sử",$S$2="II"),27,IF(AND($M16="GDĐP",$S$2="I"),9,IF(AND($M16="GDĐP",$S$2="II"),28,IF(AND($M16="TN-HN",$S$2="I"),10,IF(AND($M16="TN-HN",$S$2="II"),29,IF(AND($M16="Lý",$S$2="I"),11,IF(AND($M16="Lý",$S$2="II"),30,IF(AND($M16="HóA",$S$2="I"),12,IF(AND($M16="HóA",$S$2="II"),31,IF(AND($M16="Sinh",$S$2="I"),13,IF(AND($M16="Sinh",$S$2="II"),32,IF(AND($M16="ĐịA",$S$2="I"),14,IF(AND($M16="ĐịA",$S$2="II"),33,IF(AND($M16="KT-PL",$S$2="I"),15,IF(AND($M16="KT-PL",$S$2="II"),34,IF(AND($M16="Tin",$S$2="I"),16,IF(AND($M16="Tin",$S$2="II"),35,IF(AND($M16="CNc",$S$2="I"),17,IF(AND($M16="CNc",$S$2="II"),36,IF(AND($M16="CNn",$S$2="I"),18,IF(AND($M16="CNn",$S$2="II"),37,IF(AND($M16="Nhạc",$S$2="I"),19,IF(AND($M16="Nhạc",$S$2="II"),38,IF(AND($M16="MT",$S$2="I"),20,IF(AND($M16="MT",$S$2="II"),39,59)))))))))))))))))))))))))))))))))))))) -> 4 | B16: =IF(O16=0,0,VLOOKUP(O16,'T-L-K'!$B$7:$BH$36,IF(AND($M16="Văn",$S$2="I"),3,IF(AND($M16="Văn",$S$2="II"),22,IF(AND($M16="Toán",$S$2="I"),4,IF(AND($M16="Toán",$S$2="II"),23,IF(AND($M16="Anh",$S$2="I"),5,IF(AND($M16="Anh",$S$2="II"),24,IF(AND($M16="TD",$S$2="I"),6,IF(AND($M16="TD",$S$2="II"),25,IF(AND($M16="QP",$S$2="I"),7,IF(AND($M16="QP",$S$2="II"),26,IF(AND($M16="Sử",$S$2="I"),8,IF(AND($M16="Sử",$S$2="II"),27,IF(AND($M16="GDĐP",$S$2="I"),9,IF(AND($M16="GDĐP",$S$2="II"),28,IF(AND($M16="TN-HN",$S$2="I"),10,IF(AND($M16="TN-HN",$S$2="II"),29,IF(AND($M16="Lý",$S$2="I"),11,IF(AND($M16="Lý",$S$2="II"),30,IF(AND($M16="HóA",$S$2="I"),12,IF(AND($M16="HóA",$S$2="II"),31,IF(AND($M16="Sinh",$S$2="I"),13,IF(AND($M16="Sinh",$S$2="II"),32,IF(AND($M16="ĐịA",$S$2="I"),14,IF(AND($M16="ĐịA",$S$2="II"),33,IF(AND($M16="KT-PL",$S$2="I"),15,IF(AND($M16="KT-PL",$S$2="II"),34,IF(AND($M16="Tin",$S$2="I"),16,IF(AND($M16="Tin",$S$2="II"),35,IF(AND($M16="CNc",$S$2="I"),17,IF(AND($M16="CNc",$S$2="II"),36,IF(AND($M16="CNn",$S$2="I"),18,IF(AND($M16="CNn",$S$2="II"),37,IF(AND($M16="Nhạc",$S$2="I"),19,IF(AND($M16="Nhạc",$S$2="II"),38,IF(AND($M16="MT",$S$2="I"),20,IF(AND($M16="MT",$S$2="II"),39,59)))))))))))))))))))))))))))))))))))))) -> 4 | C16: =IF(P16=0,0,VLOOKUP(P16,'T-L-K'!$B$7:$BH$36,IF(AND($M16="Văn",$S$2="I"),3,IF(AND($M16="Văn",$S$2="II"),22,IF(AND($M16="Toán",$S$2="I"),4,IF(AND($M16="Toán",$S$2="II"),23,IF(AND($M16="Anh",$S$2="I"),5,IF(AND($M16="Anh",$S$2="II"),24,IF(AND($M16="TD",$S$2="I"),6,IF(AND($M16="TD",$S$2="II"),25,IF(AND($M16="QP",$S$2="I"),7,IF(AND($M16="QP",$S$2="II"),26,IF(AND($M16="Sử",$S$2="I"),8,IF(AND($M16="Sử",$S$2="II"),27,IF(AND($M16="GDĐP",$S$2="I"),9,IF(AND($M16="GDĐP",$S$2="II"),28,IF(AND($M16="TN-HN",$S$2="I"),10,IF(AND($M16="TN-HN",$S$2="II"),29,IF(AND($M16="Lý",$S$2="I"),11,IF(AND($M16="Lý",$S$2="II"),30,IF(AND($M16="HóA",$S$2="I"),12,IF(AND($M16="HóA",$S$2="II"),31,IF(AND($M16="Sinh",$S$2="I"),13,IF(AND($M16="Sinh",$S$2="II"),32,IF(AND($M16="ĐịA",$S$2="I"),14,IF(AND($M16="ĐịA",$S$2="II"),33,IF(AND($M16="KT-PL",$S$2="I"),15,IF(AND($M16="KT-PL",$S$2="II"),34,IF(AND($M16="Tin",$S$2="I"),16,IF(AND($M16="Tin",$S$2="II"),35,IF(AND($M16="CNc",$S$2="I"),17,IF(AND($M16="CNc",$S$2="II"),36,IF(AND($M16="CNn",$S$2="I"),18,IF(AND($M16="CNn",$S$2="II"),37,IF(AND($M16="Nhạc",$S$2="I"),19,IF(AND($M16="Nhạc",$S$2="II"),38,IF(AND($M16="MT",$S$2="I"),20,IF(AND($M16="MT",$S$2="II"),39,59)))))))))))))))))))))))))))))))))))))) -> 0 | D16: =IF(Q16=0,0,VLOOKUP(Q16,'T-L-K'!$B$7:$BH$36,IF(AND($M16="Văn",$S$2="I"),3,IF(AND($M16="Văn",$S$2="II"),22,IF(AND($M16="Toán",$S$2="I"),4,IF(AND($M16="Toán",$S$2="II"),23,IF(AND($M16="Anh",$S$2="I"),5,IF(AND($M16="Anh",$S$2="II"),24,IF(AND($M16="TD",$S$2="I"),6,IF(AND($M16="TD",$S$2="II"),25,IF(AND($M16="QP",$S$2="I"),7,IF(AND($M16="QP",$S$2="II"),26,IF(AND($M16="Sử",$S$2="I"),8,IF(AND($M16="Sử",$S$2="II"),27,IF(AND($M16="GDĐP",$S$2="I"),9,IF(AND($M16="GDĐP",$S$2="II"),28,IF(AND($M16="TN-HN",$S$2="I"),10,IF(AND($M16="TN-HN",$S$2="II"),29,IF(AND($M16="Lý",$S$2="I"),11,IF(AND($M16="Lý",$S$2="II"),30,IF(AND($M16="HóA",$S$2="I"),12,IF(AND($M16="HóA",$S$2="II"),31,IF(AND($M16="Sinh",$S$2="I"),13,IF(AND($M16="Sinh",$S$2="II"),32,IF(AND($M16="ĐịA",$S$2="I"),14,IF(AND($M16="ĐịA",$S$2="II"),33,IF(AND($M16="KT-PL",$S$2="I"),15,IF(AND($M16="KT-PL",$S$2="II"),34,IF(AND($M16="Tin",$S$2="I"),16,IF(AND($M16="Tin",$S$2="II"),35,IF(AND($M16="CNc",$S$2="I"),17,IF(AND($M16="CNc",$S$2="II"),36,IF(AND($M16="CNn",$S$2="I"),18,IF(AND($M16="CNn",$S$2="II"),37,IF(AND($M16="Nhạc",$S$2="I"),19,IF(AND($M16="Nhạc",$S$2="II"),38,IF(AND($M16="MT",$S$2="I"),20,IF(AND($M16="MT",$S$2="II"),39,59)))))))))))))))))))))))))))))))))))))) -> 0 | E16: =IF(R16=0,0,VLOOKUP(R16,'T-L-K'!$B$7:$BH$36,IF(AND($M16="Văn",$S$2="I"),3,IF(AND($M16="Văn",$S$2="II"),22,IF(AND($M16="Toán",$S$2="I"),4,IF(AND($M16="Toán",$S$2="II"),23,IF(AND($M16="Anh",$S$2="I"),5,IF(AND($M16="Anh",$S$2="II"),24,IF(AND($M16="TD",$S$2="I"),6,IF(AND($M16="TD",$S$2="II"),25,IF(AND($M16="QP",$S$2="I"),7,IF(AND($M16="QP",$S$2="II"),26,IF(AND($M16="Sử",$S$2="I"),8,IF(AND($M16="Sử",$S$2="II"),27,IF(AND($M16="GDĐP",$S$2="I"),9,IF(AND($M16="GDĐP",$S$2="II"),28,IF(AND($M16="TN-HN",$S$2="I"),10,IF(AND($M16="TN-HN",$S$2="II"),29,IF(AND($M16="Lý",$S$2="I"),11,IF(AND($M16="Lý",$S$2="II"),30,IF(AND($M16="HóA",$S$2="I"),12,IF(AND($M16="HóA",$S$2="II"),31,IF(AND($M16="Sinh",$S$2="I"),13,IF(AND($M16="Sinh",$S$2="II"),32,IF(AND($M16="ĐịA",$S$2="I"),14,IF(AND($M16="ĐịA",$S$2="II"),33,IF(AND($M16="KT-PL",$S$2="I"),15,IF(AND($M16="KT-PL",$S$2="II"),34,IF(AND($M16="Tin",$S$2="I"),16,IF(AND($M16="Tin",$S$2="II"),35,IF(AND($M16="CNc",$S$2="I"),17,IF(AND($M16="CNc",$S$2="II"),36,IF(AND($M16="CNn",$S$2="I"),18,IF(AND($M16="CNn",$S$2="II"),37,IF(AND($M16="Nhạc",$S$2="I"),19,IF(AND($M16="Nhạc",$S$2="II"),38,IF(AND($M16="MT",$S$2="I"),20,IF(AND($M16="MT",$S$2="II"),39,59)))))))))))))))))))))))))))))))))))))) -> 0 | F16: =IF(S16=0,0,VLOOKUP(S16,'T-L-K'!$B$7:$BH$36,IF(AND($M16="Văn",$S$2="I"),3,IF(AND($M16="Văn",$S$2="II"),22,IF(AND($M16="Toán",$S$2="I"),4,IF(AND($M16="Toán",$S$2="II"),23,IF(AND($M16="Anh",$S$2="I"),5,IF(AND($M16="Anh",$S$2="II"),24,IF(AND($M16="TD",$S$2="I"),6,IF(AND($M16="TD",$S$2="II"),25,IF(AND($M16="QP",$S$2="I"),7,IF(AND($M16="QP",$S$2="II"),26,IF(AND($M16="Sử",$S$2="I"),8,IF(AND($M16="Sử",$S$2="II"),27,IF(AND($M16="GDĐP",$S$2="I"),9,IF(AND($M16="GDĐP",$S$2="II"),28,IF(AND($M16="TN-HN",$S$2="I"),10,IF(AND($M16="TN-HN",$S$2="II"),29,IF(AND($M16="Lý",$S$2="I"),11,IF(AND($M16="Lý",$S$2="II"),30,IF(AND($M16="HóA",$S$2="I"),12,IF(AND($M16="HóA",$S$2="II"),31,IF(AND($M16="Sinh",$S$2="I"),13,IF(AND($M16="Sinh",$S$2="II"),32,IF(AND($M16="ĐịA",$S$2="I"),14,IF(AND($M16="ĐịA",$S$2="II"),33,IF(AND($M16="KT-PL",$S$2="I"),15,IF(AND($M16="KT-PL",$S$2="II"),34,IF(AND($M16="Tin",$S$2="I"),16,IF(AND($M16="Tin",$S$2="II"),35,IF(AND($M16="CNc",$S$2="I"),17,IF(AND($M16="CNc",$S$2="II"),36,IF(AND($M16="CNn",$S$2="I"),18,IF(AND($M16="CNn",$S$2="II"),37,IF(AND($M16="Nhạc",$S$2="I"),19,IF(AND($M16="Nhạc",$S$2="II"),38,IF(AND($M16="MT",$S$2="I"),20,IF(AND($M16="MT",$S$2="II"),39,59)))))))))))))))))))))))))))))))))))))) -> 0 | G16: =IF(T16=0,0,VLOOKUP(T16,'T-L-K'!$B$7:$BH$36,IF(AND($M16="Văn",$S$2="I"),3,IF(AND($M16="Văn",$S$2="II"),22,IF(AND($M16="Toán",$S$2="I"),4,IF(AND($M16="Toán",$S$2="II"),23,IF(AND($M16="Anh",$S$2="I"),5,IF(AND($M16="Anh",$S$2="II"),24,IF(AND($M16="TD",$S$2="I"),6,IF(AND($M16="TD",$S$2="II"),25,IF(AND($M16="QP",$S$2="I"),7,IF(AND($M16="QP",$S$2="II"),26,IF(AND($M16="Sử",$S$2="I"),8,IF(AND($M16="Sử",$S$2="II"),27,IF(AND($M16="GDĐP",$S$2="I"),9,IF(AND($M16="GDĐP",$S$2="II"),28,IF(AND($M16="TN-HN",$S$2="I"),10,IF(AND($M16="TN-HN",$S$2="II"),29,IF(AND($M16="Lý",$S$2="I"),11,IF(AND($M16="Lý",$S$2="II"),30,IF(AND($M16="HóA",$S$2="I"),12,IF(AND($M16="HóA",$S$2="II"),31,IF(AND($M16="Sinh",$S$2="I"),13,IF(AND($M16="Sinh",$S$2="II"),32,IF(AND($M16="ĐịA",$S$2="I"),14,IF(AND($M16="ĐịA",$S$2="II"),33,IF(AND($M16="KT-PL",$S$2="I"),15,IF(AND($M16="KT-PL",$S$2="II"),34,IF(AND($M16="Tin",$S$2="I"),16,IF(AND($M16="Tin",$S$2="II"),35,IF(AND($M16="CNc",$S$2="I"),17,IF(AND($M16="CNc",$S$2="II"),36,IF(AND($M16="CNn",$S$2="I"),18,IF(AND($M16="CNn",$S$2="II"),37,IF(AND($M16="Nhạc",$S$2="I"),19,IF(AND($M16="Nhạc",$S$2="II"),38,IF(AND($M16="MT",$S$2="I"),20,IF(AND($M16="MT",$S$2="II"),39,59)))))))))))))))))))))))))))))))))))))) -> 0 | H16: =IF(U16=0,0,VLOOKUP(U16,'T-L-K'!$B$7:$BH$36,IF(AND($M16="Văn",$S$2="I"),3,IF(AND($M16="Văn",$S$2="II"),22,IF(AND($M16="Toán",$S$2="I"),4,IF(AND($M16="Toán",$S$2="II"),23,IF(AND($M16="Anh",$S$2="I"),5,IF(AND($M16="Anh",$S$2="II"),24,IF(AND($M16="TD",$S$2="I"),6,IF(AND($M16="TD",$S$2="II"),25,IF(AND($M16="QP",$S$2="I"),7,IF(AND($M16="QP",$S$2="II"),26,IF(AND($M16="Sử",$S$2="I"),8,IF(AND($M16="Sử",$S$2="II"),27,IF(AND($M16="GDĐP",$S$2="I"),9,IF(AND($M16="GDĐP",$S$2="II"),28,IF(AND($M16="TN-HN",$S$2="I"),10,IF(AND($M16="TN-HN",$S$2="II"),29,IF(AND($M16="Lý",$S$2="I"),11,IF(AND($M16="Lý",$S$2="II"),30,IF(AND($M16="HóA",$S$2="I"),12,IF(AND($M16="HóA",$S$2="II"),31,IF(AND($M16="Sinh",$S$2="I"),13,IF(AND($M16="Sinh",$S$2="II"),32,IF(AND($M16="ĐịA",$S$2="I"),14,IF(AND($M16="ĐịA",$S$2="II"),33,IF(AND($M16="KT-PL",$S$2="I"),15,IF(AND($M16="KT-PL",$S$2="II"),34,IF(AND($M16="Tin",$S$2="I"),16,IF(AND($M16="Tin",$S$2="II"),35,IF(AND($M16="CNc",$S$2="I"),17,IF(AND($M16="CNc",$S$2="II"),36,IF(AND($M16="CNn",$S$2="I"),18,IF(AND($M16="CNn",$S$2="II"),37,IF(AND($M16="Nhạc",$S$2="I"),19,IF(AND($M16="Nhạc",$S$2="II"),38,IF(AND($M16="MT",$S$2="I"),20,IF(AND($M16="MT",$S$2="II"),39,59)))))))))))))))))))))))))))))))))))))) -> 0 | ... J16: =IF(W16=0,0,VLOOKUP(W16,'T-L-K'!$B$7:$BH$36,IF(AND($M16="Văn",$S$2="I"),3,IF(AND($M16="Văn",$S$2="II"),22,IF(AND($M16="Toán",$S$2="I"),4,IF(AND($M16="Toán",$S$2="II"),23,IF(AND($M16="Anh",$S$2="I"),5,IF(AND($M16="Anh",$S$2="II"),24,IF(AND($M16="TD",$S$2="I"),6,IF(AND($M16="TD",$S$2="II"),25,IF(AND($M16="QP",$S$2="I"),7,IF(AND($M16="QP",$S$2="II"),26,IF(AND($M16="Sử",$S$2="I"),8,IF(AND($M16="Sử",$S$2="II"),27,IF(AND($M16="GDĐP",$S$2="I"),9,IF(AND($M16="GDĐP",$S$2="II"),28,IF(AND($M16="TN-HN",$S$2="I"),10,IF(AND($M16="TN-HN",$S$2="II"),29,IF(AND($M16="Lý",$S$2="I"),11,IF(AND($M16="Lý",$S$2="II"),30,IF(AND($M16="HóA",$S$2="I"),12,IF(AND($M16="HóA",$S$2="II"),31,IF(AND($M16="Sinh",$S$2="I"),13,IF(AND($M16="Sinh",$S$2="II"),32,IF(AND($M16="ĐịA",$S$2="I"),14,IF(AND($M16="ĐịA",$S$2="II"),33,IF(AND($M16="KT-PL",$S$2="I"),15,IF(AND($M16="KT-PL",$S$2="II"),34,IF(AND($M16="Tin",$S$2="I"),16,IF(AND($M16="Tin",$S$2="II"),35,IF(AND($M16="CNc",$S$2="I"),17,IF(AND($M16="CNc",$S$2="II"),36,IF(AND($M16="CNn",$S$2="I"),18,IF(AND($M16="CNn",$S$2="II"),37,IF(AND($M16="Nhạc",$S$2="I"),19,IF(AND($M16="Nhạc",$S$2="II"),38,IF(AND($M16="MT",$S$2="I"),20,IF(AND($M16="MT",$S$2="II"),39,59)))))))))))))))))))))))))))))))))))))) -> 0 | K16: Tt1 | L16: =IF(K16=0,0,VLOOKUP(K16,CBGV!$B$4:$M$69,12,0)) -> 10A2 | M16: Toán | N16: 11A5 | O16: 10A2 | X16: =IF(K16=0,0,VLOOKUP(K16,CBGV!$B$4:$P$69,14,0))+IF(L16=0,0,VLOOKUP(L16,'T-L-K'!$B$7:$BH$36,2,0)) -> 5 | Y16: =SUM(A16:J18) -> 11 | Z16: =SUM(A16:J18)+X16 -> 16 | AA16: =IF((Z16-(VLOOKUP(K16,CBGV!$B$4:$P$69,13,0)))<=-14,"/",(Z16-(VLOOKUP(K16,CBGV!$B$4:$P$69,13,0)))) -> -1 | AB16: Toán - Tin
