Workbook

Sheet CBGV
A1: SỞ GIÁO DỤC VÀ ĐÀO TẠO ĐẮK LẮK TRƯỜNG THPT HUỲNH THÚC KHÁNG | I1: CỘNG HÒA XÃ HỘI CHỦ NGHĨA VIỆT NAM Độc lập - Tự do - Hạnh phúc
A2: DANH SÁCH CÁN BỘ GIÁO VIÊN VÀ NHÂN VIÊN
A3: TT | B3: KH | C3: HỌ VÀ TÊN | D3: DV | E3: TS | F3: Giới | G3: DT | H3: Tổ | I3: C. VỤ | J3: K.N2 | K3: 23-24 | L3: 24-25 | M3: 25-26 | N3: Tiết TC | O3: Tiết KN | P3: GHI CHÚ
A4: 1 | B4: T2 | C4: Phan Ngọc Quý | H4: Toán - tin | I4: GV | K4: 12A8 | L4: 10A3 | M4: 11A4 | N4: =17-(IF(I4="HT",15,IF(I4="PHT",13,0))+IF(I4="GVTS",2,0)) -> 17 | O4: =(IF(I4="HT",15,IF(I4="BTĐ",11.9,IF(I4="PHT",13,IF(I4="PBTĐ",5.95,IF(I4="giáo vụ",4,IF(OR(I4="TTCM",I4="CTCĐ",I4="LĐ",P4="Con nhỏ"),3,IF(OR(I4="TKHĐ",I4="TTrND"),2,0))))))+(IF(OR(J4="CĐ",J4="TVTL"),1,IF(J4="PBM",2,0))))) -> 0 | P4: x
A5: 2 | B5: T3 | C5: Phan Thanh Nhật | H5: Toán - tin | I5: LĐ | K5: 10A10 | L5: 11A7 | M5: 12A4 | N5: =17-(IF(I5="HT",15,IF(I5="PHT",13,0))+IF(I5="GVTS",2,0)) -> 17 | O5: =(IF(I5="HT",15,IF(I5="BTĐ",11.9,IF(I5="PHT",13,IF(I5="PBTĐ",5.95,IF(I5="giáo vụ",4,IF(OR(I5="TTCM",I5="CTCĐ",I5="LĐ",P5="Con nhỏ"),3,IF(OR(I5="TKHĐ",I5="TTrND"),2,0))))))+(IF(OR(J5="CĐ",J5="TVTL"),1,IF(J5="PBM",2,0))))) -> 3
A6: 3 | B6: T4 | C6: Nguyễn Công Nguyên | D6: x | H6: Toán - tin | I6: Giáo vụ | N6: =17-(IF(I6="HT",15,IF(I6="PHT",13,0))+IF(I6="GVTS",2,0)) -> 17 | O6: =(IF(I6="HT",15,IF(I6="BTĐ",11.9,IF(I6="PHT",13,IF(I6="PBTĐ",5.95,IF(I6="giáo vụ",4,IF(OR(I6="TTCM",I6="CTCĐ",I6="LĐ",P6="Con nhỏ"),3,IF(OR(I6="TKHĐ",I6="TTrND"),2,0))))))+(IF(OR(J6="CĐ",J6="TVTL"),1,IF(J6="PBM",2,0))))) -> 4
A7: 4 | B7: T5 | C7: Nguyễn Thị Tâm | D7: x | E7: x | F7: x | H7: Toán - tin | I7: GV | K7: 10A2 | L7: 11A2 | M7: 12A2 | N7: =17-(IF(I7="HT",15,IF(I7="PHT",13,0))+IF(I7="GVTS",2,0)) -> 17 | O7: =(IF(I7="HT",15,IF(I7="BTĐ",11.9,IF(I7="PHT",13,IF(I7="PBTĐ",5.95,IF(I7="giáo vụ",4,IF(OR(I7="TTCM",I7="CTCĐ",I7="LĐ",P7="Con nhỏ"),3,IF(OR(I7="TKHĐ",I7="TTrND"),2,0))))))+(IF(OR(J7="CĐ",J7="TVTL"),1,IF(J7="PBM",2,0))))) -> 0 | P7: x
A8: 5 | B8: Tt1 | C8: Nguyễn Minh Hảo | H8: Toán - tin | I8: GV | K8: 11A7 | L8: 10A2 | N8: =17-(IF(I8="HT",15,IF(I8="PHT",13,0))+IF(I8="GVTS",2,0)) -> 17 | O8: =(IF(I8="HT",15,IF(I8="BTĐ",11.9,IF(I8="PHT",13,IF(I8="PBTĐ",5.95,IF(I8="giáo vụ",4,IF(OR(I8="TTCM",I8="CTCĐ",I8="LĐ",P8="Con nhỏ"),3,IF(OR(I8="TKHĐ",I8="TTrND"),2,0))))))+(IF(OR(J8="CĐ",J8="TVTL"),1,IF(J8="PBM",2,0))))) -> 0
A9: 6 | B9: Tt2 | C9: Nguyễn Minh Châu | E9: x | H9: Toán - tin | I9: TTCM | N9: =17-(IF(I9="HT",15,IF(I9="PHT",13,0))+IF(I9="GVTS",2,0)) -> 17 | O9: =(IF(I9="HT",15,IF(I9="BTĐ",11.9,IF(I9="PHT",13,IF(I9="PBTĐ",5.95,IF(I9="giáo vụ",4,IF(OR(I9="TTCM",I9="CTCĐ",I9="LĐ",P9="Con nhỏ"),3,IF(OR(I9="TKHĐ",I9="TTrND"),2,0))))))+(IF(OR(J9="CĐ",J9="TVTL"),1,IF(J9="PBM",2,0))))) -> 3 | P9: x
A10: 7 | B10: Tt3 | C10: Nguyễn Thị Quỳnh Uyên | E10: x | F10: x | H10: Toán - tin | I10: GV | K10: 11A1 | L10: 12A1 | M10: 10A7 | N10: =17-(IF(I10="HT",15,IF(I10="PHT",13,0))+IF(I10="GVTS",2,0)) -> 17 | O10: =(IF(I10="HT",15,IF(I10="BTĐ",11.9,IF(I10="PHT",13,IF(I10="PBTĐ",5.95,IF(I10="giáo vụ",4,IF(OR(I10="TTCM",I10="CTCĐ",I10="LĐ",P10="Con nhỏ"),3,IF(OR(I10="TKHĐ",I10="TTrND"),2,0))))))+(IF(OR(J10="CĐ",J10="TVTL"),1,IF(J10="PBM",2,0))))) -> 0 | P10: x
A11: 8 | B11: Tt4 | C11: Nguyễn Thể Bình Viên | D11: x | F11: x | H11: Toán - tin | I11: TPCM | K11: 11A2 | L11: 12A2 | M11: 10A8 | N11: =17-(IF(I11="HT",15,IF(I11="PHT",13,0))+IF(I11="GVTS",2,0)) -> 17 | O11: 1 | P11: x
A12: 9 | B12: Tt6 | C12: Hoàng Bá Đạt | D12: x | E12: x | H12: Toán - tin | I12: GV | K12: 12A2 | L12: 10A9 | M12: 11A9 | N12: =17-(IF(I12="HT",15,IF(I12="PHT",13,0))+IF(I12="GVTS",2,0)) -> 17 | O12: =(IF(I12="HT",15,IF(I12="BTĐ",11.9,IF(I12="PHT",13,IF(I12="PBTĐ",5.95,IF(I12="giáo vụ",4,IF(OR(I12="TTCM",I12="CTCĐ",I12="LĐ",P12="Con nhỏ"),3,IF(OR(I12="TKHĐ",I12="TTrND"),2,0))))))+(IF(OR(J12="CĐ",J12="TVTL"),1,IF(J12="PBM",2,0))))) -> 0 | P12: x
A13: 10 | B13: Tt7 | C13: Huỳnh Thị Liên | D13: x | E13: x | F13: x | H13: Toán - tin | I13: GV | K13: 11A8 | L13: 10A4 | N13: =17-(IF(I13="HT",15,IF(I13="PHT",13,0))+IF(I13="GVTS",2,0)) -> 17 | O13: =(IF(I13="HT",15,IF(I13="BTĐ",11.9,IF(I13="PHT",13,IF(I13="PBTĐ",5.95,IF(I13="giáo vụ",4,IF(OR(I13="TTCM",I13="CTCĐ",I13="LĐ",P13="Con nhỏ"),3,IF(OR(I13="TKHĐ",I13="TTrND"),2,0))))))+(IF(OR(J13="CĐ",J13="TVTL"),1,IF(J13="PBM",2,0))))) -> 0 | P13: x
A14: 11 | B14: Tt9 | C14: Bùi Quý Mười | D14: x | E14: x | H14: Toán - tin | I14: GV | K14: 11A5 | L14: 12A4 | N14: =17-(IF(I14="HT",15,IF(I14="PHT",13,0))+IF(I14="GVTS",2,0)) -> 17 | O14: =(IF(I14="HT",15,IF(I14="BTĐ",11.9,IF(I14="PHT",13,IF(I14="PBTĐ",5.95,IF(I14="giáo vụ",4,IF(OR(I14="TTCM",I14="CTCĐ",I14="LĐ",P14="Con nhỏ"),3,IF(OR(I14="TKHĐ",I14="TTrND"),2,0))))))+(IF(OR(J14="CĐ",J14="TVTL"),1,IF(J14="PBM",2,0))))) -> 0 | P14: x
A15: 12 | B15: Tn4 | C15: Nguyễn Quốc Dũng | H15: Toán - tin | I15: TPCM. | K15: 12A5 | N15: =17-(IF(I15="HT",15,IF(I15="PHT",13,0))+IF(I15="GVTS",2,0)) -> 17 | O15: 1
A16: 13 | B16: Lc2 | C16: Trịnh Hoàng Nhân | D16: x | E16: x | H16: Lý - CN | I16: TTCM | J16: TKHĐ | N16: =17-(IF(I16="HT",15,IF(I16="PHT",13,0))+IF(I16="GVTS",2,0)) -> 17 | O16: 5 | P16: x
A17: 14 | B17: Lc3 | C17: Đoàn Thị Như Ngà | F17: x | H17: Lý - CN | I17: GV | K17: 10A9 | L17: 11A6 | M17: 12A9 | N17: =17-(IF(I17="HT",15,IF(I17="PHT",13,0))+IF(I17="GVTS",2,0)) -> 17 | O17: =(IF(I17="HT",15,IF(I17="BTĐ",11.9,IF(I17="PHT",13,IF(I17="PBTĐ",5.95,IF(I17="giáo vụ",4,IF(OR(I17="TTCM",I17="CTCĐ",I17="LĐ",P17="Con nhỏ"),3,IF(OR(I17="TKHĐ",I17="TTrND"),2,0))))))+(IF(OR(J17="CĐ",J17="TVTL"),1,IF(J17="PBM",2,0))))) -> 0
A18: 15 | B18: Lc4 | C18: Nguyễn Văn Cương | D18: x | H18: Lý - CN | I18: GV | K18: 10A6 | L18: 11A9 | M18: 10A4 | N18: =17-(IF(I18="HT",15,IF(I18="PHT",13,0))+IF(I18="GVTS",2,0)) -> 17 | O18: =(IF(I18="HT",15,IF(I18="BTĐ",11.9,IF(I18="PHT",13,IF(I18="PBTĐ",5.95,IF(I18="giáo vụ",4,IF(OR(I18="TTCM",I18="CTCĐ",I18="LĐ",P18="Con nhỏ"),3,IF(OR(I18="TKHĐ",I18="TTrND"),2,0))))))+(IF(OR(J18="CĐ",J18="TVTL"),1,IF(J18="PBM",2,0))))) -> 0
A19: 16 | B19: Lc5 | C19: Nguyễn Thị Tuyết Hoa | F19: x | H19: Lý - CN | I19: GV | K19: 12A3 | L19: 10A8 | M19: 11A8 | N19: =17-(IF(I19="HT",15,IF(I19="PHT",13,0))+IF(I19="GVTS",2,0)) -> 17 | O19: =(IF(I19="HT",15,IF(I19="BTĐ",11.9,IF(I19="PHT",13,IF(I19="PBTĐ",5.95,IF(I19="giáo vụ",4,IF(OR(I19="TTCM",I19="CTCĐ",I19="LĐ",P19="Con nhỏ"),3,IF(OR(I19="TKHĐ",I19="TTrND"),2,0))))))+(IF(OR(J19="CĐ",J19="TVTL"),1,IF(J19="PBM",2,0))))) -> 0 | P19: x
A20: 17 | B20: Lc6 | C20: Phạm Hùng Lĩnh | D20: x | E20: x | H20: Lý - CN | I20: GV | L20: 11A8 | M20: 12A7 | N20: =17-(IF(I20="HT",15,IF(I20="PHT",13,0))+IF(I20="GVTS",2,0)) -> 17 | O20: =(IF(I20="HT",15,IF(I20="BTĐ",11.9,IF(I20="PHT",13,IF(I20="PBTĐ",5.95,IF(I20="giáo vụ",4,IF(OR(I20="TTCM",I20="CTCĐ",I20="LĐ",P20="Con nhỏ"),3,IF(OR(I20="TKHĐ",I20="TTrND"),2,0))))))+(IF(OR(J20="CĐ",J20="TVTL"),1,IF(J20="PBM",2,0))))) -> 0 | P20: x
A21: 18 | B21: Lc7 | C21: H' Sơry Êban | D21: x | E21: x | F21: x | G21: x | H21: Lý - CN | I21: GV | N21: =17-(IF(I21="HT",15,IF(I21="PHT",13,0))+IF(I21="GVTS",2,0)) -> 17 | O21: =(IF(I21="HT",15,IF(I21="BTĐ",11.9,IF(I21="PHT",13,IF(I21="PBTĐ",5.95,IF(I21="giáo vụ",4,IF(OR(I21="TTCM",I21="CTCĐ",I21="LĐ",P21="Con nhỏ"),3,IF(OR(I21="TKHĐ",I21="TTrND"),2,0))))))+(IF(OR(J21="CĐ",J21="TVTL"),1,IF(J21="PBM",2,0))))) -> 0
A22: 19 | B22: Lc8 | C22: Lưu Thị Quý | D22: x | E22: x | F22: x | H22: Lý - CN | I22: TPCM | K22: 10A8 | N22: =17-(IF(I22="HT",15,IF(I22="PHT",13,0))+IF(I22="GVTS",2,0)) -> 17 | O22: 1 | P22: x
A23: 20 | B23: H1 | C23: Nguyễn Văn Mỹ | D23: x | E23: x | H23: Hóa học | I23: PHT | N23: =17-(IF(I23="HT",15,IF(I23="PHT",13,0))+IF(I23="GVTS",2,0)) -> 4 | O23: =(IF(I23="HT",15,IF(I23="BTĐ",11.9,IF(I23="PHT",13,IF(I23="PBTĐ",5.95,IF(I23="giáo vụ",4,IF(OR(I23="TTCM",I23="CTCĐ",I23="LĐ",P23="Con nhỏ"),3,IF(OR(I23="TKHĐ",I23="TTrND"),2,0))))))+(IF(OR(J23="CĐ",J23="TVTL"),1,IF(J23="PBM",2,0))))) -> 13 | P23: x
A24: 21 | B24: H2 | C24: Nguyễn Ngọc Ân | H24: Hóa học | I24: TPCM | J24: TPCM | K24: 10A1 | L24: 11A1 | M24: 12A1 | N24: =17-(IF(I24="HT",15,IF(I24="PHT",13,0))+IF(I24="GVTS",2,0)) -> 17 | O24: 1
A25: 22 | B25: H3 | C25: Ngô Nhân Hòa | H25: Hóa học | I25: GV | K25: 10A4 | L25: 10A6 | M25: 11A5 | N25: =17-(IF(I25="HT",15,IF(I25="PHT",13,0))+IF(I25="GVTS",2,0)) -> 17 | O25: =(IF(I25="HT",15,IF(I25="BTĐ",11.9,IF(I25="PHT",13,IF(I25="PBTĐ",5.95,IF(I25="giáo vụ",4,IF(OR(I25="TTCM",I25="CTCĐ",I25="LĐ",P25="Con nhỏ"),3,IF(OR(I25="TKHĐ",I25="TTrND"),2,0))))))+(IF(OR(J25="CĐ",J25="TVTL"),1,IF(J25="PBM",2,0))))) -> 0
A26: 23 | B26: H4 | C26: Hồ Sỹ Kiên | H26: Hóa học | I26: GV | J26: TVTL | K26: 11A4 | L26: 12A3 | M26: 10A6 | N26: =17-(IF(I26="HT",15,IF(I26="PHT",13,0))+IF(I26="GVTS",2,0)) -> 17 | O26: =(IF(I26="HT",15,IF(I26="BTĐ",11.9,IF(I26="PHT",13,IF(I26="PBTĐ",5.95,IF(I26="giáo vụ",4,IF(OR(I26="TTCM",I26="CTCĐ",I26="LĐ",P26="Con nhỏ"),3,IF(OR(I26="TKHĐ",I26="TTrND"),2,0))))))+(IF(OR(J26="CĐ",J26="TVTL"),1,IF(J26="PBM",2,0))))) -> 1
A27: 24 | B27: H5 | C27: H'Him Buôn Krông | D27: x | F27: x | G27: x | H27: Hóa học | I27: GV | K27: 10A5 | L27: 11A4 | M27: 12A5 | N27: =17-(IF(I27="HT",15,IF(I27="PHT",13,0))+IF(I27="GVTS",2,0)) -> 17 | O27: =(IF(I27="HT",15,IF(I27="BTĐ",11.9,IF(I27="PHT",13,IF(I27="PBTĐ",5.95,IF(I27="giáo vụ",4,IF(OR(I27="TTCM",I27="CTCĐ",I27="LĐ",P27="Con nhỏ"),3,IF(OR(I27="TKHĐ",I27="TTrND"),2,0))))))+(IF(OR(J27="CĐ",J27="TVTL"),1,IF(J27="PBM",2,0))))) -> 0
A28: 25 | B28: Sn1 | C28: Nguyễn Đình Hoàng | D28: x | E28: x | H28: Sinh - CN | I28: HT | N28: =17-(IF(I28="HT",15,IF(I28="PHT",13,0))+IF(I28="GVTS",2,0)) -> 2 | O28: =(IF(I28="HT",15,IF(I28="BTĐ",11.9,IF(I28="PHT",13,IF(I28="PBTĐ",5.95,IF(I28="giáo vụ",4,IF(OR(I28="TTCM",I28="CTCĐ",I28="LĐ",P28="Con nhỏ"),3,IF(OR(I28="TKHĐ",I28="TTrND"),2,0))))))+(IF(OR(J28="CĐ",J28="TVTL"),1,IF(J28="PBM",2,0))))) -> 15 | P28: x
A29: 26 | B29: Sn2 | C29: Hoàng Tuấn Anh | D29: x | E29: x | H29: Sinh - CN | I29: TTCM | J29: Giáo vụ | N29: =17-(IF(I29="HT",15,IF(I29="PHT",13,0))+IF(I29="GVTS",2,0)) -> 17 | O29: =(IF(I29="HT",15,IF(I29="BTĐ",11.9,IF(I29="PHT",13,IF(I29="PBTĐ",5.95,IF(I29="giáo vụ",4,IF(OR(I29="TTCM",I29="CTCĐ",I29="LĐ",P29="Con nhỏ"),3,IF(OR(I29="TKHĐ",I29="TTrND"),2,0))))))+(IF(OR(J29="CĐ",J29="TVTL"),1,IF(J29="PBM",2,0)))))+1 -> 4 | P29: x
A30: 27 | B30: Sn3 | C30: Bùi Thị Hoài Nam | D30: x | E30: x | F30: x | H30: Sinh - CN | I30: GV | K30: 11A3 | L30: 11A3 | M30: 11A7 | N30: =17-(IF(I30="HT",15,IF(I30="PHT",13,0))+IF(I30="GVTS",2,0)) -> 17 | O30: =(IF(I30="HT",15,IF(I30="BTĐ",11.9,IF(I30="PHT",13,IF(I30="PBTĐ",5.95,IF(I30="giáo vụ",4,IF(OR(I30="TTCM",I30="CTCĐ",I30="LĐ",P30="Con nhỏ"),3,IF(OR(I30="TKHĐ",I30="TTrND"),2,0))))))+(IF(OR(J30="CĐ",J30="TVTL"),1,IF(J30="PBM",2,0))))) -> 0 | P30: x
A31: 28 | B31: Sn4 | C31: Nguyễn Thị Kim Hà | D31: x | F31: x | H31: Sinh - CN | I31: GV | K31: 10A3 | L31: 10A7 | M31: 12A3 | N31: =17-(IF(I31="HT",15,IF(I31="PHT",13,0))+IF(I31="GVTS",2,0)) -> 17 | O31: =(IF(I31="HT",15,IF(I31="BTĐ",11.9,IF(I31="PHT",13,IF(I31="PBTĐ",5.95,IF(I31="giáo vụ",4,IF(OR(I31="TTCM",I31="CTCĐ",I31="LĐ",P31="Con nhỏ"),3,IF(OR(I31="TKHĐ",I31="TTrND"),2,0))))))+(IF(OR(J31="CĐ",J31="TVTL"),1,IF(J31="PBM",2,0))))) -> 0
A32: 29 | B32: V1 | C32: Nguyễn Thị Minh Tâm | D32: x | E32: x | F32: x | H32: Ngữ văn | I32: PHT | N32: =17-(IF(I32="HT",15,IF(I32="PHT",13,0))+IF(I32="GVTS",2,0)) -> 4 | O32: =(IF(I32="HT",15,IF(I32="BTĐ",11.9,IF(I32="PHT",13,IF(I32="PBTĐ",5.95,IF(I32="giáo vụ",4,IF(OR(I32="TTCM",I32="CTCĐ",I32="LĐ",P32="Con nhỏ"),3,IF(OR(I32="TKHĐ",I32="TTrND"),2,0))))))+(IF(OR(J32="CĐ",J32="TVTL"),1,IF(J32="PBM",2,0))))) -> 13 | P32: x
A33: 30 | B33: V2 | C33: Lê Ngọc Kim Vy | E33: x | F33: x | H33: Ngữ văn | I33: TTCM | N33: =17-(IF(I33="HT",15,IF(I33="PHT",13,0))+IF(I33="GVTS",2,0)) -> 17 | O33: =(IF(I33="HT",15,IF(I33="BTĐ",11.9,IF(I33="PHT",13,IF(I33="PBTĐ",5.95,IF(I33="giáo vụ",4,IF(OR(I33="TTCM",I33="CTCĐ",I33="LĐ",P33="Con nhỏ"),3,IF(OR(I33="TKHĐ",I33="TTrND"),2,0))))))+(IF(OR(J33="CĐ",J33="TVTL"),1,IF(J33="PBM",2,0))))) -> 3 | P33: x
A34: 31 | B34: V3 | C34: Đậu Thị Hiền | D34: x | F34: x | H34: Ngữ văn | I34: TPCM | N34: =17-(IF(I34="HT",15,IF(I34="PHT",13,0))+IF(I34="GVTS",2,0)) -> 17 | O34: 1 | P34: x
A35: 32 | B35: V6 | C35: Nguyễn Thị Mai | D35: x | F35: x | H35: Ngữ văn | I35: GV | L35: 12A8 | N35: =17-(IF(I35="HT",15,IF(I35="PHT",13,0))+IF(I35="GVTS",2,0)) -> 17 | O35: =(IF(I35="HT",15,IF(I35="BTĐ",11.9,IF(I35="PHT",13,IF(I35="PBTĐ",5.95,IF(I35="giáo vụ",4,IF(OR(I35="TTCM",I35="CTCĐ",I35="LĐ",P35="Con nhỏ"),3,IF(OR(I35="TKHĐ",I35="TTrND"),2,0))))))+(IF(OR(J35="CĐ",J35="TVTL"),1,IF(J35="PBM",2,0))))) -> 0 | P35: x
A36: 33 | B36: V8 | C36: Nguyễn Đình Mỹ Giang | D36: x | E36: x | F36: x | H36: Ngữ văn | I36: PBTĐ | J36: TVTL | N36: =17-(IF(I36="HT",15,IF(I36="PHT",13,0))+IF(I36="GVTS",2,0)) -> 17 | O36: 15 | P36: x
A37: 34 | B37: V4 | C37: Nguyễn Thị Hoàng Uyên | F37: x | H37: Ngữ văn | I37: GVHĐ | M37: 11A3 | N37: =17-(IF(I37="HT",15,IF(I37="PHT",13,0))+IF(I37="GVTS",2,0)) -> 17 | O37: =(IF(I37="HT",15,IF(I37="BTĐ",11.9,IF(I37="PHT",13,IF(I37="PBTĐ",5.95,IF(I37="giáo vụ",4,IF(OR(I37="TTCM",I37="CTCĐ",I37="LĐ",P37="Con nhỏ"),3,IF(OR(I37="TKHĐ",I37="TTrND"),2,0))))))+(IF(OR(J37="CĐ",J37="TVTL"),1,IF(J37="PBM",2,0))))) -> 0
A38: 35 | B38: V5 | C38: Y Tuyl Niê | G38: x | H38: Ngữ văn | I38: GVHĐ | M38: 11A1 | N38: =17-(IF(I38="HT",15,IF(I38="PHT",13,0))+IF(I38="GVTS",2,0)) -> 17 | O38: =(IF(I38="HT",15,IF(I38="BTĐ",11.9,IF(I38="PHT",13,IF(I38="PBTĐ",5.95,IF(I38="giáo vụ",4,IF(OR(I38="TTCM",I38="CTCĐ",I38="LĐ",P38="Con nhỏ"),3,IF(OR(I38="TKHĐ",I38="TTrND"),2,0))))))+(IF(OR(J38="CĐ",J38="TVTL"),1,IF(J38="PBM",2,0))))) -> 0
A39: 36 | B39: V7 | C39: Nguyễn Hồ Như Quỳnh | G39: x | H39: Ngữ văn | I39: GVHĐ | M39: 10A1 | N39: =17-(IF(I39="HT",15,IF(I39="PHT",13,0))+IF(I39="GVTS",2,0)) -> 17 | O39: =(IF(I39="HT",15,IF(I39="BTĐ",11.9,IF(I39="PHT",13,IF(I39="PBTĐ",5.95,IF(I39="giáo vụ",4,IF(OR(I39="TTCM",I39="CTCĐ",I39="LĐ",P39="Con nhỏ"),3,IF(OR(I39="TKHĐ",I39="TTrND"),2,0))))))+(IF(OR(J39="CĐ",J39="TVTL"),1,IF(J39="PBM",2,0))))) -> 0
A40: 37 | B40: V9 | C40: Nguyễn Thùy Dương | G40: x | H40: Ngữ văn | I40: GVHĐ | N40: =17-(IF(I40="HT",15,IF(I40="PHT",13,0))+IF(I40="GVTS",2,0)) -> 17 | O40: =(IF(I40="HT",15,IF(I40="BTĐ",11.9,IF(I40="PHT",13,IF(I40="PBTĐ",5.95,IF(I40="giáo vụ",4,IF(OR(I40="TTCM",I40="CTCĐ",I40="LĐ",P40="Con nhỏ"),3,IF(OR(I40="TKHĐ",I40="TTrND"),2,0))))))+(IF(OR(J40="CĐ",J40="TVTL"),1,IF(J40="PBM",2,0))))) -> 0
...

Sheet PCGVCN
A1: SỞ GIÁO DỤC VÀ ĐÀO TẠO ĐẮK LẮK TRƯỜNG THPT HUỲNH THÚC KHÁNG | E1: CỘNG HÒA XÃ HỘI CHỦ NGHĨA VIỆT NAM Độc lập - Tự do - Hạnh phúc
A3: DANH SÁCH PHÂN CÔNG GIÁO VIÊN CHỦ NHIỆM NĂM HỌC 2025-2026
A4: (kèm theo Quyết định số /QĐ-HTK ngày / /2025)
A6: STT | B6: Mã GV | C6: Họ và tên | D6: Môn | E6: Chức vụ | F6: Chủ nhiệm lớp | G6: Phòng học | H6: Môn học tự chọn | I6: Chuyên đề học tập
A7: 2 | B7: A4 | C7: Y Juin Ktla | D7: Anh văn | E7: GV | F7: 10A2 | G7: 02 | H7: Vật lí, Địa lí, KT&PL, CnCN | I7: Toán, Sử, Địa
A8: 14 | B8: A2 | C8: Trần Thị Mỹ Trang | D8: Anh văn | E8: GV | F8: 11A6 | G8: 31 | H8: Hóa, KT&PL, Tin, CNCN | I8: Văn, Toán, Hóa
A9: 18 | B9: A6 | C9: Nguyễn Thị Thúy Hằng | D9: Anh văn | E9: GV | F9: 11A10 | G9: 35 | H9: Vật lí, Hóa học, Sinh học, Tin học | I9: Toán, Hóa, Sinh
A10: 10 | B10: D5 | C10: Thân Thị Minh Phương | D10: Địa lí | E10: GV | F10: 11A2 | G10: 27 | H10: Vật lí, Địa lí, KT&PL, Tin học | I10: Toán, Lý, Địa
A11: 24 | B11: D3 | C11: Bùi Thị Thùy Dương | D11: Địa lí | E11: GV | F11: 12A6 | G11: 14 | H11: Vật lí, Địa lí, Tin học, CNCN | I11: Toán, Lý, Địa
A12: 26 | B12: D2 | C12: Hoàng Minh Khanh | D12: Địa lí | E12: GV | F12: 12A8 | G12: 16 | H12: Vật lí, Địa lí, Tin học, CNCN | I12: Toán, Lý, Địa
A13: 6 | B13: H3 | C13: Hồ Sỹ Kiên | D13: Hóa | E13: GV | F13: 10A6 | G13: 06 | H13: Vật lí, Hóa học, Sinh học, CnCN | I13: Toán, Hóa, Sinh
A14: 13 | B14: H3 | C14: Ngô Nhân Hòa | D14: Hóa | E14: GV | F14: 11A5 | G14: 30 | H14: Hóa, KT&PL, Tin, CNCN | I14: Văn, Toán, Hóa
A15: 19 | B15: H2 | C15: Nguyễn Ngọc Ân | D15: Hóa | E15: GV | F15: 12A1 | G15: 07 | H15: Vật lí, Hóa học, Sinh học, Tin học | I15: Toán, Hóa, Sinh
A16: 23 | B16: H5 | C16: H' Him Buôn Krông | D16: Hóa | E16: GV | F16: 12A5 | G16: 13 | H16: Hóa, KT&PL, Tin, CNCN | I16: Văn, Toán, Hóa
A17: 5 | B17: Sg4 | C17: Trịnh Thị Diệu Huyền | D17: Lịch sử | E17: GV | F17: 10A5 | G17: 05 | H17: Hóa, KT&PL, Tin, CnCN | I17: Văn, Toán, Hóa
A18: 28 | B18: Sg2 | C18: Nguyễn Huy Cường | D18: Lịch sử | E18: GV | F18: 12A10 | G18: 18 | H18: Vật lí, Địa lí, KT&PL, CNCN | I18: Toán, Sử, Địa
A19: 4 | B19: Lc4 | C19: Nguyễn Văn Cương | D19: Lý - CN | E19: GV | F19: 10A4 | G19: 04 | H19: Vật lí, Địa lí, Tin học, CnCN | I19: Toán, Lý, Địa
A20: 16 | B20: Lc5 | C20: Nguyễn Thị Tuyết Hoa | D20: Lý - CN | E20: GV | F20: 11A8 | G20: 33 | H20: Vật lí, Hóa học, Sinh học, Tin học | I20: Toán, Hóa, Sinh
A21: 25 | B21: Lc6 | C21: Phạm Hùng Lĩnh | D21: Lý - CN | E21: GV | F21: 12A7 | G21: 15 | H21: Vật lí, Địa lí, Tin học, CNCN | I21: Toán, Lý, Địa
A22: 27 | B22: Lc3 | C22: Đoàn Thị Như Ngà | D22: Lý - CN | E22: GV | F22: 12A9 | G22: 17 | H22: Vật lí, Địa lí, KT&PL, Tin học | I22: Toán, Lý, Địa
A23: 1 | B23: V7 | C23: Nguyễn Hồ Như Quỳnh | D23: Ngữ văn | E23: GV | F23: 10A1 | G23: 01 | H23: Vật lí, Hóa học, Địa lí, CnNN | I23: Toán, Hóa, Địa
A24: 9 | B24: V5 | C24: Y Tuyl Niê | D24: Ngữ văn | E24: GV | F24: 11A1 | G24: 26 | H24: Vật lí, Địa lí, KT&PL, CNCN | I24: Toán, Sử, Địa
A25: 11 | B25: V4 | C25: Nguyễn Thị Hoàng Uyên | D25: Ngữ văn | E25: GV | F25: 11A3 | G25: 29 | H25: Vật lí, Địa lí, Tin học, CNCN | I25: Toán, Lý, Địa
A26: 15 | B26: Sn3 | C26: Bùi Thị Hoài Nam | D26: Sinh | E26: GV | F26: 11A7 | G26: 32 | H26: Vật lí, Hóa học, Sinh học, CNCN | I26: Toán, Hóa, Sinh
A27: 21 | B27: Sn4 | C27: Nguyễn Thị Kim Hà | D27: Sinh | E27: GV | F27: 12A3 | G27: 09 | H27: Vật lí, Hóa học, Sinh học, CNCN | I27: Toán, Hóa, Sinh
A28: 3 | B28: Tq4 | C28: Lâm Thị Ngọc Lan | D28: Thể dục | E28: GV | F28: 10A3 | G28: 03 | H28: Vật lí, Địa lí, KT&PL, Tin học | I28: Toán, Lý, Địa
A29: 7 | B29: Tt3 | C29: Nguyễn Thị Quỳnh Uyên | D29: Toán-tin | E29: GV | F29: 10A7 | G29: 11 | H29: Vật lí, Hóa học, Sinh học, Tin học | I29: Toán, Hóa, Sinh
A30: 8 | B30: Tt4 | C30: Nguyễn Thể Bình Viên | D30: Toán-tin | E30: GV | F30: 10A8 | G30: 12 | H30: Vật lí, Hóa học, Sinh học, Tin học | I30: Toán, Hóa, Sinh
A31: 12 | B31: T2 | C31: Phan Ngọc Quý | D31: Toán-tin | E31: GV | F31: 11A4 | G31: 28 | H31: Vật lí, Địa lí, Tin học, CNCN | I31: Toán, Lý, Địa
A32: 17 | B32: Tt6 | C32: Hoàng Bá Đạt | D32: Toán-tin | E32: GV | F32: 11A9 | G32: 34 | H32: Vật lí, Hóa học, Sinh học, Tin học | I32: Toán, Hóa, Sinh
A33: 20 | B33: T5 | C33: Nguyễn Thị Tâm | D33: Toán-tin | E33: GV | F33: 12A2 | G33: 08 | H33: Vật lí, Hóa học, Sinh học, Tin học | I33: Toán, Hóa, Sinh
A34: 22 | B34: T3 | C34: Phan Thanh Nhật | D34: Toán-tin | E34: GV | F34: 12A4 | G34: 10 | H34: Hóa, KT&PL, Tin, CNCN | I34: Văn, Toán, Hóa

Sheet T-L-K
A1: SỞ GIÁO DỤC VÀ ĐÀO TẠO ĐẮK LẮK | V1: CỘNG HÒA XÃ HỘI CHỦ NGHĨA VIỆT NAM Độc lập - Tự do - Hạnh phúc
A2: TRƯỜNG THPT HUỲNH THÚC KHÁNG
A3: THỐNG KÊ TIẾT/MÔN/LỚP - SỐ BÀI KIỂM TRA THƯỜNG XUYÊN
A5: TT | B5: Lớp | C5: CN | D5: HỌC KÌ 1 | W5: HỌC KÌ 2 | AP5: CỘT KIỂM TRA THƯỜNG XUYÊN | BH5: Ghi chú
D6: Văn | E6: Toán | F6: Anh | G6: TD | H6: QP | I6: Sử | J6: GDĐP | K6: TN-HN | L6: Lý | M6: Hóa | N6: Sinh | O6: Địa | P6: KT-PL | Q6: Tin | R6: CN công | S6: CN nông | T6: Nhạc | U6: Mỹ thuật | V6: Tổng | W6: Văn | X6: Toán | Y6: Anh | Z6: TD | AA6: QP | AB6: Sử | AC6: GDĐP | AD6: TNHN | AE6: Lý | AF6: Hóa | AG6: Sinh | AH6: Địa | AI6: KT-PL | AJ6: Tin | AK6: CN công | AL6: CN nông | AM6: Nhạc | AN6: Mỹ thuật | AO6: Tổng | AP6: Văn | AQ6: Toán | AR6: Anh | AS6: TD | AT6: QP | AU6: Sử | AV6: GDĐP | AW6: TN-HN | AX6: Lý | AY6: Hóa | AZ6: Sinh | BA6: Địa | BB6: KT-PL | BC6: Tin | BD6: CN công | BE6: CN nông | BF6: Nhạc | BG6: Mỹ thuật
A7: 1 | B7: 10A1 | C7: 5 | D7: 3 | E7: 4 | F7: 3 | G7: 2 | H7: 1 | I7: 2 | J7: 1 | K7: 1 | L7: 2 | M7: 3 | O7: 3 | S7: 2 | V7: =SUM(C7:U7) -> 32 | W7: 3 | X7: 4 | Y7: 3 | Z7: 2 | AA7: 1 | AB7: 1 | AC7: 1 | AD7: 1 | AE7: 2 | AF7: 3 | AH7: 3 | AL7: 2 | AO7: =SUM(W7:AN7)+C7 -> 31 | AP7: 4 | AQ7: 4(5) | AR7: 4 | AS7: 2 | AT7: 2 | AU7: 3 | AV7: 2 | AW7: 2 | AX7: 3 | AY7: 3(4) | BA7: 3(4) | BB7: 3 | BE7: 3 | BH7: 0
A8: 2 | B8: 10A2 | C8: 5 | D8: 3 | E8: 4 | F8: 3 | G8: 2 | H8: 1 | I8: 3 | J8: 1 | K8: 1 | L8: 2 | O8: 3 | P8: 2 | R8: 2 | V8: =SUM(C8:U8) -> 32 | W8: 3 | X8: 4 | Y8: 3 | Z8: 2 | AA8: 1 | AB8: 2 | AC8: 1 | AD8: 1 | AE8: 2 | AH8: 3 | AI8: 2 | AK8: 2 | AO8: =SUM(W8:AN8)+C8 -> 31 | AP8: 4 | AQ8: 4(5) | AR8: 4 | AS8: 2 | AT8: 2 | AU8: 3(4) | AV8: 2 | AW8: 2 | AX8: 3 | BA8: 3(4) | BB8: 3 | BD8: 3 | BH8: 0
A9: 3 | B9: 10A3 | C9: 5 | D9: 3 | E9: 4 | F9: 3 | G9: 2 | H9: 1 | I9: 2 | J9: 1 | K9: 1 | L9: 3 | O9: 3 | P9: 2 | Q9: 2 | V9: =SUM(C9:U9) -> 32 | W9: 3 | X9: 4 | Y9: 3 | Z9: 2 | AA9: 1 | AB9: 1 | AC9: 1 | AD9: 1 | AE9: 3 | AH9: 3 | AI9: 2 | AJ9: 2 | AO9: =SUM(W9:AN9)+C9 -> 31 | AP9: 4 | AQ9: 4(5) | AR9: 4 | AS9: 2 | AT9: 2 | AU9: 3 | AV9: 2 | AW9: 2 | AX9: 3(4) | BA9: 3(4) | BB9: 3 | BC9: 3 | BH9: 0
A10: 4 | B10: 10A4 | C10: 5 | D10: 3 | E10: 4 | F10: 3 | G10: 2 | H10: 1 | I10: 2 | J10: 1 | K10: 1 | L10: 3 | O10: 3 | Q10: 2 | R10: 2 | V10: =SUM(C10:U10) -> 32 | W10: 3 | X10: 4 | Y10: 3 | Z10: 2 | AA10: 1 | AB10: 1 | AC10: 1 | AD10: 1 | AE10: 3 | AH10: 3 | AJ10: 2 | AK10: 2 | AO10: =SUM(W10:AN10)+C10 -> 31 | AP10: 4 | AQ10: 4(5) | AR10: 4 | AS10: 2 | AT10: 2 | AU10: 3 | AV10: 2 | AW10: 2 | AX10: 3(4) | BA10: 3(4) | BC10: 3 | BD10: 3 | BH10: 0
A11: 5 | B11: 10A5 | C11: 5 | D11: 4 | E11: 4 | F11: 3 | G11: 2 | H11: 1 | I11: 2 | J11: 1 | K11: 1 | M11: 3 | P11: 2 | Q11: 2 | R11: 2 | V11: =SUM(C11:U11) -> 32 | W11: 4 | X11: 4 | Y11: 3 | Z11: 2 | AA11: 1 | AB11: 1 | AC11: 1 | AD11: 1 | AF11: 3 | AI11: 2 | AJ11: 2 | AK11: 2 | AO11: =SUM(W11:AN11)+C11 -> 31 | AP11: 4(5) | AQ11: 4(5) | AR11: 4 | AS11: 2 | AT11: 2 | AU11: 3 | AV11: 2 | AW11: 2 | AX11: 3 | AY11: 3(4) | BB11: 3 | BC11: 3 | BD11: 3 | BH11: 0
A12: 6 | B12: 10A6 | C12: 5 | D12: 3 | E12: 4 | F12: 3 | G12: 2 | H12: 1 | I12: 2 | J12: 1 | K12: 1 | L12: 2 | M12: 3 | N12: 3 | R12: 2 | V12: =SUM(C12:U12) -> 32 | W12: 3 | X12: 4 | Y12: 3 | Z12: 2 | AA12: 1 | AB12: 1 | AC12: 1 | AD12: 1 | AE12: 2 | AF12: 3 | AG12: 3 | AK12: 2 | AO12: =SUM(W12:AN12)+C12 -> 31 | AP12: 4 | AQ12: 4(5) | AR12: 4 | AS12: 2 | AT12: 2 | AU12: 3 | AV12: 2 | AW12: 2 | AX12: 3 | AY12: 3(4) | AZ12: 3(4) | BD12: 3 | BH12: 0
A13: 7 | B13: 10A7 | C13: 5 | D13: 3 | E13: 4 | F13: 3 | G13: 2 | H13: 1 | I13: 2 | J13: 1 | K13: 1 | L13: 2 | M13: 3 | N13: 3 | Q13: 2 | V13: =SUM(C13:U13) -> 32 | W13: 3 | X13: 4 | Y13: 3 | Z13: 2 | AA13: 1 | AB13: 1 | AC13: 1 | AD13: 1 | AE13: 2 | AF13: 3 | AG13: 3 | AJ13: 2 | AO13: =SUM(W13:AN13)+C13 -> 31 | AP13: 4 | AQ13: 4(5) | AR13: 4 | AS13: 2 | AT13: 2 | AU13: 3 | AV13: 2 | AW13: 2 | AX13: 3 | AY13: 3(4) | AZ13: 3(4) | BC13: 3 | BH13: 0
A14: 8 | B14: 10A8 | C14: 5 | D14: 3 | E14: 4 | F14: 3 | G14: 2 | H14: 1 | I14: 2 | J14: 1 | K14: 1 | L14: 2 | M14: 3 | N14: 3 | Q14: 2 | V14: =SUM(C14:U14) -> 32 | W14: 3 | X14: 4 | Y14: 3 | Z14: 2 | AA14: 1 | AB14: 1 | AC14: 1 | AD14: 1 | AE14: 2 | AF14: 3 | AG14: 3 | AJ14: 2 | AO14: =SUM(W14:AN14)+C14 -> 31 | AP14: 4 | AQ14: 4(5) | AR14: 4 | AS14: 2 | AT14: 2 | AU14: 3 | AV14: 2 | AW14: 2 | AX14: 3 | AY14: 3(4) | AZ14: 3(4) | BC14: 3 | BH14: 0
A15: 9 | B15: 11A1 | C15: 5 | D15: 3 | E15: 4 | F15: 3 | G15: 2 | H15: 1 | I15: 2 | J15: 1 | K15: 1 | L15: 2 | O15: 3 | P15: 2 | R15: 2 | V15: =SUM(C15:U15) -> 31 | W15: 3 | X15: 4 | Y15: 3 | Z15: 2 | AA15: 1 | AB15: 3 | AC15: 1 | AD15: 1 | AE15: 2 | AH15: 3 | AI15: 2 | AK15: 2 | AO15: =SUM(W15:AN15)+C15 -> 32 | AP15: 4 | AQ15: 4(5) | AR15: 4 | AS15: 2 | AT15: 2 | AU15: 3(4) | AV15: 2 | AW15: 2 | AX15: 3 | BA15: 3(4) | BB15: 3 | BD15: 3 | BH15: 0
A16: 10 | B16: 11A2 | C16: 5 | D16: 3 | E16: 4 | F16: 3 | G16: 2 | H16: 1 | I16: 1 | J16: 1 | K16: 1 | L16: 3 | O16: 3 | P16: 2 | Q16: 2 | V16: =SUM(C16:U16) -> 31 | W16: 3 | X16: 4 | Y16: 3 | Z16: 2 | AA16: 1 | AB16: 2 | AC16: 1 | AD16: 1 | AE16: 3 | AH16: 3 | AI16: 2 | AJ16: 2 | AO16: =SUM(W16:AN16)+C16 -> 32 | AP16: 4 | AQ16: 4(5) | AR16: 4 | AS16: 2 | AT16: 2 | AU16: 3 | AV16: 2 | AW16: 2 | AX16: 3(4) | BA16: 3(4) | BB16: 3 | BC16: 3 | BH16: 0
A17: 11 | B17: 11A3 | C17: 5 | D17: 3 | E17: 4 | F17: 3 | G17: 2 | H17: 1 | I17: 1 | J17: 1 | K17: 1 | L17: 3 | O17: 3 | Q17: 2 | R17: 2 | V17: =SUM(C17:U17) -> 31 | W17: 3 | X17: 4 | Y17: 3 | Z17: 2 | AA17: 1 | AB17: 2 | AC17: 1 | AD17: 1 | AE17: 3 | AH17: 3 | AJ17: 2 | AK17: 2 | AO17: =SUM(W17:AN17)+C17 -> 32 | AP17: 4 | AQ17: 4(5) | AR17: 4 | AS17: 2 | AT17: 2 | AU17: 3 | AV17: 2 | AW17: 2 | AX17: 3(4) | BA17: 3(4) | BC17: 3 | BD17: 3 | BH17: 0
A18: 12 | B18: 11A4 | C18: 5 | D18: 3 | E18: 4 | F18: 3 | G18: 2 | H18: 1 | I18: 1 | J18: 1 | K18: 1 | L18: 3 | O18: 3 | Q18: 2 | R18: 2 | V18: =SUM(C18:U18) -> 31 | W18: 3 | X18: 4 | Y18: 3 | Z18: 2 | AA18: 1 | AB18: 2 | AC18: 1 | AD18: 1 | AE18: 3 | AH18: 3 | AJ18: 2 | AK18: 2 | AO18: =SUM(W18:AN18)+C18 -> 32 | AP18: 4 | AQ18: 4(5) | AR18: 4 | AS18: 2 | AT18: 2 | AU18: 3 | AV18: 2 | AW18: 2 | AX18: 3(4) | BA18: 3(4) | BC18: 3 | BD18: 3 | BH18: 0
A19: 13 | B19: 11A5 | C19: 5 | D19: 4 | E19: 4 | F19: 3 | G19: 2 | H19: 1 | I19: 1 | J19: 1 | K19: 1 | M19: 3 | P19: 2 | Q19: 2 | R19: 2 | V19: =SUM(C19:U19) -> 31 | W19: 4 | X19: 4 | Y19: 3 | Z19: 2 | AA19: 1 | AB19: 2 | AC19: 1 | AD19: 1 | AF19: 3 | AI19: 2 | AJ19: 2 | AK19: 2 | AO19: =SUM(W19:AN19)+C19 -> 32 | AP19: 4(5) | AQ19: 4(5) | AR19: 4 | AS19: 2 | AT19: 2 | AU19: 3 | AV19: 2 | AW19: 2 | AX19: 3 | AY19: 3(4) | BB19: 3 | BC19: 3 | BD19: 3 | BH19: 0
A20: 14 | B20: 11A6 | C20: 5 | D20: 4 | E20: 4 | F20: 3 | G20: 2 | H20: 1 | I20: 1 | J20: 1 | K20: 1 | M20: 3 | P20: 2 | Q20: 2 | R20: 2 | V20: =SUM(C20:U20) -> 31 | W20: 4 | X20: 4 | Y20: 3 | Z20: 2 | AA20: 1 | AB20: 2 | AC20: 1 | AD20: 1 | AF20: 3 | AI20: 2 | AJ20: 2 | AK20: 2 | AO20: =SUM(W20:AN20)+C20 -> 32 | AP20: 4(5) | AQ20: 4(5) | AR20: 4 | AS20: 2 | AT20: 2 | AU20: 3 | AV20: 2 | AW20: 2 | AX20: 3 | AY20: 3(4) | BB20: 3 | BC20: 3 | BD20: 3 | BH20: 0
A21: 15 | B21: 11A7 | C21: 5 | D21: 3 | E21: 4 | F21: 3 | G21: 2 | H21: 1 | I21: 1 | J21: 1 | K21: 1 | L21: 2 | M21: 3 | N21: 3 | R21: 2 | V21: =SUM(C21:U21) -> 31 | W21: 3 | X21: 4 | Y21: 3 | Z21: 2 | AA21: 1 | AB21: 2 | AC21: 1 | AD21: 1 | AE21: 2 | AF21: 3 | AG21: 3 | AK21: 2 | AO21: =SUM(W21:AN21)+C21 -> 32 | AP21: 4 | AQ21: 4(5) | AR21: 4 | AS21: 2 | AT21: 2 | AU21: 3 | AV21: 2 | AW21: 2 | AX21: 3 | AY21: 3(4) | AZ21: 3(4) | BD21: 3 | BH21: 0
A22: 16 | B22: 11A8 | C22: 5 | D22: 3 | E22: 4 | F22: 3 | G22: 2 | H22: 1 | I22: 1 | J22: 1 | K22: 1 | L22: 2 | M22: 3 | N22: 3 | Q22: 2 | V22: =SUM(C22:U22) -> 31 | W22: 3 | X22: 4 | Y22: 3 | Z22: 2 | AA22: 1 | AB22: 2 | AC22: 1 | AD22: 1 | AE22: 2 | AF22: 3 | AG22: 3 | AJ22: 2 | AO22: =SUM(W22:AN22)+C22 -> 32 | AP22: 4 | AQ22: 4(5) | AR22: 4 | AS22: 2 | AT22: 2 | AU22: 3 | AV22: 2 | AW22: 2 | AX22: 3 | AY22: 3(4) | AZ22: 3(4) | BC22: 3 | BH22: 0
A23: 17 | B23: 11A9 | C23: 5 | D23: 3 | E23: 4 | F23: 3 | G23: 2 | H23: 1 | I23: 1 | J23: 1 | K23: 1 | L23: 2 | M23: 3 | N23: 3 | Q23: 2 | V23: =SUM(C23:U23) -> 31 | W23: 3 | X23: 4 | Y23: 3 | Z23: 2 | AA23: 1 | AB23: 2 | AC23: 1 | AD23: 1 | AE23: 2 | AF23: 3 | AG23: 3 | AJ23: 2 | AO23: =SUM(W23:AN23)+C23 -> 32 | AP23: 4 | AQ23: 4(5) | AR23: 4 | AS23: 2 | AT23: 2 | AU23: 3 | AV23: 2 | AW23: 2 | AX23: 3 | AY23: 3(4) | AZ23: 3(4) | BC23: 3 | BH23: 0
A24: 18 | B24: 11A10 | C24: 5 | D24: 3 | E24: 4 | F24: 3 | G24: 2 | H24: 1 | I24: 1 | J24: 1 | K24: 1 | L24: 2 | M24: 3 | N24: 3 | Q24: 2 | V24: =SUM(C24:U24) -> 31 | W24: 3 | X24: 4 | Y24: 3 | Z24: 2 | AA24: 1 | AB24: 2 | AC24: 1 | AD24: 1 | AE24: 2 | AF24: 3 | AG24: 3 | AJ24: 2 | AO24: =SUM(W24:AN24)+C24 -> 32 | AP24: 4 | AQ24: 4(5) | AR24: 4 | AS24: 2 | AT24: 2 | AU24: 3 | AV24: 2 | AW24: 2 | AX24: 3 | AY24: 3(4) | AZ24: 3(4) | BC24: 3 | BH24: 0
A25: 19 | B25: 12A1 | C25: 5 | D25: 3 | E25: 4 | F25: 3 | G25: 2 | H25: 1 | I25: 2 | J25: 1 | K25: 1 | L25: 2 | M25: 3 | N25: 3 | Q25: 2 | V25: =SUM(C25:U25) -> 32 | W25: 3 | X25: 4 | Y25: 3 | Z25: 2 | AA25: 1 | AB25: 1 | AC25: 1 | AD25: 1 | AE25: 2 | AF25: 3 | AG25: 3 | AJ25: 2 | AO25: =SUM(W25:AN25)+C25 -> 31 | AP25: 4 | AQ25: 4(5) | AR25: 4 | AS25: 2 | AT25: 2 | AU25: 3 | AV25: 2 | AW25: 2 | AX25: 3 | AY25: 3(4) | AZ25: 3(4) | BC25: 3 | BH25: 0
A26: 20 | B26: 12A2 | C26: 5 | D26: 3 | E26: 4 | F26: 3 | G26: 2 | H26: 1 | I26: 2 | J26: 1 | K26: 1 | L26: 2 | M26: 3 | N26: 3 | Q26: 2 | V26: =SUM(C26:U26) -> 32 | W26: 3 | X26: 4 | Y26: 3 | Z26: 2 | AA26: 1 | AB26: 1 | AC26: 1 | AD26: 1 | AE26: 2 | AF26: 3 | AG26: 3 | AJ26: 2 | AO26: =SUM(W26:AN26)+C26 -> 31 | AP26: 4 | AQ26: 4(5) | AR26: 4 | AS26: 2 | AT26: 2 | AU26: 3 | AV26: 2 | AW26: 2 | AX26: 3 | AY26: 3(4) | AZ26: 3(4) | BC26: 3 | BH26: 0
A27: 21 | B27: 12A3 | C27: 5 | D27: 3 | E27: 4 | F27: 3 | G27: 2 | H27: 1 | I27: 2 | J27: 1 | K27: 1 | L27: 2 | M27: 3 | N27: 3 | R27: 2 | V27: =SUM(C27:U27) -> 32 | W27: 3 | X27: 4 | Y27: 3 | Z27: 2 | AA27: 1 | AB27: 1 | AC27: 1 | AD27: 1 | AE27: 2 | AF27: 3 | AG27: 3 | AK27: 2 | AO27: =SUM(W27:AN27)+C27 -> 31 | AP27: 4 | AQ27: 4(5) | AR27: 4 | AS27: 2 | AT27: 2 | AU27: 3 | AV27: 2 | AW27: 2 | AX27: 3 | AY27: 3(4) | AZ27: 3(4) | BD27: 3 | BH27: 0
A28: 22 | B28: 12A4 | C28: 5 | D28: 4 | E28: 4 | F28: 3 | G28: 2 | H28: 1 | I28: 2 | J28: 1 | K28: 1 | M28: 3 | P28: 2 | Q28: 2 | R28: 2 | V28: =SUM(C28:U28) -> 32 | W28: 4 | X28: 4 | Y28: 3 | Z28: 2 | AA28: 1 | AB28: 1 | AC28: 1 | AD28: 1 | AF28: 3 | AI28: 2 | AJ28: 2 | AK28: 2 | AO28: =SUM(W28:AN28)+C28 -> 31 | AP28: 4(5) | AQ28: 4(5) | AR28: 4 | AS28: 2 | AT28: 2 | AU28: 3 | AV28: 2 | AW28: 2 | AX28: 3 | AY28: 3(4) | BB28: 3 | BC28: 3 | BD28: 3 | BH28: 0
A29: 23 | B29: 12A5 | C29: 5 | D29: 4 | E29: 4 | F29: 3 | G29: 2 | H29: 1 | I29: 2 | J29: 1 | K29: 1 | M29: 3 | P29: 2 | Q29: 2 | R29: 2 | V29: =SUM(C29:U29) -> 32 | W29: 4 | X29: 4 | Y29: 3 | Z29: 2 | AA29: 1 | AB29: 1 | AC29: 1 | AD29: 1 | AF29: 3 | AI29: 2 | AJ29: 2 | AK29: 2 | AO29: =SUM(W29:AN29)+C29 -> 31 | AP29: 4(5) | AQ29: 4(5) | AR29: 4 | AS29: 2 | AT29: 2 | AU29: 3 | AV29: 2 | AW29: 2 | AX29: 3 | AY29: 3(4) | BB29: 3 | BC29: 3 | BD29: 3 | BH29: 0
A30: 24 | B30: 12A6 | C30: 5 | D30: 3 | E30: 4 | F30: 3 | G30: 2 | H30: 1 | I30: 2 | J30: 1 | K30: 1 | L30: 3 | O30: 3 | Q30: 2 | R30: 2 | V30: =SUM(C30:U30) -> 32 | W30: 3 | X30: 4 | Y30: 3 | Z30: 2 | AA30: 1 | AB30: 1 | AC30: 1 | AD30: 1 | AE30: 3 | AH30: 3 | AJ30: 2 | AK30: 2 | AO30: =SUM(W30:AN30)+C30 -> 31 | AP30: 4 | AQ30: 4(5) | AR30: 4 | AS30: 2 | AT30: 2 | AU30: 3 | AV30: 2 | AW30: 2 | AX30: 3(4) | BA30: 3(4) | BC30: 3 | BD30: 3 | BH30: 0
A31: 25 | B31: 12A7 | C31: 5 | D31: 3 | E31: 4 | F31: 3 | G31: 2 | H31: 1 | I31: 2 | J31: 1 | K31: 1 | L31: 3 | O31: 3 | Q31: 2 | R31: 2 | V31: =SUM(C31:U31) -> 32 | W31: 3 | X31: 4 | Y31: 3 | Z31: 2 | AA31: 1 | AB31: 1 | AC31: 1 | AD31: 1 | AE31: 3 | AH31: 3 | AJ31: 2 | AK31: 2 | AO31: =SUM(W31:AN31)+C31 -> 31 | AP31: 4 | AQ31: 4(5) | AR31: 4 | AS31: 2 | AT31: 2 | AU31: 3 | AV31: 2 | AW31: 2 | AX31: 3(4) | BA31: 3(4) | BC31: 3 | BD31: 3 | BH31: 0
A32: 26 | B32: 12A8 | C32: 5 | D32: 3 | E32: 4 | F32: 3 | G32: 2 | H32: 1 | I32: 2 | J32: 1 | K32: 1 | L32: 3 | O32: 3 | Q32: 2 | R32: 2 | V32: =SUM(C32:U32) -> 32 | W32: 3 | X32: 4 | Y32: 3 | Z32: 2 | AA32: 1 | AB32: 1 | AC32: 1 | AD32: 1 | AE32: 3 | AH32: 3 | AJ32: 2 | AK32: 2 | AO32: =SUM(W32:AN32)+C32 -> 31 | AP32: 4 | AQ32: 4(5) | AR32: 4 | AS32: 2 | AT32: 2 | AU32: 3 | AV32: 2 | AW32: 2 | AX32: 3(4) | BA32: 3(4) | BC32: 3 | BD32: 3 | BH32: 0
A33: 27 | B33: 12A9 | C33: 5 | D33: 3 | E33: 4 | F33: 3 | G33: 2 | H33: 1 | I33: 2 | J33: 1 | K33: 1 | L33: 3 | O33: 3 | P33: 2 | Q33: 2 | V33: =SUM(C33:U33) -> 32 | W33: 3 | X33: 4 | Y33: 3 | Z33: 2 | AA33: 1 | AB33: 1 | AC33: 1 | AD33: 1 | AE33: 3 | AH33: 3 | AI33: 2 | AJ33: 2 | AO33: =SUM(W33:AN33)+C33 -> 31 | AP33: 4 | AQ33: 4(5) | AR33: 4 | AS33: 2 | AT33: 2 | AU33: 3 | AV33: 2 | AW33: 2 | AX33: 3(4) | BA33: 3(4) | BB33: 3 | BC33: 3 | BH33: 0
A34: 28 | B34: 12A10 | C34: 5 | D34: 3 | E34: 4 | F34: 3 | G34: 2 | H34: 1 | I34: 3 | J34: 1 | K34: 1 | L34: 2 | O34: 3 | P34: 2 | R34: 2 | V34: =SUM(C34:U34) -> 32 | W34: 3 | X34: 4 | Y34: 3 | Z34: 2 | AA34: 1 | AB34: 2 | AC34: 1 | AD34: 1 | AE34: 2 | AH34: 3 | AI34: 2 | AK34: 2 | AO34: =SUM(W34:AN34)+C34 -> 31 | AP34: 4 | AQ34: 4(5) | AR34: 4 | AS34: 2 | AT34: 2 | AU34: 3(4) | AV34: 2 | AW34: 2 | AX34: 3 | BA34: 3(4) | BB34: 3 | BD34: 3 | BH34: 0
V35: =SUM(C35:U35) -> 0 | AO35: =SUM(W35:AN35)+C35 -> 0 | BH35: 0
V36: =SUM(C36:U36) -> 0 | AO36: =SUM(W36:AN36)+C36 -> 0 | BH36: 0
B37: =COUNTA(B7:B36) -> 28 | C37: =SUM(C7:C36) -> 140 | D37: =SUM(D7:D36) -> 89 | E37: =SUM(E7:E36) -> 112 | F37: =SUM(F7:F36) -> 84 | G37: =SUM(G7:G36) -> 56 | H37: =SUM(H7:H36) -> 28 | I37: =SUM(I7:I36) -> 49 | J37: =SUM(J7:J36) -> 28 | ... BH37: =SUM(BH7:BH36) -> 0
A38: THỐNG KÊ TIẾT / TỔ CHUYÊN MÔN / HỌC KÌ /NĂM
A39: TT | B39: Tổ CM | D39: Số GV đứng lớp | J39: Chủ nhiệm kỳ 1 | P39: =SUM(J41:O50) -> 28 | R39: Chủ nhiệm kỳ 2 | X39: =SUM(R41:W50) -> 28 | Z39: Tiết KN | AD39: TN-HN/K1 | AH39: TN-HN/K2 | AL39: Tiết bộ môn | AP39: Giáo dục địa phương | AV39: Tổng tiết/tổ | AZ39: Tiết TB/GV | BF39: Thừa giờ
D40: Tổng | F40: Kỳ 1 | H40: Kỳ 2 | J40: K10 | L40: K11 | N40: K12 | P40: ∑ | R40: K10 | T40: K11 | V40: K12 | X40: ∑ | Z40: Kỳ 1 | AB40: Kỳ 2 | AD40: Số lớp | AF40: Tiết | AH40: Số lớp | AJ40: Tiết | AL40: Kỳ 1 | AN40: Kỳ 2 | AP40: K10 | AR40: K11 | AT40: K12 | AV40: K1 | AX40: K2 | AZ40: K1 | BB40: K2 | BD40: CN
A41: 1 | B41: TOÁN - TIN | D41: 12 | F41: 12 | H41: 12 | J41: 2 | L41: 2 | N41: 2 | P41: =SUM(J41:O41)*5 -> 30 | R41: 2 | T41: 2 | V41: 2 | X41: =SUM(R41:W41)*5 -> 30 | Z41: =SUMIF(CBGV!$H$4:$O$70,"Toán - tin",CBGV!$O$4:$O$70) -> 12 | AB41: =SUMIF(CBGV!$H$4:$O$70,"Toán - tin",CBGV!$O$4:$O$70) -> 12 | AD41: 8 | AF41: =AD41*1 -> 8 | AH41: 8 | AJ41: =AH41*1 -> 8 | AL41: =E37+Q37 -> 154 | AN41: =X37+AJ37 -> 154 | AV41: =P41+Z41+AF41+AL41+AP41+AR41+AT41 -> 204 | AX41: =X41+AB41+AJ41+AN41+AP41+AR41+AT41 -> 204 | AZ41: =AV41/F41 -> 17 | BB41: =AX41/H41 -> 17 | BD41: =(AZ41*18+BB41*17)/35 -> 17 | BF41: =(BD41-17)*D41 -> 0 | BI41: =BF41*35 -> 0
...

Sheet PCCM
K1: SỞ GIÁO DỤC VÀ ĐÀO TẠO ĐẮK LẮK TRƯỜNG THPT HUYNH THUC KHÁNG | P1: PHÂN CÔNG CHUYÊN MÔN | W1: Tuần | X1: 9 | Y1: Từ | Z1: 03/11//2025
Q2: HỌC KÌ | S2: I | T2: NĂM HỌC | V2: 2025-2026
K3: MÃ GV | L3: CN | M3: MÔN | N3: LỚP DẠY | X3: KN | Y3: DẠY | Z3: T/TUẦN | AA3: THỪA | AB3: Chọn Tổ chuyên môn ->
A4: =IF(N4=0,0,VLOOKUP(N4,'T-L-K'!$B$7:$BH$36,IF(AND($M4="Văn",$S$2="I"),3,IF(AND($M4="Văn",$S$2="II"),22,IF(AND($M4="Toán",$S$2="I"),4,IF(AND($M4="Toán",$S$2="II"),23,IF(AND($M4="Anh",$S$2="I"),5,IF(AND($M4="Anh",$S$2="II"),24,IF(AND($M4="TD",$S$2="I"),6,IF(AND($M4="TD",$S$2="II"),25,IF(AND($M4="QP",$S$2="I"),7,IF(AND($M4="QP",$S$2="II"),26,IF(AND($M4="Sử",$S$2="I"),8,IF(AND($M4="Sử",$S$2="II"),27,IF(AND($M4="GDĐP",$S$2="I"),9,IF(AND($M4="GDĐP",$S$2="II"),28,IF(AND($M4="TN-HN",$S$2="I"),10,IF(AND($M4="TN-HN",$S$2="II"),29,IF(AND($M4="Lý",$S$2="I"),11,IF(AND($M4="Lý",$S$2="II"),30,IF(AND($M4="HóA",$S$2="I"),12,IF(AND($M4="HóA",$S$2="II"),31,IF(AND($M4="Sinh",$S$2="I"),13,IF(AND($M4="Sinh",$S$2="II"),32,IF(AND($M4="ĐịA",$S$2="I"),14,IF(AND($M4="ĐịA",$S$2="II"),33,IF(AND($M4="KT-PL",$S$2="I"),15,IF(AND($M4="KT-PL",$S$2="II"),34,IF(AND($M4="Tin",$S$2="I"),16,IF(AND($M4="Tin",$S$2="II"),35,IF(AND($M4="CNc",$S$2="I"),17,IF(AND($M4="CNc",$S$2="II"),36,IF(AND($M4="CNn",$S$2="I"),18,IF(AND($M4="CNn",$S$2="II"),37,IF(AND($M4="Nhạc",$S$2="I"),19,IF(AND($M4="Nhạc",$S$2="II"),38,IF(AND($M4="MT",$S$2="I"),20,IF(AND($M4="MT",$S$2="II"),39,59)))))))))))))))))))))))))))))))))))))) -> 4 | B4: =IF(O4=0,0,VLOOKUP(O4,'T-L-K'!$B$7:$BH$36,IF(AND($M4="Văn",$S$2="I"),3,IF(AND($M4="Văn",$S$2="II"),22,IF(AND($M4="Toán",$S$2="I"),4,IF(AND($M4="Toán",$S$2="II"),23,IF(AND($M4="Anh",$S$2="I"),5,IF(AND($M4="Anh",$S$2="II"),24,IF(AND($M4="TD",$S$2="I"),6,IF(AND($M4="TD",$S$2="II"),25,IF(AND($M4="QP",$S$2="I"),7,IF(AND($M4="QP",$S$2="II"),26,IF(AND($M4="Sử",$S$2="I"),8,IF(AND($M4="Sử",$S$2="II"),27,IF(AND($M4="GDĐP",$S$2="I"),9,IF(AND($M4="GDĐP",$S$2="II"),28,IF(AND($M4="TN-HN",$S$2="I"),10,IF(AND($M4="TN-HN",$S$2="II"),29,IF(AND($M4="Lý",$S$2="I"),11,IF(AND($M4="Lý",$S$2="II"),30,IF(AND($M4="HóA",$S$2="I"),12,IF(AND($M4="HóA",$S$2="II"),31,IF(AND($M4="Sinh",$S$2="I"),13,IF(AND($M4="Sinh",$S$2="II"),32,IF(AND($M4="ĐịA",$S$2="I"),14,IF(AND($M4="ĐịA",$S$2="II"),33,IF(AND($M4="KT-PL",$S$2="I"),15,IF(AND($M4="KT-PL",$S$2="II"),34,IF(AND($M4="Tin",$S$2="I"),16,IF(AND($M4="Tin",$S$2="II"),35,IF(AND($M4="CNc",$S$2="I"),17,IF(AND($M4="CNc",$S$2="II"),36,IF(AND($M4="CNn",$S$2="I"),18,IF(AND($M4="CNn",$S$2="II"),37,IF(AND($M4="Nhạc",$S$2="I"),19,IF(AND($M4="Nhạc",$S$2="II"),38,IF(AND($M4="MT",$S$2="I"),20,IF(AND($M4="MT",$S$2="II"),39,59)))))))))))))))))))))))))))))))))))))) -> 4 | C4: =IF(P4=0,0,VLOOKUP(P4,'T-L-K'!$B$7:$BH$36,IF(AND($M4="Văn",$S$2="I"),3,IF(AND($M4="Văn",$S$2="II"),22,IF(AND($M4="Toán",$S$2="I"),4,IF(AND($M4="Toán",$S$2="II"),23,IF(AND($M4="Anh",$S$2="I"),5,IF(AND($M4="Anh",$S$2="II"),24,IF(AND($M4="TD",$S$2="I"),6,IF(AND($M4="TD",$S$2="II"),25,IF(AND($M4="QP",$S$2="I"),7,IF(AND($M4="QP",$S$2="II"),26,IF(AND($M4="Sử",$S$2="I"),8,IF(AND($M4="Sử",$S$2="II"),27,IF(AND($M4="GDĐP",$S$2="I"),9,IF(AND($M4="GDĐP",$S$2="II"),28,IF(AND($M4="TN-HN",$S$2="I"),10,IF(AND($M4="TN-HN",$S$2="II"),29,IF(AND($M4="Lý",$S$2="I"),11,IF(AND($M4="Lý",$S$2="II"),30,IF(AND($M4="HóA",$S$2="I"),12,IF(AND($M4="HóA",$S$2="II"),31,IF(AND($M4="Sinh",$S$2="I"),13,IF(AND($M4="Sinh",$S$2="II"),32,IF(AND($M4="ĐịA",$S$2="I"),14,IF(AND($M4="ĐịA",$S$2="II"),33,IF(AND($M4="KT-PL",$S$2="I"),15,IF(AND($M4="KT-PL",$S$2="II"),34,IF(AND($M4="Tin",$S$2="I"),16,IF(AND($M4="Tin",$S$2="II"),35,IF(AND($M4="CNc",$S$2="I"),17,IF(AND($M4="CNc",$S$2="II"),36,IF(AND($M4="CNn",$S$2="I"),18,IF(AND($M4="CNn",$S$2="II"),37,IF(AND($M4="Nhạc",$S$2="I"),19,IF(AND($M4="Nhạc",$S$2="II"),38,IF(AND($M4="MT",$S$2="I"),20,IF(AND($M4="MT",$S$2="II"),39,59)))))))))))))))))))))))))))))))))))))) -> 4 | D4: =IF(Q4=0,0,VLOOKUP(Q4,'T-L-K'!$B$7:$BH$36,IF(AND($M4="Văn",$S$2="I"),3,IF(AND($M4="Văn",$S$2="II"),22,IF(AND($M4="Toán",$S$2="I"),4,IF(AND($M4="Toán",$S$2="II"),23,IF(AND($M4="Anh",$S$2="I"),5,IF(AND($M4="Anh",$S$2="II"),24,IF(AND($M4="TD",$S$2="I"),6,IF(AND($M4="TD",$S$2="II"),25,IF(AND($M4="QP",$S$2="I"),7,IF(AND($M4="QP",$S$2="II"),26,IF(AND($M4="Sử",$S$2="I"),8,IF(AND($M4="Sử",$S$2="II"),27,IF(AND($M4="GDĐP",$S$2="I"),9,IF(AND($M4="GDĐP",$S$2="II"),28,IF(AND($M4="TN-HN",$S$2="I"),10,IF(AND($M4="TN-HN",$S$2="II"),29,IF(AND($M4="Lý",$S$2="I"),11,IF(AND($M4="Lý",$S$2="II"),30,IF(AND($M4="HóA",$S$2="I"),12,IF(AND($M4="HóA",$S$2="II"),31,IF(AND($M4="Sinh",$S$2="I"),13,IF(AND($M4="Sinh",$S$2="II"),32,IF(AND($M4="ĐịA",$S$2="I"),14,IF(AND($M4="ĐịA",$S$2="II"),33,IF(AND($M4="KT-PL",$S$2="I"),15,IF(AND($M4="KT-PL",$S$2="II"),34,IF(AND($M4="Tin",$S$2="I"),16,IF(AND($M4="Tin",$S$2="II"),35,IF(AND($M4="CNc",$S$2="I"),17,IF(AND($M4="CNc",$S$2="II"),36,IF(AND($M4="CNn",$S$2="I"),18,IF(AND($M4="CNn",$S$2="II"),37,IF(AND($M4="Nhạc",$S$2="I"),19,IF(AND($M4="Nhạc",$S$2="II"),38,IF(AND($M4="MT",$S$2="I"),20,IF(AND($M4="MT",$S$2="II"),39,59)))))))))))))))))))))))))))))))))))))) -> 0 | E4: =IF(R4=0,0,VLOOKUP(R4,'T-L-K'!$B$7:$BH$36,IF(AND($M4="Văn",$S$2="I"),3,IF(AND($M4="Văn",$S$2="II"),22,IF(AND($M4="Toán",$S$2="I"),4,IF(AND($M4="Toán",$S$2="II"),23,IF(AND($M4="Anh",$S$2="I"),5,IF(AND($M4="Anh",$S$2="II"),24,IF(AND($M4="TD",$S$2="I"),6,IF(AND($M4="TD",$S$2="II"),25,IF(AND($M4="QP",$S$2="I"),7,IF(AND($M4="QP",$S$2="II"),26,IF(AND($M4="Sử",$S$2="I"),8,IF(AND($M4="Sử",$S$2="II"),27,IF(AND($M4="GDĐP",$S$2="I"),9,IF(AND($M4="GDĐP",$S$2="II"),28,IF(AND($M4="TN-HN",$S$2="I"),10,IF(AND($M4="TN-HN",$S$2="II"),29,IF(AND($M4="Lý",$S$2="I"),11,IF(AND($M4="Lý",$S$2="II"),30,IF(AND($M4="HóA",$S$2="I"),12,IF(AND($M4="HóA",$S$2="II"),31,IF(AND($M4="Sinh",$S$2="I"),13,IF(AND($M4="Sinh",$S$2="II"),32,IF(AND($M4="ĐịA",$S$2="I"),14,IF(AND($M4="ĐịA",$S$2="II"),33,IF(AND($M4="KT-PL",$S$2="I"),15,IF(AND($M4="KT-PL",$S$2="II"),34,IF(AND($M4="Tin",$S$2="I"),16,IF(AND($M4="Tin",$S$2="II"),35,IF(AND($M4="CNc",$S$2="I"),17,IF(AND($M4="CNc",$S$2="II"),36,IF(AND($M4="CNn",$S$2="I"),18,IF(AND($M4="CNn",$S$2="II"),37,IF(AND($M4="Nhạc",$S$2="I"),19,IF(AND($M4="Nhạc",$S$2="II"),38,IF(AND($M4="MT",$S$2="I"),20,IF(AND($M4="MT",$S$2="II"),39,59)))))))))))))))))))))))))))))))))))))) -> 0 | F4: =IF(S4=0,0,VLOOKUP(S4,'T-L-K'!$B$7:$BH$36,IF(AND($M4="Văn",$S$2="I"),3,IF(AND($M4="Văn",$S$2="II"),22,IF(AND($M4="Toán",$S$2="I"),4,IF(AND($M4="Toán",$S$2="II"),23,IF(AND($M4="Anh",$S$2="I"),5,IF(AND($M4="Anh",$S$2="II"),24,IF(AND($M4="TD",$S$2="I"),6,IF(AND($M4="TD",$S$2="II"),25,IF(AND($M4="QP",$S$2="I"),7,IF(AND($M4="QP",$S$2="II"),26,IF(AND($M4="Sử",$S$2="I"),8,IF(AND($M4="Sử",$S$2="II"),27,IF(AND($M4="GDĐP",$S$2="I"),9,IF(AND($M4="GDĐP",$S$2="II"),28,IF(AND($M4="TN-HN",$S$2="I"),10,IF(AND($M4="TN-HN",$S$2="II"),29,IF(AND($M4="Lý",$S$2="I"),11,IF(AND($M4="Lý",$S$2="II"),30,IF(AND($M4="HóA",$S$2="I"),12,IF(AND($M4="HóA",$S$2="II"),31,IF(AND($M4="Sinh",$S$2="I"),13,IF(AND($M4="Sinh",$S$2="II"),32,IF(AND($M4="ĐịA",$S$2="I"),14,IF(AND($M4="ĐịA",$S$2="II"),33,IF(AND($M4="KT-PL",$S$2="I"),15,IF(AND($M4="KT-PL",$S$2="II"),34,IF(AND($M4="Tin",$S$2="I"),16,IF(AND($M4="Tin",$S$2="II"),35,IF(AND($M4="CNc",$S$2="I"),17,IF(AND($M4="CNc",$S$2="II"),36,IF(AND($M4="CNn",$S$2="I"),18,IF(AND($M4="CNn",$S$2="II"),37,IF(AND($M4="Nhạc",$S$2="I"),19,IF(AND($M4="Nhạc",$S$2="II"),38,IF(AND($M4="MT",$S$2="I"),20,IF(AND($M4="MT",$S$2="II"),39,59)))))))))))))))))))))))))))))))))))))) -> 0 | G4: =IF(T4=0,0,VLOOKUP(T4,'T-L-K'!$B$7:$BH$36,IF(AND($M4="Văn",$S$2="I"),3,IF(AND($M4="Văn",$S$2="II"),22,IF(AND($M4="Toán",$S$2="I"),4,IF(AND($M4="Toán",$S$2="II"),23,IF(AND($M4="Anh",$S$2="I"),5,IF(AND($M4="Anh",$S$2="II"),24,IF(AND($M4="TD",$S$2="I"),6,IF(AND($M4="TD",$S$2="II"),25,IF(AND($M4="QP",$S$2="I"),7,IF(AND($M4="QP",$S$2="II"),26,IF(AND($M4="Sử",$S$2="I"),8,IF(AND($M4="Sử",$S$2="II"),27,IF(AND($M4="GDĐP",$S$2="I"),9,IF(AND($M4="GDĐP",$S$2="II"),28,IF(AND($M4="TN-HN",$S$2="I"),10,IF(AND($M4="TN-HN",$S$2="II"),29,IF(AND($M4="Lý",$S$2="I"),11,IF(AND($M4="Lý",$S$2="II"),30,IF(AND($M4="HóA",$S$2="I"),12,IF(AND($M4="HóA",$S$2="II"),31,IF(AND($M4="Sinh",$S$2="I"),13,IF(AND($M4="Sinh",$S$2="II"),32,IF(AND($M4="ĐịA",$S$2="I"),14,IF(AND($M4="ĐịA",$S$2="II"),33,IF(AND($M4="KT-PL",$S$2="I"),15,IF(AND($M4="KT-PL",$S$2="II"),34,IF(AND($M4="Tin",$S$2="I"),16,IF(AND($M4="Tin",$S$2="II"),35,IF(AND($M4="CNc",$S$2="I"),17,IF(AND($M4="CNc",$S$2="II"),36,IF(AND($M4="CNn",$S$2="I"),18,IF(AND($M4="CNn",$S$2="II"),37,IF(AND($M4="Nhạc",$S$2="I"),19,IF(AND($M4="Nhạc",$S$2="II"),38,IF(AND($M4="MT",$S$2="I"),20,IF(AND($M4="MT",$S$2="II"),39,59)))))))))))))))))))))))))))))))))))))) -> 0 | H4: =IF(U4=0,0,VLOOKUP(U4,'T-L-K'!$B$7:$BH$36,IF(AND($M4="Văn",$S$2="I"),3,IF(AND($M4="Văn",$S$2="II"),22,IF(AND($M4="Toán",$S$2="I"),4,IF(AND($M4="Toán",$S$2="II"),23,IF(AND($M4="Anh",$S$2="I"),5,IF(AND($M4="Anh",$S$2="II"),24,IF(AND($M4="TD",$S$2="I"),6,IF(AND($M4="TD",$S$2="II"),25,IF(AND($M4="QP",$S$2="I"),7,IF(AND($M4="QP",$S$2="II"),26,IF(AND($M4="Sử",$S$2="I"),8,IF(AND($M4="Sử",$S$2="II"),27,IF(AND($M4="GDĐP",$S$2="I"),9,IF(AND($M4="GDĐP",$S$2="II"),28,IF(AND($M4="TN-HN",$S$2="I"),10,IF(AND($M4="TN-HN",$S$2="II"),29,IF(AND($M4="Lý",$S$2="I"),11,IF(AND($M4="Lý",$S$2="II"),30,IF(AND($M4="HóA",$S$2="I"),12,IF(AND($M4="HóA",$S$2="II"),31,IF(AND($M4="Sinh",$S$2="I"),13,IF(AND($M4="Sinh",$S$2="II"),32,IF(AND($M4="ĐịA",$S$2="I"),14,IF(AND($M4="ĐịA",$S$2="II"),33,IF(AND($M4="KT-PL",$S$2="I"),15,IF(AND($M4="KT-PL",$S$2="II"),34,IF(AND($M4="Tin",$S$2="I"),16,IF(AND($M4="Tin",$S$2="II"),35,IF(AND($M4="CNc",$S$2="I"),17,IF(AND($M4="CNc",$S$2="II"),36,IF(AND($M4="CNn",$S$2="I"),18,IF(AND($M4="CNn",$S$2="II"),37,IF(AND($M4="Nhạc",$S$2="I"),19,IF(AND($M4="Nhạc",$S$2="II"),38,IF(AND($M4="MT",$S$2="I"),20,IF(AND($M4="MT",$S$2="II"),39,59)))))))))))))))))))))))))))))))))))))) -> 0 | ... J4: =IF(W4=0,0,VLOOKUP(W4,'T-L-K'!$B$7:$BH$36,IF(AND($M4="Văn",$S$2="I"),3,IF(AND($M4="Văn",$S$2="II"),22,IF(AND($M4="Toán",$S$2="I"),4,IF(AND($M4="Toán",$S$2="II"),23,IF(AND($M4="Anh",$S$2="I"),5,IF(AND($M4="Anh",$S$2="II"),24,IF(AND($M4="TD",$S$2="I"),6,IF(AND($M4="TD",$S$2="II"),25,IF(AND($M4="QP",$S$2="I"),7,IF(AND($M4="QP",$S$2="II"),26,IF(AND($M4="Sử",$S$2="I"),8,IF(AND($M4="Sử",$S$2="II"),27,IF(AND($M4="GDĐP",$S$2="I"),9,IF(AND($M4="GDĐP",$S$2="II"),28,IF(AND($M4="TN-HN",$S$2="I"),10,IF(AND($M4="TN-HN",$S$2="II"),29,IF(AND($M4="Lý",$S$2="I"),11,IF(AND($M4="Lý",$S$2="II"),30,IF(AND($M4="HóA",$S$2="I"),12,IF(AND($M4="HóA",$S$2="II"),31,IF(AND($M4="Sinh",$S$2="I"),13,IF(AND($M4="Sinh",$S$2="II"),32,IF(AND($M4="ĐịA",$S$2="I"),14,IF(AND($M4="ĐịA",$S$2="II"),33,IF(AND($M4="KT-PL",$S$2="I"),15,IF(AND($M4="KT-PL",$S$2="II"),34,IF(AND($M4="Tin",$S$2="I"),16,IF(AND($M4="Tin",$S$2="II"),35,IF(AND($M4="CNc",$S$2="I"),17,IF(AND($M4="CNc",$S$2="II"),36,IF(AND($M4="CNn",$S$2="I"),18,IF(AND($M4="CNn",$S$2="II"),37,IF(AND($M4="Nhạc",$S$2="I"),19,IF(AND($M4="Nhạc",$S$2="II"),38,IF(AND($M4="MT",$S$2="I"),20,IF(AND($M4="MT",$S$2="II"),39,59)))))))))))))))))))))))))))))))))))))) -> 0 | K4: T2 | L4: =IF(K4=0,0,VLOOKUP(K4,CBGV!$B$4:$M$70,12,0)) -> 11A4 | M4: Toán | N4: 10A1 | O4: 11A2 | P4: 11A4 | X4: =IF(K4=0,0,VLOOKUP(K4,CBGV!$B$4:$P$70,14,0))+IF(L4=0,0,VLOOKUP(L4,'T-L-K'!$B$7:$BH$36,2,0)) -> 5 | Y4: =SUM(A4:J6) -> 13 | Z4: =SUM(A4:J6)+X4 -> 18 | AA4: =IF((Z4-(VLOOKUP(K4,CBGV!$B$4:$P$70,13,0)))<=-14,"/",(Z4-(VLOOKUP(K4,CBGV!$B$4:$P$70,13,0)))) -> 1 | AB4: Toán - Tin
A5: =IF(N5=0,0,VLOOKUP(N5,'T-L-K'!$B$7:$BH$36,IF(AND($M5="Văn",$S$2="I"),3,IF(AND($M5="Văn",$S$2="II"),22,IF(AND($M5="Toán",$S$2="I"),4,IF(AND($M5="Toán",$S$2="II"),23,IF(AND($M5="Anh",$S$2="I"),5,IF(AND($M5="Anh",$S$2="II"),24,IF(AND($M5="TD",$S$2="I"),6,IF(AND($M5="TD",$S$2="II"),25,IF(AND($M5="QP",$S$2="I"),7,IF(AND($M5="QP",$S$2="II"),26,IF(AND($M5="Sử",$S$2="I"),8,IF(AND($M5="Sử",$S$2="II"),27,IF(AND($M5="GDĐP",$S$2="I"),9,IF(AND($M5="GDĐP",$S$2="II"),28,IF(AND($M5="TN-HN",$S$2="I"),10,IF(AND($M5="TN-HN",$S$2="II"),29,IF(AND($M5="Lý",$S$2="I"),11,IF(AND($M5="Lý",$S$2="II"),30,IF(AND($M5="HóA",$S$2="I"),12,IF(AND($M5="HóA",$S$2="II"),31,IF(AND($M5="Sinh",$S$2="I"),13,IF(AND($M5="Sinh",$S$2="II"),32,IF(AND($M5="ĐịA",$S$2="I"),14,IF(AND($M5="ĐịA",$S$2="II"),33,IF(AND($M5="KT-PL",$S$2="I"),15,IF(AND($M5="KT-PL",$S$2="II"),34,IF(AND($M5="Tin",$S$2="I"),16,IF(AND($M5="Tin",$S$2="II"),35,IF(AND($M5="CNc",$S$2="I"),17,IF(AND($M5="CNc",$S$2="II"),36,IF(AND($M5="CNn",$S$2="I"),18,IF(AND($M5="CNn",$S$2="II"),37,IF(AND($M5="Nhạc",$S$2="I"),19,IF(AND($M5="Nhạc",$S$2="II"),38,IF(AND($M5="MT",$S$2="I"),20,IF(AND($M5="MT",$S$2="II"),39,59)))))))))))))))))))))))))))))))))))))) -> 0 | B5: =IF(O5=0,0,VLOOKUP(O5,'T-L-K'!$B$7:$BH$36,IF(AND($M5="Văn",$S$2="I"),3,IF(AND($M5="Văn",$S$2="II"),22,IF(AND($M5="Toán",$S$2="I"),4,IF(AND($M5="Toán",$S$2="II"),23,IF(AND($M5="Anh",$S$2="I"),5,IF(AND($M5="Anh",$S$2="II"),24,IF(AND($M5="TD",$S$2="I"),6,IF(AND($M5="TD",$S$2="II"),25,IF(AND($M5="QP",$S$2="I"),7,IF(AND($M5="QP",$S$2="II"),26,IF(AND($M5="Sử",$S$2="I"),8,IF(AND($M5="Sử",$S$2="II"),27,IF(AND($M5="GDĐP",$S$2="I"),9,IF(AND($M5="GDĐP",$S$2="II"),28,IF(AND($M5="TN-HN",$S$2="I"),10,IF(AND($M5="TN-HN",$S$2="II"),29,IF(AND($M5="Lý",$S$2="I"),11,IF(AND($M5="Lý",$S$2="II"),30,IF(AND($M5="HóA",$S$2="I"),12,IF(AND($M5="HóA",$S$2="II"),31,IF(AND($M5="Sinh",$S$2="I"),13,IF(AND($M5="Sinh",$S$2="II"),32,IF(AND($M5="ĐịA",$S$2="I"),14,IF(AND($M5="ĐịA",$S$2="II"),33,IF(AND($M5="KT-PL",$S$2="I"),15,IF(AND($M5="KT-PL",$S$2="II"),34,IF(AND($M5="Tin",$S$2="I"),16,IF(AND($M5="Tin",$S$2="II"),35,IF(AND($M5="CNc",$S$2="I"),17,IF(AND($M5="CNc",$S$2="II"),36,IF(AND($M5="CNn",$S$2="I"),18,IF(AND($M5="CNn",$S$2="II"),37,IF(AND($M5="Nhạc",$S$2="I"),19,IF(AND($M5="Nhạc",$S$2="II"),38,IF(AND($M5="MT",$S$2="I"),20,IF(AND($M5="MT",$S$2="II"),39,59)))))))))))))))))))))))))))))))))))))) -> 0 | C5: =IF(P5=0,0,VLOOKUP(P5,'T-L-K'!$B$7:$BH$36,IF(AND($M5="Văn",$S$2="I"),3,IF(AND($M5="Văn",$S$2="II"),22,IF(AND($M5="Toán",$S$2="I"),4,IF(AND($M5="Toán",$S$2="II"),23,IF(AND($M5="Anh",$S$2="I"),5,IF(AND($M5="Anh",$S$2="II"),24,IF(AND($M5="TD",$S$2="I"),6,IF(AND($M5="TD",$S$2="II"),25,IF(AND($M5="QP",$S$2="I"),7,IF(AND($M5="QP",$S$2="II"),26,IF(AND($M5="Sử",$S$2="I"),8,IF(AND($M5="Sử",$S$2="II"),27,IF(AND($M5="GDĐP",$S$2="I"),9,IF(AND($M5="GDĐP",$S$2="II"),28,IF(AND($M5="TN-HN",$S$2="I"),10,IF(AND($M5="TN-HN",$S$2="II"),29,IF(AND($M5="Lý",$S$2="I"),11,IF(AND($M5="Lý",$S$2="II"),30,IF(AND($M5="HóA",$S$2="I"),12,IF(AND($M5="HóA",$S$2="II"),31,IF(AND($M5="Sinh",$S$2="I"),13,IF(AND($M5="Sinh",$S$2="II"),32,IF(AND($M5="ĐịA",$S$2="I"),14,IF(AND($M5="ĐịA",$S$2="II"),33,IF(AND($M5="KT-PL",$S$2="I"),15,IF(AND($M5="KT-PL",$S$2="II"),34,IF(AND($M5="Tin",$S$2="I"),16,IF(AND($M5="Tin",$S$2="II"),35,IF(AND($M5="CNc",$S$2="I"),17,IF(AND($M5="CNc",$S$2="II"),36,IF(AND($M5="CNn",$S$2="I"),18,IF(AND($M5="CNn",$S$2="II"),37,IF(AND($M5="Nhạc",$S$2="I"),19,IF(AND($M5="Nhạc",$S$2="II"),38,IF(AND($M5="MT",$S$2="I"),20,IF(AND($M5="MT",$S$2="II"),39,59)))))))))))))))))))))))))))))))))))))) -> 0 | D5: =IF(Q5=0,0,VLOOKUP(Q5,'T-L-K'!$B$7:$BH$36,IF(AND($M5="Văn",$S$2="I"),3,IF(AND($M5="Văn",$S$2="II"),22,IF(AND($M5="Toán",$S$2="I"),4,IF(AND($M5="Toán",$S$2="II"),23,IF(AND($M5="Anh",$S$2="I"),5,IF(AND($M5="Anh",$S$2="II"),24,IF(AND($M5="TD",$S$2="I"),6,IF(AND($M5="TD",$S$2="II"),25,IF(AND($M5="QP",$S$2="I"),7,IF(AND($M5="QP",$S$2="II"),26,IF(AND($M5="Sử",$S$2="I"),8,IF(AND($M5="Sử",$S$2="II"),27,IF(AND($M5="GDĐP",$S$2="I"),9,IF(AND($M5="GDĐP",$S$2="II"),28,IF(AND($M5="TN-HN",$S$2="I"),10,IF(AND($M5="TN-HN",$S$2="II"),29,IF(AND($M5="Lý",$S$2="I"),11,IF(AND($M5="Lý",$S$2="II"),30,IF(AND($M5="HóA",$S$2="I"),12,IF(AND($M5="HóA",$S$2="II"),31,IF(AND($M5="Sinh",$S$2="I"),13,IF(AND($M5="Sinh",$S$2="II"),32,IF(AND($M5="ĐịA",$S$2="I"),14,IF(AND($M5="ĐịA",$S$2="II"),33,IF(AND($M5="KT-PL",$S$2="I"),15,IF(AND($M5="KT-PL",$S$2="II"),34,IF(AND($M5="Tin",$S$2="I"),16,IF(AND($M5="Tin",$S$2="II"),35,IF(AND($M5="CNc",$S$2="I"),17,IF(AND($M5="CNc",$S$2="II"),36,IF(AND($M5="CNn",$S$2="I"),18,IF(AND($M5="CNn",$S$2="II"),37,IF(AND($M5="Nhạc",$S$2="I"),19,IF(AND($M5="Nhạc",$S$2="II"),38,IF(AND($M5="MT",$S$2="I"),20,IF(AND($M5="MT",$S$2="II"),39,59)))))))))))))))))))))))))))))))))))))) -> 0 | E5: =IF(R5=0,0,VLOOKUP(R5,'T-L-K'!$B$7:$BH$36,IF(AND($M5="Văn",$S$2="I"),3,IF(AND($M5="Văn",$S$2="II"),22,IF(AND($M5="Toán",$S$2="I"),4,IF(AND($M5="Toán",$S$2="II"),23,IF(AND($M5="Anh",$S$2="I"),5,IF(AND($M5="Anh",$S$2="II"),24,IF(AND($M5="TD",$S$2="I"),6,IF(AND($M5="TD",$S$2="II"),25,IF(AND($M5="QP",$S$2="I"),7,IF(AND($M5="QP",$S$2="II"),26,IF(AND($M5="Sử",$S$2="I"),8,IF(AND($M5="Sử",$S$2="II"),27,IF(AND($M5="GDĐP",$S$2="I"),9,IF(AND($M5="GDĐP",$S$2="II"),28,IF(AND($M5="TN-HN",$S$2="I"),10,IF(AND($M5="TN-HN",$S$2="II"),29,IF(AND($M5="Lý",$S$2="I"),11,IF(AND($M5="Lý",$S$2="II"),30,IF(AND($M5="HóA",$S$2="I"),12,IF(AND($M5="HóA",$S$2="II"),31,IF(AND($M5="Sinh",$S$2="I"),13,IF(AND($M5="Sinh",$S$2="II"),32,IF(AND($M5="ĐịA",$S$2="I"),14,IF(AND($M5="ĐịA",$S$2="II"),33,IF(AND($M5="KT-PL",$S$2="I"),15,IF(AND($M5="KT-PL",$S$2="II"),34,IF(AND($M5="Tin",$S$2="I"),16,IF(AND($M5="Tin",$S$2="II"),35,IF(AND($M5="CNc",$S$2="I"),17,IF(AND($M5="CNc",$S$2="II"),36,IF(AND($M5="CNn",$S$2="I"),18,IF(AND($M5="CNn",$S$2="II"),37,IF(AND($M5="Nhạc",$S$2="I"),19,IF(AND($M5="Nhạc",$S$2="II"),38,IF(AND($M5="MT",$S$2="I"),20,IF(AND($M5="MT",$S$2="II"),39,59)))))))))))))))))))))))))))))))))))))) -> 0 | F5: =IF(S5=0,0,VLOOKUP(S5,'T-L-K'!$B$7:$BH$36,IF(AND($M5="Văn",$S$2="I"),3,IF(AND($M5="Văn",$S$2="II"),22,IF(AND($M5="Toán",$S$2="I"),4,IF(AND($M5="Toán",$S$2="II"),23,IF(AND($M5="Anh",$S$2="I"),5,IF(AND($M5="Anh",$S$2="II"),24,IF(AND($M5="TD",$S$2="I"),6,IF(AND($M5="TD",$S$2="II"),25,IF(AND($M5="QP",$S$2="I"),7,IF(AND($M5="QP",$S$2="II"),26,IF(AND($M5="Sử",$S$2="I"),8,IF(AND($M5="Sử",$S$2="II"),27,IF(AND($M5="GDĐP",$S$2="I"),9,IF(AND($M5="GDĐP",$S$2="II"),28,IF(AND($M5="TN-HN",$S$2="I"),10,IF(AND($M5="TN-HN",$S$2="II"),29,IF(AND($M5="Lý",$S$2="I"),11,IF(AND($M5="Lý",$S$2="II"),30,IF(AND($M5="HóA",$S$2="I"),12,IF(AND($M5="HóA",$S$2="II"),31,IF(AND($M5="Sinh",$S$2="I"),13,IF(AND($M5="Sinh",$S$2="II"),32,IF(AND($M5="ĐịA",$S$2="I"),14,IF(AND($M5="ĐịA",$S$2="II"),33,IF(AND($M5="KT-PL",$S$2="I"),15,IF(AND($M5="KT-PL",$S$2="II"),34,IF(AND($M5="Tin",$S$2="I"),16,IF(AND($M5="Tin",$S$2="II"),35,IF(AND($M5="CNc",$S$2="I"),17,IF(AND($M5="CNc",$S$2="II"),36,IF(AND($M5="CNn",$S$2="I"),18,IF(AND($M5="CNn",$S$2="II"),37,IF(AND($M5="Nhạc",$S$2="I"),19,IF(AND($M5="Nhạc",$S$2="II"),38,IF(AND($M5="MT",$S$2="I"),20,IF(AND($M5="MT",$S$2="II"),39,59)))))))))))))))))))))))))))))))))))))) -> 0 | G5: =IF(T5=0,0,VLOOKUP(T5,'T-L-K'!$B$7:$BH$36,IF(AND($M5="Văn",$S$2="I"),3,IF(AND($M5="Văn",$S$2="II"),22,IF(AND($M5="Toán",$S$2="I"),4,IF(AND($M5="Toán",$S$2="II"),23,IF(AND($M5="Anh",$S$2="I"),5,IF(AND($M5="Anh",$S$2="II"),24,IF(AND($M5="TD",$S$2="I"),6,IF(AND($M5="TD",$S$2="II"),25,IF(AND($M5="QP",$S$2="I"),7,IF(AND($M5="QP",$S$2="II"),26,IF(AND($M5="Sử",$S$2="I"),8,IF(AND($M5="Sử",$S$2="II"),27,IF(AND($M5="GDĐP",$S$2="I"),9,IF(AND($M5="GDĐP",$S$2="II"),28,IF(AND($M5="TN-HN",$S$2="I"),10,IF(AND($M5="TN-HN",$S$2="II"),29,IF(AND($M5="Lý",$S$2="I"),11,IF(AND($M5="Lý",$S$2="II"),30,IF(AND($M5="HóA",$S$2="I"),12,IF(AND($M5="HóA",$S$2="II"),31,IF(AND($M5="Sinh",$S$2="I"),13,IF(AND($M5="Sinh",$S$2="II"),32,IF(AND($M5="ĐịA",$S$2="I"),14,IF(AND($M5="ĐịA",$S$2="II"),33,IF(AND($M5="KT-PL",$S$2="I"),15,IF(AND($M5="KT-PL",$S$2="II"),34,IF(AND($M5="Tin",$S$2="I"),16,IF(AND($M5="Tin",$S$2="II"),35,IF(AND($M5="CNc",$S$2="I"),17,IF(AND($M5="CNc",$S$2="II"),36,IF(AND($M5="CNn",$S$2="I"),18,IF(AND($M5="CNn",$S$2="II"),37,IF(AND($M5="Nhạc",$S$2="I"),19,IF(AND($M5="Nhạc",$S$2="II"),38,IF(AND($M5="MT",$S$2="I"),20,IF(AND($M5="MT",$S$2="II"),39,59)))))))))))))))))))))))))))))))))))))) -> 0 | H5: =IF(U5=0,0,VLOOKUP(U5,'T-L-K'!$B$7:$BH$36,IF(AND($M5="Văn",$S$2="I"),3,IF(AND($M5="Văn",$S$2="II"),22,IF(AND($M5="Toán",$S$2="I"),4,IF(AND($M5="Toán",$S$2="II"),23,IF(AND($M5="Anh",$S$2="I"),5,IF(AND($M5="Anh",$S$2="II"),24,IF(AND($M5="TD",$S$2="I"),6,IF(AND($M5="TD",$S$2="II"),25,IF(AND($M5="QP",$S$2="I"),7,IF(AND($M5="QP",$S$2="II"),26,IF(AND($M5="Sử",$S$2="I"),8,IF(AND($M5="Sử",$S$2="II"),27,IF(AND($M5="GDĐP",$S$2="I"),9,IF(AND($M5="GDĐP",$S$2="II"),28,IF(AND($M5="TN-HN",$S$2="I"),10,IF(AND($M5="TN-HN",$S$2="II"),29,IF(AND($M5="Lý",$S$2="I"),11,IF(AND($M5="Lý",$S$2="II"),30,IF(AND($M5="HóA",$S$2="I"),12,IF(AND($M5="HóA",$S$2="II"),31,IF(AND($M5="Sinh",$S$2="I"),13,IF(AND($M5="Sinh",$S$2="II"),32,IF(AND($M5="ĐịA",$S$2="I"),14,IF(AND($M5="ĐịA",$S$2="II"),33,IF(AND($M5="KT-PL",$S$2="I"),15,IF(AND($M5="KT-PL",$S$2="II"),34,IF(AND($M5="Tin",$S$2="I"),16,IF(AND($M5="Tin",$S$2="II"),35,IF(AND($M5="CNc",$S$2="I"),17,IF(AND($M5="CNc",$S$2="II"),36,IF(AND($M5="CNn",$S$2="I"),18,IF(AND($M5="CNn",$S$2="II"),37,IF(AND($M5="Nhạc",$S$2="I"),19,IF(AND($M5="Nhạc",$S$2="II"),38,IF(AND($M5="MT",$S$2="I"),20,IF(AND($M5="MT",$S$2="II"),39,59)))))))))))))))))))))))))))))))))))))) -> 0 | ... J5: =IF(W5=0,0,VLOOKUP(W5,'T-L-K'!$B$7:$BH$36,IF(AND($M5="Văn",$S$2="I"),3,IF(AND($M5="Văn",$S$2="II"),22,IF(AND($M5="Toán",$S$2="I"),4,IF(AND($M5="Toán",$S$2="II"),23,IF(AND($M5="Anh",$S$2="I"),5,IF(AND($M5="Anh",$S$2="II"),24,IF(AND($M5="TD",$S$2="I"),6,IF(AND($M5="TD",$S$2="II"),25,IF(AND($M5="QP",$S$2="I"),7,IF(AND($M5="QP",$S$2="II"),26,IF(AND($M5="Sử",$S$2="I"),8,IF(AND($M5="Sử",$S$2="II"),27,IF(AND($M5="GDĐP",$S$2="I"),9,IF(AND($M5="GDĐP",$S$2="II"),28,IF(AND($M5="TN-HN",$S$2="I"),10,IF(AND($M5="TN-HN",$S$2="II"),29,IF(AND($M5="Lý",$S$2="I"),11,IF(AND($M5="Lý",$S$2="II"),30,IF(AND($M5="HóA",$S$2="I"),12,IF(AND($M5="HóA",$S$2="II"),31,IF(AND($M5="Sinh",$S$2="I"),13,IF(AND($M5="Sinh",$S$2="II"),32,IF(AND($M5="ĐịA",$S$2="I"),14,IF(AND($M5="ĐịA",$S$2="II"),33,IF(AND($M5="KT-PL",$S$2="I"),15,IF(AND($M5="KT-PL",$S$2="II"),34,IF(AND($M5="Tin",$S$2="I"),16,IF(AND($M5="Tin",$S$2="II"),35,IF(AND($M5="CNc",$S$2="I"),17,IF(AND($M5="CNc",$S$2="II"),36,IF(AND($M5="CNn",$S$2="I"),18,IF(AND($M5="CNn",$S$2="II"),37,IF(AND($M5="Nhạc",$S$2="I"),19,IF(AND($M5="Nhạc",$S$2="II"),38,IF(AND($M5="MT",$S$2="I"),20,IF(AND($M5="MT",$S$2="II"),39,59)))))))))))))))))))))))))))))))))))))) -> 0 | M5: Toán | AB5: Toán - Tin
